BEGIN:VCALENDAR
VERSION:2.0
PRODID:-//acdejatellevar.es - ECPv6.15.20//NONSGML v1.0//EN
CALSCALE:GREGORIAN
METHOD:PUBLISH
X-WR-CALNAME:acdejatellevar.es
X-ORIGINAL-URL:https://acdejatellevar.es
X-WR-CALDESC:Eventos para acdejatellevar.es
REFRESH-INTERVAL;VALUE=DURATION:PT1H
X-Robots-Tag:noindex
X-PUBLISHED-TTL:PT1H
BEGIN:VTIMEZONE
TZID:UTC
BEGIN:STANDARD
TZOFFSETFROM:+0000
TZOFFSETTO:+0000
TZNAME:UTC
DTSTART:20240101T000000
END:STANDARD
END:VTIMEZONE
BEGIN:VEVENT
DTSTART;TZID=UTC:20251017T000000
DTEND;TZID=UTC:20251017T000000
DTSTAMP:20260423T221250
CREATED:20251004T222318Z
LAST-MODIFIED:20251004T222318Z
UID:10000161-1760659200-1760659200@acdejatellevar.es
SUMMARY:Representación de Taller de Teatro en Montequinto
DESCRIPTION:El día 17 de Octubre\, el taller de teatro\, representara la obra “NEUROSIS” en el Centro Cultural Biblioteca de Montequinto (Dos Hermanas)\, y cuya obra contara con la participación de las componentes del taller de teatro Marinati y Paqui\, y la dirección será a cargo de José María Martín.
URL:https://acdejatellevar.es/event/representacion-de-taller-de-teatro-en-montequinto/
LOCATION:Centro Cultural Biblioteca de Montequinto (Dos Hermanas)\, Venecia 22\, Montequinto (Dos Hermanas)\, Sevilla\, 41089\, Spain
CATEGORIES:Teatro
ATTACH;FMTTYPE=image/jpeg:https://acdejatellevar.es/wp-content/uploads/2025/10/CARTEL-TEATRO-NEUROSIS.jpg
END:VEVENT
END:VCALENDAR