BEGIN:VCALENDAR
VERSION:2.0
PRODID:-//acdejatellevar.es - ECPv6.15.20//NONSGML v1.0//EN
CALSCALE:GREGORIAN
METHOD:PUBLISH
X-ORIGINAL-URL:https://acdejatellevar.es
X-WR-CALDESC:Eventos para acdejatellevar.es
REFRESH-INTERVAL;VALUE=DURATION:PT1H
X-Robots-Tag:noindex
X-PUBLISHED-TTL:PT1H
BEGIN:VTIMEZONE
TZID:Europe/Madrid
BEGIN:DAYLIGHT
TZOFFSETFROM:+0100
TZOFFSETTO:+0200
TZNAME:CEST
DTSTART:20240331T010000
END:DAYLIGHT
BEGIN:STANDARD
TZOFFSETFROM:+0200
TZOFFSETTO:+0100
TZNAME:CET
DTSTART:20241027T010000
END:STANDARD
BEGIN:DAYLIGHT
TZOFFSETFROM:+0100
TZOFFSETTO:+0200
TZNAME:CEST
DTSTART:20250330T010000
END:DAYLIGHT
BEGIN:STANDARD
TZOFFSETFROM:+0200
TZOFFSETTO:+0100
TZNAME:CET
DTSTART:20251026T010000
END:STANDARD
BEGIN:DAYLIGHT
TZOFFSETFROM:+0100
TZOFFSETTO:+0200
TZNAME:CEST
DTSTART:20260329T010000
END:DAYLIGHT
BEGIN:STANDARD
TZOFFSETFROM:+0200
TZOFFSETTO:+0100
TZNAME:CET
DTSTART:20261025T010000
END:STANDARD
END:VTIMEZONE
BEGIN:VTIMEZONE
TZID:UTC
BEGIN:STANDARD
TZOFFSETFROM:+0000
TZOFFSETTO:+0000
TZNAME:UTC
DTSTART:20240101T000000
END:STANDARD
END:VTIMEZONE
BEGIN:VEVENT
DTSTART;TZID=Europe/Madrid:20251030T210000
DTEND;TZID=Europe/Madrid:20251030T220000
DTSTAMP:20260419T184834
CREATED:20251004T162136Z
LAST-MODIFIED:20251208T233455Z
UID:10000156-1761858000-1761861600@acdejatellevar.es
SUMMARY:Taller de Tango
DESCRIPTION:🎩💃 Taller de Tango con José Antonio & Eli \n🗓 Todos los jueves🕘 Horario: 21:00h – 22:00h (o hasta finalizar los ensayos) \n📌 Taller semanal impartido por José Antonio & Eli\, donde aprenderás el arte de bailar Tango en pareja.Estas clases te permitirán disfrutar del Tango en nuestro baile social de los sábados\, así como poner en práctica lo aprendido en las milongas que celebramos el primer sábado de cada mes. \n✨ ¡Vive la pasión del Tango y mejora tu baile semana a semana!
URL:https://acdejatellevar.es/event/taller-de-tango-5/
LOCATION:ACDÉJATELLEVAR\, PINO GARGALLA Nº 3\, SEVILLA\, Spain
CATEGORIES:Talleres Socios
ATTACH;FMTTYPE=image/png:https://acdejatellevar.es/wp-content/uploads/2025/10/TALLER-TANGO-1.png
END:VEVENT
BEGIN:VEVENT
DTSTART;TZID=Europe/Madrid:20251030T200000
DTEND;TZID=Europe/Madrid:20251030T210000
DTSTAMP:20260419T184834
CREATED:20251004T161032Z
LAST-MODIFIED:20251004T214220Z
UID:10000150-1761854400-1761858000@acdejatellevar.es
SUMMARY:Taller de Castañuelas
DESCRIPTION:🎶 Taller de Castañuelas con Julia \n🗓 Todos los jueves🕗 Horario: 20:00h – 21:00h (o hasta finalizar los ensayos) \n📌 Taller semanal dirigido por Julia\, en el que aprenderás a tocar los palillos y a bailar siguiendo el ritmo de las castañuelas.Con lo aprendido podrás bailar con palillos en pareja o acompañar canciones marcando el compás con su inconfundible sonido. \n✨ ¡Descubre la tradición\, la técnica y la alegría de las castañuelas!
URL:https://acdejatellevar.es/event/taller-de-castanuelas-5/
LOCATION:ACDÉJATELLEVAR\, PINO GARGALLA Nº 3\, SEVILLA\, Spain
CATEGORIES:Talleres Socios
ATTACH;FMTTYPE=image/png:https://acdejatellevar.es/wp-content/uploads/2025/10/CASTANUELAS-JULIA-1.png
END:VEVENT
BEGIN:VEVENT
DTSTART;TZID=UTC:20251029T213000
DTEND;TZID=UTC:20251029T230000
DTSTAMP:20260419T184834
CREATED:20251004T160003Z
LAST-MODIFIED:20251208T233605Z
UID:10000145-1761773400-1761778800@acdejatellevar.es
SUMMARY:Taller de Coro
DESCRIPTION:🎼 Taller de Coro con José María \n🗓 Todos los miércoles🕤 Horario: 21:30h – 23:00h (o hasta finalizar los ensayos) \n📌 Taller semanal dirigido por José María\, donde se ensayan repertorios variados como villancicos\, sevillanas\, habaneras\, misas\, entre otros.Lo aprendido se pondrá en práctica tanto dentro como fuera de nuestra asociación\, compartiendo la música en distintos espacios y celebraciones. \n✨ ¡Únete al coro y disfruta de la magia de cantar en grupo!
URL:https://acdejatellevar.es/event/taller-de-coro-5/
LOCATION:ACDÉJATELLEVAR\, PINO GARGALLA Nº 3\, SEVILLA\, Spain
CATEGORIES:Talleres Socios
ATTACH;FMTTYPE=image/png:https://acdejatellevar.es/wp-content/uploads/2025/10/TALLER-DEL-CORO-1.png
END:VEVENT
BEGIN:VEVENT
DTSTART;TZID=Europe/Madrid:20251029T200000
DTEND;TZID=Europe/Madrid:20251029T213000
DTSTAMP:20260419T184834
CREATED:20251004T000607Z
LAST-MODIFIED:20251005T214855Z
UID:10000140-1761768000-1761773400@acdejatellevar.es
SUMMARY:Taller de Salsa (Suspendido)
DESCRIPTION:🔥 Taller de Salsa con Francisco & Ana \nSuspendido por el profesor hasta Noviembre.
URL:https://acdejatellevar.es/event/taller-de-salsa-5/
LOCATION:ACDÉJATELLEVAR\, PINO GARGALLA Nº 3\, SEVILLA\, Spain
CATEGORIES:Talleres Socios
ATTACH;FMTTYPE=image/png:https://acdejatellevar.es/wp-content/uploads/2025/10/TALLER-SALSA-1.png
END:VEVENT
BEGIN:VEVENT
DTSTART;TZID=UTC:20251029T190000
DTEND;TZID=UTC:20251029T200000
DTSTAMP:20260419T184834
CREATED:20251003T235843Z
LAST-MODIFIED:20251004T213905Z
UID:10000135-1761764400-1761768000@acdejatellevar.es
SUMMARY:Taller de Bachata
DESCRIPTION:💃 Taller de Bachata con Juan & Pepi \n🗓 Todos los miércoles🕖 Horario: 19:00h – 20:00h (o hasta finalizar los ensayos) \n📌 Taller semanal impartido por Juan & Pepi\, donde además de divertirte aprenderás nuevas figuras y reforzarás las ya conocidas.Estas clases están pensadas para que el fin de semana puedas poner en práctica lo aprendido y bailar con soltura en la fiesta de baile social de los sábados. \n✨ ¡Disfruta\, aprende y vive la Bachata en un ambiente cercano y motivador!
URL:https://acdejatellevar.es/event/taller-de-bachata-5/
LOCATION:ACDÉJATELLEVAR\, PINO GARGALLA Nº 3\, SEVILLA\, Spain
CATEGORIES:Talleres Socios
END:VEVENT
BEGIN:VEVENT
DTSTART;TZID=Europe/Madrid:20251028T201500
DTEND;TZID=Europe/Madrid:20251028T213000
DTSTAMP:20260419T184834
CREATED:20251003T231559Z
LAST-MODIFIED:20251208T233658Z
UID:10000126-1761682500-1761687000@acdejatellevar.es
SUMMARY:Taller de Kizomba
DESCRIPTION:💃🕺 Taller de Kizomba con Andrés & María del Carmen \n🗓 Todos los martes🕗 Horario: 20:15h – 21:30h (o hasta finalizar los ensayos) \n📌 Taller semanal impartido por Andrés & María del Carmen\, pensado para seguir avanzando en técnica y figuras de Kizomba.Estas clases te preparan para disfrutar y poner en práctica lo aprendido durante los fines de semana en las fiestas de baile social. \n✨ ¡Ven a mejorar tu baile y comparte la pasión por la Kizomba en un ambiente divertido y motivador!
URL:https://acdejatellevar.es/event/taller-de-kizomba-4/
LOCATION:ACDÉJATELLEVAR\, PINO GARGALLA Nº 3\, SEVILLA\, Spain
CATEGORIES:Talleres Socios
ATTACH;FMTTYPE=image/png:https://acdejatellevar.es/wp-content/uploads/2025/10/TALLER-KIZOMBA.png
END:VEVENT
BEGIN:VEVENT
DTSTART;TZID=Europe/Madrid:20251028T193000
DTEND;TZID=Europe/Madrid:20251028T201500
DTSTAMP:20260419T184834
CREATED:20251003T232641Z
LAST-MODIFIED:20251004T164318Z
UID:10000128-1761679800-1761682500@acdejatellevar.es
SUMMARY:Taller Rumba Bolero
DESCRIPTION:🎶 Taller de Rumba Bolero con Paco & Mariló \n🗓 Todos los martes🕢 Horario: 19:30h – 20:15h (o hasta finalizar los ensayos) \n📌 Taller semanal impartido por Paco & Mariló\, diseñado para progresar en el estilo de Rumba Bolero.Con estas clases aprenderás nuevas figuras y ganarás soltura para disfrutar al máximo en la fiesta de baile social de los sábados. \n✨ ¡Ven a mejorar tu técnica\, divertirte y compartir la pasión por el baile!
URL:https://acdejatellevar.es/event/taller-rumba-bolero-2/
LOCATION:ACDÉJATELLEVAR\, PINO GARGALLA Nº 3\, SEVILLA\, Spain
CATEGORIES:Talleres Socios
ATTACH;FMTTYPE=image/png:https://acdejatellevar.es/wp-content/uploads/2025/10/TALLER-RUMBA-BOLERO-1.png
END:VEVENT
BEGIN:VEVENT
DTSTART;TZID=Europe/Madrid:20251026T200000
DTEND;TZID=Europe/Madrid:20251026T220000
DTSTAMP:20260419T184834
CREATED:20251004T231851Z
LAST-MODIFIED:20251208T233736Z
UID:10000168-1761508800-1761516000@acdejatellevar.es
SUMMARY:Taller de teatro.
DESCRIPTION:🎭 Taller de Teatro con José María \n🗓 Todos los viernes🕢 Horario: 19:30h – 22:00h (o hasta finalizar los ensayos) \n📌 Taller semanal dirigido por José María\, donde se trabajan las diferentes artes escénicas y se aprenden técnicas de interpretación teatral.A lo largo del año se ensayan diversas obras de teatro\, que posteriormente se representan dentro y fuera de la asociación. \n✨ ¡Despierta tu creatividad\, mejora tu expresión y vive la magia del teatro en grupo!
URL:https://acdejatellevar.es/event/taller-de-teatro-5/
LOCATION:ACDÉJATELLEVAR\, PINO GARGALLA Nº 3\, SEVILLA\, Spain
CATEGORIES:Talleres Socios
ATTACH;FMTTYPE=image/png:https://acdejatellevar.es/wp-content/uploads/2025/10/TALLER-TEATRO-1.png
END:VEVENT
BEGIN:VEVENT
DTSTART;TZID=Europe/Madrid:20251025T210000
DTEND;TZID=Europe/Madrid:20251025T210000
DTSTAMP:20260419T184834
CREATED:20251004T231158Z
LAST-MODIFIED:20251004T231405Z
UID:10000166-1761426000-1761426000@acdejatellevar.es
SUMMARY:Fiesta Oktoberfest + Taller de Salsa
DESCRIPTION:🍺🎉 FIESTA OKTOBERFEST 2025 + Taller de Salsa con Pedro Fernández \n🗓 Sábado 25 de octubre de 2025🕘 Comienza a las 21:00h hasta el cierre a las 03:00 de la madrugada.📍 Nuestra sede: C/ Pino Gargalla nº 3 \n¡Prepara tus lederhosen o tu falda bávara porque llega la fiesta más divertida del año! 😄Celebra con nosotros el Oktoberfest más salsero de la temporada: buena música\, mejor ambiente y una barra repleta de tapas y alegría. \n💃 Taller de Salsa impartido por Pedro Fernández\, para que muevas el cuerpo antes de levantar la jarra.Porque aquí no solo se brinda… ¡también se baila! \n🎭 Ven caracterizado para el evento y métete en el espíritu bávaro con estilo. ¡Cuanto más original sea tu atuendo\, más risas garantizadas! \n✨ Nuestra barra estará abierta durante toda la noche con sus estupendas tapas.Baila\, brinda y disfruta — porque en esta fiesta\, ¡el único requisito es pasarlo genial! 🍻💃
URL:https://acdejatellevar.es/event/fiesta-oktoberfest-taller-de-salsa/
LOCATION:ACDÉJATELLEVAR\, PINO GARGALLA Nº 3\, SEVILLA\, Spain
CATEGORIES:Fiestas,Talleres Fiestas
ATTACH;FMTTYPE=image/jpeg:https://acdejatellevar.es/wp-content/uploads/2025/10/fiesta-oktoberfest-25-10-25.jpg
END:VEVENT
BEGIN:VEVENT
DTSTART;TZID=Europe/Madrid:20251024T200000
DTEND;TZID=Europe/Madrid:20251024T220000
DTSTAMP:20260419T184834
CREATED:20251004T215430Z
LAST-MODIFIED:20251208T233846Z
UID:10000159-1761336000-1761343200@acdejatellevar.es
SUMMARY:Taller de teatro.
DESCRIPTION:🎭 Taller de Teatro con José María \n🗓 Todos los viernes🕢 Horario: 19:30h – 22:00h (o hasta finalizar los ensayos) \n📌 Taller semanal dirigido por José María\, donde se trabajan las diferentes artes escénicas y se aprenden técnicas de interpretación teatral.A lo largo del año se ensayan diversas obras de teatro\, que posteriormente se representan dentro y fuera de la asociación. \n✨ ¡Despierta tu creatividad\, mejora tu expresión y vive la magia del teatro en grupo!
URL:https://acdejatellevar.es/event/taller-de-teatro-2/
LOCATION:ACDÉJATELLEVAR\, PINO GARGALLA Nº 3\, SEVILLA\, Spain
CATEGORIES:Talleres Socios
ATTACH;FMTTYPE=image/png:https://acdejatellevar.es/wp-content/uploads/2025/10/TALLER-TEATRO-1.png
END:VEVENT
BEGIN:VEVENT
DTSTART;TZID=Europe/Madrid:20251023T210000
DTEND;TZID=Europe/Madrid:20251023T220000
DTSTAMP:20260419T184834
CREATED:20251004T162124Z
LAST-MODIFIED:20251208T233921Z
UID:10000155-1761253200-1761256800@acdejatellevar.es
SUMMARY:Taller de Tango
DESCRIPTION:🎩💃 Taller de Tango con José Antonio & Eli \n🗓 Todos los jueves🕘 Horario: 21:00h – 22:00h (o hasta finalizar los ensayos) \n📌 Taller semanal impartido por José Antonio & Eli\, donde aprenderás el arte de bailar Tango en pareja.Estas clases te permitirán disfrutar del Tango en nuestro baile social de los sábados\, así como poner en práctica lo aprendido en las milongas que celebramos el primer sábado de cada mes. \n✨ ¡Vive la pasión del Tango y mejora tu baile semana a semana!
URL:https://acdejatellevar.es/event/taller-de-tango-4/
LOCATION:ACDÉJATELLEVAR\, PINO GARGALLA Nº 3\, SEVILLA\, Spain
CATEGORIES:Talleres Socios
ATTACH;FMTTYPE=image/png:https://acdejatellevar.es/wp-content/uploads/2025/10/TALLER-TANGO-1.png
END:VEVENT
BEGIN:VEVENT
DTSTART;TZID=Europe/Madrid:20251023T200000
DTEND;TZID=Europe/Madrid:20251023T210000
DTSTAMP:20260419T184834
CREATED:20251004T161012Z
LAST-MODIFIED:20251004T214141Z
UID:10000149-1761249600-1761253200@acdejatellevar.es
SUMMARY:Taller de Castañuelas
DESCRIPTION:🎶 Taller de Castañuelas con Julia \n🗓 Todos los jueves🕗 Horario: 20:00h – 21:00h (o hasta finalizar los ensayos) \n📌 Taller semanal dirigido por Julia\, en el que aprenderás a tocar los palillos y a bailar siguiendo el ritmo de las castañuelas.Con lo aprendido podrás bailar con palillos en pareja o acompañar canciones marcando el compás con su inconfundible sonido. \n✨ ¡Descubre la tradición\, la técnica y la alegría de las castañuelas!
URL:https://acdejatellevar.es/event/taller-de-castanuelas-4/
LOCATION:ACDÉJATELLEVAR\, PINO GARGALLA Nº 3\, SEVILLA\, Spain
CATEGORIES:Talleres Socios
ATTACH;FMTTYPE=image/png:https://acdejatellevar.es/wp-content/uploads/2025/10/CASTANUELAS-JULIA-1.png
END:VEVENT
BEGIN:VEVENT
DTSTART;TZID=UTC:20251022T213000
DTEND;TZID=UTC:20251022T230000
DTSTAMP:20260419T184834
CREATED:20251004T155947Z
LAST-MODIFIED:20251208T234046Z
UID:10000144-1761168600-1761174000@acdejatellevar.es
SUMMARY:Taller de Coro
DESCRIPTION:🎼 Taller de Coro con José María \n🗓 Todos los miércoles🕤 Horario: 21:30h – 23:00h (o hasta finalizar los ensayos) \n📌 Taller semanal dirigido por José María\, donde se ensayan repertorios variados como villancicos\, sevillanas\, habaneras\, misas\, entre otros.Lo aprendido se pondrá en práctica tanto dentro como fuera de nuestra asociación\, compartiendo la música en distintos espacios y celebraciones. \n✨ ¡Únete al coro y disfruta de la magia de cantar en grupo!
URL:https://acdejatellevar.es/event/taller-de-coro-4/
LOCATION:ACDÉJATELLEVAR\, PINO GARGALLA Nº 3\, SEVILLA\, Spain
CATEGORIES:Talleres Socios
ATTACH;FMTTYPE=image/png:https://acdejatellevar.es/wp-content/uploads/2025/10/TALLER-DEL-CORO-1.png
END:VEVENT
BEGIN:VEVENT
DTSTART;TZID=Europe/Madrid:20251022T200000
DTEND;TZID=Europe/Madrid:20251022T213000
DTSTAMP:20260419T184834
CREATED:20251005T214933Z
LAST-MODIFIED:20251005T214933Z
UID:10000171-1761163200-1761168600@acdejatellevar.es
SUMMARY:Taller de Salsa (Suspendido)
DESCRIPTION:🔥 Taller de Salsa con Francisco & Ana \nSuspendido por el profesor hasta Noviembre.
URL:https://acdejatellevar.es/event/taller-de-salsa-suspendido/
LOCATION:ACDÉJATELLEVAR\, PINO GARGALLA Nº 3\, SEVILLA\, Spain
CATEGORIES:Talleres Socios
ATTACH;FMTTYPE=image/png:https://acdejatellevar.es/wp-content/uploads/2025/10/TALLER-SALSA-1.png
END:VEVENT
BEGIN:VEVENT
DTSTART;TZID=UTC:20251022T190000
DTEND;TZID=UTC:20251022T200000
DTSTAMP:20260419T184834
CREATED:20251003T235826Z
LAST-MODIFIED:20251004T213813Z
UID:10000134-1761159600-1761163200@acdejatellevar.es
SUMMARY:Taller de Bachata
DESCRIPTION:💃 Taller de Bachata con Juan & Pepi \n🗓 Todos los miércoles🕖 Horario: 19:00h – 20:00h (o hasta finalizar los ensayos) \n📌 Taller semanal impartido por Juan & Pepi\, donde además de divertirte aprenderás nuevas figuras y reforzarás las ya conocidas.Estas clases están pensadas para que el fin de semana puedas poner en práctica lo aprendido y bailar con soltura en la fiesta de baile social de los sábados. \n✨ ¡Disfruta\, aprende y vive la Bachata en un ambiente cercano y motivador!
URL:https://acdejatellevar.es/event/taller-de-bachata-4/
LOCATION:ACDÉJATELLEVAR\, PINO GARGALLA Nº 3\, SEVILLA\, Spain
CATEGORIES:Talleres Socios
END:VEVENT
BEGIN:VEVENT
DTSTART;TZID=Europe/Madrid:20251021T201500
DTEND;TZID=Europe/Madrid:20251021T213000
DTSTAMP:20260419T184834
CREATED:20251003T231450Z
LAST-MODIFIED:20251208T234127Z
UID:10000125-1761077700-1761082200@acdejatellevar.es
SUMMARY:Taller de Kizomba
DESCRIPTION:💃🕺 Taller de Kizomba con Andrés & María del Carmen \n🗓 Todos los martes🕗 Horario: 20:15h – 21:30h (o hasta finalizar los ensayos) \n📌 Taller semanal impartido por Andrés & María del Carmen\, pensado para seguir avanzando en técnica y figuras de Kizomba.Estas clases te preparan para disfrutar y poner en práctica lo aprendido durante los fines de semana en las fiestas de baile social. \n✨ ¡Ven a mejorar tu baile y comparte la pasión por la Kizomba en un ambiente divertido y motivador!
URL:https://acdejatellevar.es/event/taller-de-kizomba-3/
LOCATION:ACDÉJATELLEVAR\, PINO GARGALLA Nº 3\, SEVILLA\, Spain
CATEGORIES:Talleres Socios
ATTACH;FMTTYPE=image/png:https://acdejatellevar.es/wp-content/uploads/2025/10/TALLER-KIZOMBA.png
END:VEVENT
BEGIN:VEVENT
DTSTART;TZID=Europe/Madrid:20251021T193000
DTEND;TZID=Europe/Madrid:20251021T201500
DTSTAMP:20260419T184834
CREATED:20251003T224009Z
LAST-MODIFIED:20251004T164229Z
UID:10000065-1761075000-1761077700@acdejatellevar.es
SUMMARY:Taller Rumba Bolero
DESCRIPTION:🎶 Taller de Rumba Bolero con Paco & Mariló \n🗓 Todos los martes🕢 Horario: 19:30h – 20:15h (o hasta finalizar los ensayos) \n📌 Taller semanal impartido por Paco & Mariló\, diseñado para progresar en el estilo de Rumba Bolero.Con estas clases aprenderás nuevas figuras y ganarás soltura para disfrutar al máximo en la fiesta de baile social de los sábados. \n✨ ¡Ven a mejorar tu técnica\, divertirte y compartir la pasión por el baile!
URL:https://acdejatellevar.es/event/taller-rumba-bolero/
LOCATION:ACDÉJATELLEVAR\, PINO GARGALLA Nº 3\, SEVILLA\, Spain
CATEGORIES:Talleres Socios
ATTACH;FMTTYPE=image/png:https://acdejatellevar.es/wp-content/uploads/2025/10/TALLER-RUMBA-BOLERO-1.png
END:VEVENT
BEGIN:VEVENT
DTSTART;TZID=Europe/Madrid:20251019T200000
DTEND;TZID=Europe/Madrid:20251019T220000
DTSTAMP:20260419T184834
CREATED:20251208T234256Z
LAST-MODIFIED:20251208T234256Z
UID:10000174-1760904000-1760911200@acdejatellevar.es
SUMMARY:Taller de teatro.
DESCRIPTION:🎭 Taller de Teatro con José María \n🗓 Todos los viernes🕢 Horario: 19:30h – 22:00h (o hasta finalizar los ensayos) \n📌 Taller semanal dirigido por José María\, donde se trabajan las diferentes artes escénicas y se aprenden técnicas de interpretación teatral.A lo largo del año se ensayan diversas obras de teatro\, que posteriormente se representan dentro y fuera de la asociación. \n✨ ¡Despierta tu creatividad\, mejora tu expresión y vive la magia del teatro en grupo!
URL:https://acdejatellevar.es/event/taller-de-teatro-21/
LOCATION:ACDÉJATELLEVAR\, PINO GARGALLA Nº 3\, SEVILLA\, Spain
CATEGORIES:Talleres Socios
ATTACH;FMTTYPE=image/png:https://acdejatellevar.es/wp-content/uploads/2025/10/TALLER-TEATRO-1.png
END:VEVENT
BEGIN:VEVENT
DTSTART;TZID=Europe/Madrid:20251019T200000
DTEND;TZID=Europe/Madrid:20251019T220000
DTSTAMP:20260419T184834
CREATED:20251004T222706Z
LAST-MODIFIED:20251004T231729Z
UID:10000162-1760904000-1760911200@acdejatellevar.es
SUMMARY:Taller de teatro.
DESCRIPTION:🎭 Taller de Teatro con Jose María \n🗓 Todos los viernes🕢 Horario: 19:30h – 22:00h (o hasta finalizar los ensayos) \n📌 Taller semanal dirigido por Jose María\, donde se trabajan las diferentes artes escénicas y se aprenden técnicas de interpretación teatral.A lo largo del año se ensayan diversas obras de teatro\, que posteriormente se representan dentro y fuera de la asociación. \n✨ ¡Despierta tu creatividad\, mejora tu expresión y vive la magia del teatro en grupo!
URL:https://acdejatellevar.es/event/taller-de-teatro-3/
LOCATION:ACDÉJATELLEVAR\, PINO GARGALLA Nº 3\, SEVILLA\, Spain
CATEGORIES:Talleres Socios
ATTACH;FMTTYPE=image/png:https://acdejatellevar.es/wp-content/uploads/2025/10/TALLER-TEATRO-1.png
END:VEVENT
BEGIN:VEVENT
DTSTART;TZID=Europe/Madrid:20251018T210000
DTEND;TZID=Europe/Madrid:20251019T030000
DTSTAMP:20260419T184834
CREATED:20251003T165420Z
LAST-MODIFIED:20251003T165648Z
UID:10000005-1760821200-1760842800@acdejatellevar.es
SUMMARY:Taller Kizomba + Fiesta Social
DESCRIPTION:📅 Taller de Kizomba + Fiesta SBK con Josema \n🕘 Horario del taller: 21:00h – 23:00h💃 Impartido por Josema\, quien compartirá su experiencia y pasión por la Kizomba en un taller dinámico y divertido. \n🎶 Después del taller:A partir de las 23:00h\, Josema se pondrá a los mandos como DJ\, ofreciendo una selección de música SBK (Salsa\, Bachata\, Kizomba) y otros ritmos variados para que disfrutes bailando hasta el cierre. \n⏰ Horario de la fiesta: 23:00h – 03:00h (cierre de la asociación) \n✨ ¡No te pierdas esta noche de baile\, aprendizaje y diversión en un ambiente único!
URL:https://acdejatellevar.es/event/taller-kizomba-fiesta-social/
LOCATION:ACDÉJATELLEVAR\, PINO GARGALLA Nº 3\, SEVILLA\, Spain
CATEGORIES:Talleres Fiestas
ATTACH;FMTTYPE=image/jpeg:https://acdejatellevar.es/wp-content/uploads/2025/09/TALLER-JOSEMA-18-10-25-scaled.jpg
END:VEVENT
BEGIN:VEVENT
DTSTART;TZID=Europe/Madrid:20251016T210000
DTEND;TZID=Europe/Madrid:20251016T220000
DTSTAMP:20260419T184834
CREATED:20251004T162105Z
LAST-MODIFIED:20251208T234353Z
UID:10000154-1760648400-1760652000@acdejatellevar.es
SUMMARY:Taller de Tango
DESCRIPTION:🎩💃 Taller de Tango con José Antonio & Eli \n🗓 Todos los jueves🕘 Horario: 21:00h – 22:00h (o hasta finalizar los ensayos) \n📌 Taller semanal impartido por José Antonio & Eli\, donde aprenderás el arte de bailar Tango en pareja.Estas clases te permitirán disfrutar del Tango en nuestro baile social de los sábados\, así como poner en práctica lo aprendido en las milongas que celebramos el primer sábado de cada mes. \n✨ ¡Vive la pasión del Tango y mejora tu baile semana a semana!
URL:https://acdejatellevar.es/event/taller-de-tango-3/
LOCATION:ACDÉJATELLEVAR\, PINO GARGALLA Nº 3\, SEVILLA\, Spain
CATEGORIES:Talleres Socios
ATTACH;FMTTYPE=image/png:https://acdejatellevar.es/wp-content/uploads/2025/10/TALLER-TANGO-1.png
END:VEVENT
BEGIN:VEVENT
DTSTART;TZID=Europe/Madrid:20251016T200000
DTEND;TZID=Europe/Madrid:20251016T210000
DTSTAMP:20260419T184834
CREATED:20251004T160953Z
LAST-MODIFIED:20251004T214104Z
UID:10000148-1760644800-1760648400@acdejatellevar.es
SUMMARY:Taller de Castañuelas
DESCRIPTION:🎶 Taller de Castañuelas con Julia \n🗓 Todos los jueves🕗 Horario: 20:00h – 21:00h (o hasta finalizar los ensayos) \n📌 Taller semanal dirigido por Julia\, en el que aprenderás a tocar los palillos y a bailar siguiendo el ritmo de las castañuelas.Con lo aprendido podrás bailar con palillos en pareja o acompañar canciones marcando el compás con su inconfundible sonido. \n✨ ¡Descubre la tradición\, la técnica y la alegría de las castañuelas!
URL:https://acdejatellevar.es/event/taller-de-castanuelas-3/
LOCATION:ACDÉJATELLEVAR\, PINO GARGALLA Nº 3\, SEVILLA\, Spain
CATEGORIES:Talleres Socios
ATTACH;FMTTYPE=image/png:https://acdejatellevar.es/wp-content/uploads/2025/10/CASTANUELAS-JULIA-1.png
END:VEVENT
BEGIN:VEVENT
DTSTART;TZID=UTC:20251015T213000
DTEND;TZID=UTC:20251015T230000
DTSTAMP:20260419T184834
CREATED:20251004T155728Z
LAST-MODIFIED:20251208T234536Z
UID:10000143-1760563800-1760569200@acdejatellevar.es
SUMMARY:Taller de Coro
DESCRIPTION:🎼 Taller de Coro con José María \n🗓 Todos los miércoles🕤 Horario: 21:30h – 23:00h (o hasta finalizar los ensayos) \n📌 Taller semanal dirigido por José María\, donde se ensayan repertorios variados como villancicos\, sevillanas\, habaneras\, misas\, entre otros.Lo aprendido se pondrá en práctica tanto dentro como fuera de nuestra asociación\, compartiendo la música en distintos espacios y celebraciones. \n✨ ¡Únete al coro y disfruta de la magia de cantar en grupo!
URL:https://acdejatellevar.es/event/taller-de-coro-3/
LOCATION:ACDÉJATELLEVAR\, PINO GARGALLA Nº 3\, SEVILLA\, Spain
CATEGORIES:Talleres Socios
ATTACH;FMTTYPE=image/png:https://acdejatellevar.es/wp-content/uploads/2025/10/TALLER-DEL-CORO-1.png
END:VEVENT
BEGIN:VEVENT
DTSTART;TZID=Europe/Madrid:20251015T200000
DTEND;TZID=Europe/Madrid:20251015T213000
DTSTAMP:20260419T184834
CREATED:20251005T215015Z
LAST-MODIFIED:20251005T215015Z
UID:10000172-1760558400-1760563800@acdejatellevar.es
SUMMARY:Taller de Salsa (Suspendido)
DESCRIPTION:🔥 Taller de Salsa con Francisco & Ana \nSuspendido por el profesor hasta Noviembre.
URL:https://acdejatellevar.es/event/taller-de-salsa-suspendido-2/
LOCATION:ACDÉJATELLEVAR\, PINO GARGALLA Nº 3\, SEVILLA\, Spain
CATEGORIES:Talleres Socios
ATTACH;FMTTYPE=image/png:https://acdejatellevar.es/wp-content/uploads/2025/10/TALLER-SALSA-1.png
END:VEVENT
BEGIN:VEVENT
DTSTART;TZID=UTC:20251015T190000
DTEND;TZID=UTC:20251015T200000
DTSTAMP:20260419T184834
CREATED:20251003T235812Z
LAST-MODIFIED:20251004T213726Z
UID:10000133-1760554800-1760558400@acdejatellevar.es
SUMMARY:Taller de Bachata
DESCRIPTION:💃 Taller de Bachata con Juan & Pepi \n🗓 Todos los miércoles🕖 Horario: 19:00h – 20:00h (o hasta finalizar los ensayos) \n📌 Taller semanal impartido por Juan & Pepi\, donde además de divertirte aprenderás nuevas figuras y reforzarás las ya conocidas.Estas clases están pensadas para que el fin de semana puedas poner en práctica lo aprendido y bailar con soltura en la fiesta de baile social de los sábados. \n✨ ¡Disfruta\, aprende y vive la Bachata en un ambiente cercano y motivador!
URL:https://acdejatellevar.es/event/taller-de-bachata-3/
LOCATION:ACDÉJATELLEVAR\, PINO GARGALLA Nº 3\, SEVILLA\, Spain
CATEGORIES:Talleres Socios
END:VEVENT
BEGIN:VEVENT
DTSTART;TZID=Europe/Madrid:20251014T201500
DTEND;TZID=Europe/Madrid:20251014T213000
DTSTAMP:20260419T184834
CREATED:20251003T234638Z
LAST-MODIFIED:20251208T234613Z
UID:10000129-1760472900-1760477400@acdejatellevar.es
SUMMARY:Taller de Kizomba
DESCRIPTION:💃🕺 Taller de Kizomba con Andrés & María del Carmen \n🗓 Todos los martes🕗 Horario: 20:15h – 21:30h (o hasta finalizar los ensayos) \n📌 Taller semanal impartido por Andrés & María del Carmen\, pensado para seguir avanzando en técnica y figuras de Kizomba.Estas clases te preparan para disfrutar y poner en práctica lo aprendido durante los fines de semana en las fiestas de baile social. \n✨ ¡Ven a mejorar tu baile y comparte la pasión por la Kizomba en un ambiente divertido y motivador!
URL:https://acdejatellevar.es/event/taller-de-kizomba-2/
LOCATION:ACDÉJATELLEVAR\, PINO GARGALLA Nº 3\, SEVILLA\, Spain
CATEGORIES:Talleres Socios
ATTACH;FMTTYPE=image/png:https://acdejatellevar.es/wp-content/uploads/2025/10/TALLER-KIZOMBA.png
END:VEVENT
BEGIN:VEVENT
DTSTART;TZID=Europe/Madrid:20251014T193000
DTEND;TZID=Europe/Madrid:20251014T201500
DTSTAMP:20260419T184834
CREATED:20251003T234902Z
LAST-MODIFIED:20251004T164145Z
UID:10000130-1760470200-1760472900@acdejatellevar.es
SUMMARY:Taller Rumba Bolero
DESCRIPTION:🎶 Taller de Rumba Bolero con Paco & Mariló \n🗓 Todos los martes🕢 Horario: 19:30h – 20:15h (o hasta finalizar los ensayos) \n📌 Taller semanal impartido por Paco & Mariló\, diseñado para progresar en el estilo de Rumba Bolero.Con estas clases aprenderás nuevas figuras y ganarás soltura para disfrutar al máximo en la fiesta de baile social de los sábados. \n✨ ¡Ven a mejorar tu técnica\, divertirte y compartir la pasión por el baile!
URL:https://acdejatellevar.es/event/taller-rumba-bolero-3/
LOCATION:ACDÉJATELLEVAR\, PINO GARGALLA Nº 3\, SEVILLA\, Spain
CATEGORIES:Talleres Socios
ATTACH;FMTTYPE=image/png:https://acdejatellevar.es/wp-content/uploads/2025/10/TALLER-RUMBA-BOLERO-1.png
END:VEVENT
BEGIN:VEVENT
DTSTART;TZID=UTC:20251013T000000
DTEND;TZID=UTC:20251013T120000
DTSTAMP:20260419T184834
CREATED:20251004T161150Z
LAST-MODIFIED:20251004T224131Z
UID:10000151-1760313600-1760356800@acdejatellevar.es
SUMMARY:CERRADO POR PUENTE
DESCRIPTION:
URL:https://acdejatellevar.es/event/cerrado-por-puente/
LOCATION:ACDÉJATELLEVAR\, PINO GARGALLA Nº 3\, SEVILLA\, Spain
CATEGORIES:Anuncios
END:VEVENT
BEGIN:VEVENT
DTSTART;TZID=Europe/Madrid:20251012T200000
DTEND;TZID=Europe/Madrid:20251012T220000
DTSTAMP:20260419T184834
CREATED:20251013T205538Z
LAST-MODIFIED:20251208T234748Z
UID:10000175-1760299200-1760306400@acdejatellevar.es
SUMMARY:Taller de teatro.
DESCRIPTION:🎭 Taller de Teatro con José María \n🗓 Todos los viernes🕢 Horario: 19:30h – 22:00h (o hasta finalizar los ensayos) \n📌 Taller semanal dirigido por José María\, donde se trabajan las diferentes artes escénicas y se aprenden técnicas de interpretación teatral.A lo largo del año se ensayan diversas obras de teatro\, que posteriormente se representan dentro y fuera de la asociación. \n✨ ¡Despierta tu creatividad\, mejora tu expresión y vive la magia del teatro en grupo!
URL:https://acdejatellevar.es/event/taller-de-teatro-6/
LOCATION:ACDÉJATELLEVAR\, PINO GARGALLA Nº 3\, SEVILLA\, Spain
CATEGORIES:Talleres Socios
ATTACH;FMTTYPE=image/png:https://acdejatellevar.es/wp-content/uploads/2025/10/TALLER-TEATRO-1.png
END:VEVENT
BEGIN:VEVENT
DTSTART;TZID=UTC:20251011T000000
DTEND;TZID=UTC:20251011T120000
DTSTAMP:20260419T184834
CREATED:20251004T223907Z
LAST-MODIFIED:20251004T224047Z
UID:10000164-1760140800-1760184000@acdejatellevar.es
SUMMARY:CERRADO POR PUENTE
DESCRIPTION:
URL:https://acdejatellevar.es/event/cerrado-por-puente-2/
LOCATION:ACDÉJATELLEVAR\, PINO GARGALLA Nº 3\, SEVILLA\, Spain
CATEGORIES:Anuncios
END:VEVENT
END:VCALENDAR