BEGIN:VCALENDAR
VERSION:2.0
PRODID:-//acdejatellevar.es - ECPv6.15.20//NONSGML v1.0//EN
CALSCALE:GREGORIAN
METHOD:PUBLISH
X-WR-CALNAME:acdejatellevar.es
X-ORIGINAL-URL:https://acdejatellevar.es
X-WR-CALDESC:Eventos para acdejatellevar.es
REFRESH-INTERVAL;VALUE=DURATION:PT1H
X-Robots-Tag:noindex
X-PUBLISHED-TTL:PT1H
BEGIN:VTIMEZONE
TZID:UTC
BEGIN:STANDARD
TZOFFSETFROM:+0000
TZOFFSETTO:+0000
TZNAME:UTC
DTSTART:20240101T000000
END:STANDARD
END:VTIMEZONE
BEGIN:VEVENT
DTSTART;TZID=UTC:20251029T190000
DTEND;TZID=UTC:20251029T200000
DTSTAMP:20260420T063758
CREATED:20251003T235843Z
LAST-MODIFIED:20251004T213905Z
UID:10000135-1761764400-1761768000@acdejatellevar.es
SUMMARY:Taller de Bachata
DESCRIPTION:💃 Taller de Bachata con Juan & Pepi \n🗓 Todos los miércoles🕖 Horario: 19:00h – 20:00h (o hasta finalizar los ensayos) \n📌 Taller semanal impartido por Juan & Pepi\, donde además de divertirte aprenderás nuevas figuras y reforzarás las ya conocidas.Estas clases están pensadas para que el fin de semana puedas poner en práctica lo aprendido y bailar con soltura en la fiesta de baile social de los sábados. \n✨ ¡Disfruta\, aprende y vive la Bachata en un ambiente cercano y motivador!
URL:https://acdejatellevar.es/event/taller-de-bachata-5/
LOCATION:ACDÉJATELLEVAR\, PINO GARGALLA Nº 3\, SEVILLA\, Spain
CATEGORIES:Talleres Socios
END:VEVENT
BEGIN:VEVENT
DTSTART;TZID=UTC:20251022T190000
DTEND;TZID=UTC:20251022T200000
DTSTAMP:20260420T063758
CREATED:20251003T235826Z
LAST-MODIFIED:20251004T213813Z
UID:10000134-1761159600-1761163200@acdejatellevar.es
SUMMARY:Taller de Bachata
DESCRIPTION:💃 Taller de Bachata con Juan & Pepi \n🗓 Todos los miércoles🕖 Horario: 19:00h – 20:00h (o hasta finalizar los ensayos) \n📌 Taller semanal impartido por Juan & Pepi\, donde además de divertirte aprenderás nuevas figuras y reforzarás las ya conocidas.Estas clases están pensadas para que el fin de semana puedas poner en práctica lo aprendido y bailar con soltura en la fiesta de baile social de los sábados. \n✨ ¡Disfruta\, aprende y vive la Bachata en un ambiente cercano y motivador!
URL:https://acdejatellevar.es/event/taller-de-bachata-4/
LOCATION:ACDÉJATELLEVAR\, PINO GARGALLA Nº 3\, SEVILLA\, Spain
CATEGORIES:Talleres Socios
END:VEVENT
BEGIN:VEVENT
DTSTART;TZID=UTC:20251015T190000
DTEND;TZID=UTC:20251015T200000
DTSTAMP:20260420T063758
CREATED:20251003T235812Z
LAST-MODIFIED:20251004T213726Z
UID:10000133-1760554800-1760558400@acdejatellevar.es
SUMMARY:Taller de Bachata
DESCRIPTION:💃 Taller de Bachata con Juan & Pepi \n🗓 Todos los miércoles🕖 Horario: 19:00h – 20:00h (o hasta finalizar los ensayos) \n📌 Taller semanal impartido por Juan & Pepi\, donde además de divertirte aprenderás nuevas figuras y reforzarás las ya conocidas.Estas clases están pensadas para que el fin de semana puedas poner en práctica lo aprendido y bailar con soltura en la fiesta de baile social de los sábados. \n✨ ¡Disfruta\, aprende y vive la Bachata en un ambiente cercano y motivador!
URL:https://acdejatellevar.es/event/taller-de-bachata-3/
LOCATION:ACDÉJATELLEVAR\, PINO GARGALLA Nº 3\, SEVILLA\, Spain
CATEGORIES:Talleres Socios
END:VEVENT
BEGIN:VEVENT
DTSTART;TZID=UTC:20251008T190000
DTEND;TZID=UTC:20251008T200000
DTSTAMP:20260420T063758
CREATED:20251003T235754Z
LAST-MODIFIED:20251004T213633Z
UID:10000132-1759950000-1759953600@acdejatellevar.es
SUMMARY:Taller de Bachata
DESCRIPTION:💃 Taller de Bachata con Juan & Pepi \n🗓 Todos los miércoles🕖 Horario: 19:00h – 20:00h (o hasta finalizar los ensayos) \n📌 Taller semanal impartido por Juan & Pepi\, donde además de divertirte aprenderás nuevas figuras y reforzarás las ya conocidas.Estas clases están pensadas para que el fin de semana puedas poner en práctica lo aprendido y bailar con soltura en la fiesta de baile social de los sábados. \n✨ ¡Disfruta\, aprende y vive la Bachata en un ambiente cercano y motivador!
URL:https://acdejatellevar.es/event/taller-de-bachata-2/
LOCATION:ACDÉJATELLEVAR\, PINO GARGALLA Nº 3\, SEVILLA\, Spain
CATEGORIES:Talleres Socios
END:VEVENT
BEGIN:VEVENT
DTSTART;TZID=UTC:20251001T190000
DTEND;TZID=UTC:20251001T200000
DTSTAMP:20260420T063758
CREATED:20251003T235120Z
LAST-MODIFIED:20251004T213530Z
UID:10000131-1759345200-1759348800@acdejatellevar.es
SUMMARY:Taller de Bachata
DESCRIPTION:💃 Taller de Bachata con Juan & Pepi \n🗓 Todos los miércoles🕖 Horario: 19:00h – 20:00h (o hasta finalizar los ensayos) \n📌 Taller semanal impartido por Juan & Pepi\, donde además de divertirte aprenderás nuevas figuras y reforzarás las ya conocidas.Estas clases están pensadas para que el fin de semana puedas poner en práctica lo aprendido y bailar con soltura en la fiesta de baile social de los sábados. \n✨ ¡Disfruta\, aprende y vive la Bachata en un ambiente cercano y motivador!
URL:https://acdejatellevar.es/event/taller-de-bachata/
LOCATION:ACDÉJATELLEVAR\, PINO GARGALLA Nº 3\, SEVILLA\, Spain
CATEGORIES:Talleres Socios
END:VEVENT
END:VCALENDAR