BEGIN:VCALENDAR
VERSION:2.0
PRODID:-//acdejatellevar.es - ECPv6.15.20//NONSGML v1.0//EN
CALSCALE:GREGORIAN
METHOD:PUBLISH
X-WR-CALNAME:acdejatellevar.es
X-ORIGINAL-URL:https://acdejatellevar.es
X-WR-CALDESC:Eventos para acdejatellevar.es
REFRESH-INTERVAL;VALUE=DURATION:PT1H
X-Robots-Tag:noindex
X-PUBLISHED-TTL:PT1H
BEGIN:VTIMEZONE
TZID:Europe/Madrid
BEGIN:DAYLIGHT
TZOFFSETFROM:+0100
TZOFFSETTO:+0200
TZNAME:CEST
DTSTART:20240331T010000
END:DAYLIGHT
BEGIN:STANDARD
TZOFFSETFROM:+0200
TZOFFSETTO:+0100
TZNAME:CET
DTSTART:20241027T010000
END:STANDARD
BEGIN:DAYLIGHT
TZOFFSETFROM:+0100
TZOFFSETTO:+0200
TZNAME:CEST
DTSTART:20250330T010000
END:DAYLIGHT
BEGIN:STANDARD
TZOFFSETFROM:+0200
TZOFFSETTO:+0100
TZNAME:CET
DTSTART:20251026T010000
END:STANDARD
BEGIN:DAYLIGHT
TZOFFSETFROM:+0100
TZOFFSETTO:+0200
TZNAME:CEST
DTSTART:20260329T010000
END:DAYLIGHT
BEGIN:STANDARD
TZOFFSETFROM:+0200
TZOFFSETTO:+0100
TZNAME:CET
DTSTART:20261025T010000
END:STANDARD
END:VTIMEZONE
BEGIN:VEVENT
DTSTART;TZID=Europe/Madrid:20251004T110000
DTEND;TZID=Europe/Madrid:20251004T133000
DTSTAMP:20260420T042612
CREATED:20251004T224838Z
LAST-MODIFIED:20251004T225640Z
UID:10000165-1759575600-1759584600@acdejatellevar.es
SUMMARY:Taller de Parapekes
DESCRIPTION:🎈 Taller Parapekes \n🗓 Taller mensual – fines de semana por la mañana👩‍🏫 Dirigido por Inés\, Carmen\, Eli y Pastori \n📌 En este divertido taller se preparan números infantiles llenos de color\, alegría y creatividad\, con el objetivo de desarrollar un espectáculo ameno y brillante para los más pequeños.Está especialmente pensado para fomentar la animación infantil\, el trabajo en equipo y la expresión artística de manera lúdica y participativa. \n✨ ¡Un espacio donde los peques se divierten\, aprenden y sueñan en grande!
URL:https://acdejatellevar.es/event/taller-de-parapekes/
LOCATION:ACDÉJATELLEVAR\, PINO GARGALLA Nº 3\, SEVILLA\, Spain
CATEGORIES:Talleres Socios
ATTACH;FMTTYPE=image/png:https://acdejatellevar.es/wp-content/uploads/2025/10/PARAPEKES-3.png
END:VEVENT
END:VCALENDAR