BEGIN:VCALENDAR
VERSION:2.0
PRODID:-//acdejatellevar.es - ECPv6.15.20//NONSGML v1.0//EN
CALSCALE:GREGORIAN
METHOD:PUBLISH
X-ORIGINAL-URL:https://acdejatellevar.es
X-WR-CALDESC:Eventos para acdejatellevar.es
REFRESH-INTERVAL;VALUE=DURATION:PT1H
X-Robots-Tag:noindex
X-PUBLISHED-TTL:PT1H
BEGIN:VTIMEZONE
TZID:UTC
BEGIN:STANDARD
TZOFFSETFROM:+0000
TZOFFSETTO:+0000
TZNAME:UTC
DTSTART:20240101T000000
END:STANDARD
END:VTIMEZONE
BEGIN:VEVENT
DTSTART;TZID=UTC:20251124T210000
DTEND;TZID=UTC:20251124T233000
DTSTAMP:20260420T001927
CREATED:20251103T143858Z
LAST-MODIFIED:20251103T143858Z
UID:10000183-1764018000-1764027000@acdejatellevar.es
SUMMARY:Taller de Quiero Ser Artista
DESCRIPTION:🎭 Taller “Quiero Ser Artista” \n🗓 Todos los lunes🕘 Horario: 21:00h – 23:00h (o hasta finalizar los ensayos) \n📌 Taller semanal dirigido por Eli\, Pastori y Carmen\, donde se preparan y ensayan los números para el espectáculo.Un espacio de aprendizaje\, creatividad y trabajo en equipo para dar forma al show. \n✨ ¡Ven y forma parte de la magia del escenario!
URL:https://acdejatellevar.es/event/taller-de-quiero-ser-artista-7/
CATEGORIES:Espectaculos,Quiero Ser Artista
END:VEVENT
BEGIN:VEVENT
DTSTART;TZID=UTC:20251117T210000
DTEND;TZID=UTC:20251117T233000
DTSTAMP:20260420T001927
CREATED:20251103T143843Z
LAST-MODIFIED:20251103T143843Z
UID:10000182-1763413200-1763422200@acdejatellevar.es
SUMMARY:Taller de Quiero Ser Artista
DESCRIPTION:🎭 Taller “Quiero Ser Artista” \n🗓 Todos los lunes🕘 Horario: 21:00h – 23:00h (o hasta finalizar los ensayos) \n📌 Taller semanal dirigido por Eli\, Pastori y Carmen\, donde se preparan y ensayan los números para el espectáculo.Un espacio de aprendizaje\, creatividad y trabajo en equipo para dar forma al show. \n✨ ¡Ven y forma parte de la magia del escenario!
URL:https://acdejatellevar.es/event/taller-de-quiero-ser-artista-6/
CATEGORIES:Espectaculos,Quiero Ser Artista
END:VEVENT
BEGIN:VEVENT
DTSTART;TZID=UTC:20251110T210000
DTEND;TZID=UTC:20251110T233000
DTSTAMP:20260420T001927
CREATED:20251103T143815Z
LAST-MODIFIED:20251103T143815Z
UID:10000181-1762808400-1762817400@acdejatellevar.es
SUMMARY:Taller de Quiero Ser Artista
DESCRIPTION:🎭 Taller “Quiero Ser Artista” \n🗓 Todos los lunes🕘 Horario: 21:00h – 23:00h (o hasta finalizar los ensayos) \n📌 Taller semanal dirigido por Eli\, Pastori y Carmen\, donde se preparan y ensayan los números para el espectáculo.Un espacio de aprendizaje\, creatividad y trabajo en equipo para dar forma al show. \n✨ ¡Ven y forma parte de la magia del escenario!
URL:https://acdejatellevar.es/event/taller-de-quiero-ser-artista-5/
CATEGORIES:Espectaculos,Quiero Ser Artista
END:VEVENT
BEGIN:VEVENT
DTSTART;TZID=UTC:20251103T210000
DTEND;TZID=UTC:20251103T233000
DTSTAMP:20260420T001927
CREATED:20251103T143758Z
LAST-MODIFIED:20251103T143758Z
UID:10000180-1762203600-1762212600@acdejatellevar.es
SUMMARY:Taller de Quiero Ser Artista
DESCRIPTION:🎭 Taller “Quiero Ser Artista” \n🗓 Todos los lunes🕘 Horario: 21:00h – 23:00h (o hasta finalizar los ensayos) \n📌 Taller semanal dirigido por Eli\, Pastori y Carmen\, donde se preparan y ensayan los números para el espectáculo.Un espacio de aprendizaje\, creatividad y trabajo en equipo para dar forma al show. \n✨ ¡Ven y forma parte de la magia del escenario!
URL:https://acdejatellevar.es/event/taller-de-quiero-ser-artista-4/
CATEGORIES:Espectaculos,Quiero Ser Artista
END:VEVENT
BEGIN:VEVENT
DTSTART;TZID=UTC:20251027T210000
DTEND;TZID=UTC:20251027T233000
DTSTAMP:20260420T001927
CREATED:20251003T230813Z
LAST-MODIFIED:20251004T164045Z
UID:10000122-1761598800-1761607800@acdejatellevar.es
SUMMARY:Taller de Quiero Ser Artista
DESCRIPTION:🎭 Taller “Quiero Ser Artista” \n🗓 Todos los lunes🕘 Horario: 21:00h – 23:00h (o hasta finalizar los ensayos) \n📌 Taller semanal dirigido por Eli\, Pastori y Carmen\, donde se preparan y ensayan los números para el espectáculo.Un espacio de aprendizaje\, creatividad y trabajo en equipo para dar forma al show. \n✨ ¡Ven y forma parte de la magia del escenario!
URL:https://acdejatellevar.es/event/taller-de-quiero-ser-artista-3/
CATEGORIES:Espectaculos,Quiero Ser Artista
END:VEVENT
BEGIN:VEVENT
DTSTART;TZID=UTC:20251020T210000
DTEND;TZID=UTC:20251020T233000
DTSTAMP:20260420T001927
CREATED:20251003T230755Z
LAST-MODIFIED:20251004T164019Z
UID:10000121-1760994000-1761003000@acdejatellevar.es
SUMMARY:Taller de Quiero Ser Artista
DESCRIPTION:🎭 Taller “Quiero Ser Artista” \n🗓 Todos los lunes🕘 Horario: 21:00h – 23:00h (o hasta finalizar los ensayos) \n📌 Taller semanal dirigido por Eli\, Pastori y Carmen\, donde se preparan y ensayan los números para el espectáculo.Un espacio de aprendizaje\, creatividad y trabajo en equipo para dar forma al show. \n✨ ¡Ven y forma parte de la magia del escenario!
URL:https://acdejatellevar.es/event/taller-de-quiero-ser-artista-2/
CATEGORIES:Espectaculos,Quiero Ser Artista
END:VEVENT
BEGIN:VEVENT
DTSTART;TZID=UTC:20251006T210000
DTEND;TZID=UTC:20251006T233000
DTSTAMP:20260420T001927
CREATED:20251003T072946Z
LAST-MODIFIED:20251004T163956Z
UID:10000003-1759784400-1759793400@acdejatellevar.es
SUMMARY:Taller de Quiero Ser Artista
DESCRIPTION:🎭 Taller “Quiero Ser Artista” \n🗓 Todos los lunes🕘 Horario: 21:00h – 23:00h (o hasta finalizar los ensayos) \n📌 Taller semanal dirigido por Eli\, Pastori y Carmen\, donde se preparan y ensayan los números para el espectáculo.Un espacio de aprendizaje\, creatividad y trabajo en equipo para dar forma al show. \n✨ ¡Ven y forma parte de la magia del escenario!
URL:https://acdejatellevar.es/event/taller-de-quiero-ser-artista/
CATEGORIES:Espectaculos,Quiero Ser Artista
END:VEVENT
END:VCALENDAR