BEGIN:VCALENDAR
VERSION:2.0
PRODID:-//acdejatellevar.es - ECPv6.15.20//NONSGML v1.0//EN
CALSCALE:GREGORIAN
METHOD:PUBLISH
X-WR-CALNAME:acdejatellevar.es
X-ORIGINAL-URL:https://acdejatellevar.es
X-WR-CALDESC:Eventos para acdejatellevar.es
REFRESH-INTERVAL;VALUE=DURATION:PT1H
X-Robots-Tag:noindex
X-PUBLISHED-TTL:PT1H
BEGIN:VTIMEZONE
TZID:UTC
BEGIN:STANDARD
TZOFFSETFROM:+0000
TZOFFSETTO:+0000
TZNAME:UTC
DTSTART:20250101T000000
END:STANDARD
END:VTIMEZONE
BEGIN:VEVENT
DTSTART;TZID=UTC:20260430T210000
DTEND;TZID=UTC:20260430T220000
DTSTAMP:20260420T045237
CREATED:20260325T223559Z
LAST-MODIFIED:20260325T223559Z
UID:10000454-1777582800-1777586400@acdejatellevar.es
SUMMARY:Taller de Tango
DESCRIPTION:🎩💃 Taller de Tango con José Antonio & Eli \n🗓 Todos los jueves🕘 Horario: 21:00h – 22:00h (o hasta finalizar los ensayos) \n📌 Taller semanal impartido por José Antonio & Eli\, donde aprenderás el arte de bailar Tango en pareja.Estas clases te permitirán disfrutar del Tango en nuestro baile social de los sábados\, así como poner en práctica lo aprendido en las milongas que celebramos el primer sábado de cada mes. \n✨ ¡Vive la pasión del Tango y mejora tu baile semana a semana!
URL:https://acdejatellevar.es/event/taller-de-tango-27/
LOCATION:ACDÉJATELLEVAR\, PINO GARGALLA Nº 3\, SEVILLA\, Spain
CATEGORIES:Talleres Socios
ATTACH;FMTTYPE=image/png:https://acdejatellevar.es/wp-content/uploads/2025/10/TALLER-TANGO-1.png
END:VEVENT
BEGIN:VEVENT
DTSTART;VALUE=DATE:20260501
DTEND;VALUE=DATE:20260502
DTSTAMP:20260420T045237
CREATED:20260325T200118Z
LAST-MODIFIED:20260325T202345Z
UID:10000433-1777593600-1777679999@acdejatellevar.es
SUMMARY:Cerrado Festivo
DESCRIPTION:🌼✨ 1 de Mayo: Pausa… con mucho estilo ✨🌼 \nEl 1 de mayo de 2026\, en ACDejatellevar hacemos lo que mejor sabe en los días festivos:parar… sin perder el ritmo. \nNuestra sede permanecerá cerrada durante esta jornada\, porque hasta los pasos más elegantes necesitan un pequeño descanso (aunque sea solo para coger impulso 😉). \nPero que no cunda el pánico… \n💃 El 2 de mayo volvemos a abrir… y por todo lo alto:con nuestra esperada Milonga mensual\, lista para devolvernos a la pista como se merece. \n📅 Cierre: 1 de mayo de 2026📅 Apertura: 2 de mayo – Milonga mensual📍 Lugar: Calle Pino Gargalla nº 21 \nUn día para recargar…y otro para volver a dejarnos llevar. ✨
URL:https://acdejatellevar.es/event/cerrado-festivo/
LOCATION:ACDÉJATELLEVAR\, PINO GARGALLA Nº 3\, SEVILLA\, Spain
CATEGORIES:Anuncios
ATTACH;FMTTYPE=image/jpeg:https://acdejatellevar.es/wp-content/uploads/2026/03/CERRADO-FESTIVO.jpg
END:VEVENT
BEGIN:VEVENT
DTSTART;TZID=UTC:20260502T200000
DTEND;TZID=UTC:20260503T030000
DTSTAMP:20260420T045237
CREATED:20260325T192758Z
LAST-MODIFIED:20260410T095216Z
UID:10000428-1777752000-1777777200@acdejatellevar.es
SUMMARY:Milonga y Baile Social
DESCRIPTION:💃 Milonga “Déjate llevar por el Tango” – Noche Especial en ACDEJATELLEVAR 💃 \nEl próximo 2 de mayo de 2026 te invitamos a vivir una velada única donde la pasión del tango será la gran protagonista. A partir de las 20:00 horas\, nuestra sede se llenará de elegancia\, música y emoción con una nueva edición de nuestra Milonga. \n🎶 La noche contará con la actuación en directo del grupo Aylen Trío Milonguero\, que nos envolverá con su inconfundible sonido y creará una atmósfera mágica para disfrutar del tango en su máxima expresión. \n🎧 Además\, la selección musical estará a cargo de TDJ Carmen Villafuerte\, quien guiará cada tanda con sensibilidad y estilo\, haciendo de la pista un espacio para sentir\, conectar y disfrutar. \n🎟️ Aportación: 10 € \n📍 Lugar: Nuestra sede – C/ Pino Gargalla nº 3\, Sevilla \nY cuando la milonga llegue a su fin… la noche continúa: \n🍷 Nuestra barra bar permanecerá abierta con sus estupendas tapas\, ideal para seguir compartiendo buenos momentos. \n🕺💃 A partir de las 23:00 horas\, dará comienzo el baile social\, con una variada selección musical para que todos puedan disfrutar\, más allá del tango. \nUna cita pensada para los amantes del baile\, la música y el buen ambiente.✨ Déjate llevar\, siente el tango… y vive una noche inolvidable con nosotros.
URL:https://acdejatellevar.es/event/milonga-y-baile-social-2/
LOCATION:ACDÉJATELLEVAR\, PINO GARGALLA Nº 3\, SEVILLA\, Spain
CATEGORIES:Talleres Fiestas
ATTACH;FMTTYPE=image/jpeg:https://acdejatellevar.es/wp-content/uploads/2026/04/MILONGA-2-5-26.jpg
END:VEVENT
BEGIN:VEVENT
DTSTART;TZID=UTC:20260503T193000
DTEND;TZID=UTC:20260503T213000
DTSTAMP:20260420T045237
CREATED:20260325T224600Z
LAST-MODIFIED:20260415T194001Z
UID:10000459-1777836600-1777843800@acdejatellevar.es
SUMMARY:Taller de Teatro
DESCRIPTION:🎭 Taller de Teatro con José María \n🗓 Todos los domingos🕢 Horario: 18:30h – 20:30h (o hasta finalizar los ensayos) \n📌 Taller semanal dirigido por José María\, donde se trabajan las diferentes artes escénicas y se aprenden técnicas de interpretación teatral.A lo largo del año se ensayan diversas obras de teatro\, que posteriormente se representan dentro y fuera de la asociación. \n✨ ¡Despierta tu creatividad\, mejora tu expresión y vive la magia del teatro en grupo!
URL:https://acdejatellevar.es/event/taller-de-teatro-49/
LOCATION:ACDÉJATELLEVAR\, PINO GARGALLA Nº 3\, SEVILLA\, Spain
CATEGORIES:Talleres Socios
ATTACH;FMTTYPE=image/png:https://acdejatellevar.es/wp-content/uploads/2025/10/TALLER-TEATRO-1.png
END:VEVENT
BEGIN:VEVENT
DTSTART;TZID=UTC:20260504T210000
DTEND;TZID=UTC:20260504T230000
DTSTAMP:20260420T045237
CREATED:20260414T113002Z
LAST-MODIFIED:20260414T113002Z
UID:10000460-1777928400-1777935600@acdejatellevar.es
SUMMARY:Taller de Quiero Ser Artista
DESCRIPTION:🎭 Taller “Quiero Ser Artista” \n🗓 Todos los lunes🕘 Horario: 21:00h – 23:00h (o hasta finalizar los ensayos) \n📌 Taller semanal dirigido por Eli\, Pastori y Carmen\, donde se preparan y ensayan los números para el espectáculo.Un espacio de aprendizaje\, creatividad y trabajo en equipo para dar forma al show. \n✨ ¡Ven y forma parte de la magia del escenario!
URL:https://acdejatellevar.es/event/taller-de-quiero-ser-artista-23/
LOCATION:ACDÉJATELLEVAR\, PINO GARGALLA Nº 3\, SEVILLA\, Spain
CATEGORIES:Talleres Socios
ATTACH;FMTTYPE=image/png:https://acdejatellevar.es/wp-content/uploads/2025/10/QUIERO-SER-ARTISTA-2.png
END:VEVENT
BEGIN:VEVENT
DTSTART;TZID=UTC:20260511T210000
DTEND;TZID=UTC:20260511T230000
DTSTAMP:20260420T045237
CREATED:20260414T113107Z
LAST-MODIFIED:20260414T113107Z
UID:10000461-1778533200-1778540400@acdejatellevar.es
SUMMARY:Taller de Quiero Ser Artista
DESCRIPTION:🎭 Taller “Quiero Ser Artista” \n🗓 Todos los lunes🕘 Horario: 21:00h – 23:00h (o hasta finalizar los ensayos) \n📌 Taller semanal dirigido por Eli\, Pastori y Carmen\, donde se preparan y ensayan los números para el espectáculo.Un espacio de aprendizaje\, creatividad y trabajo en equipo para dar forma al show. \n✨ ¡Ven y forma parte de la magia del escenario!
URL:https://acdejatellevar.es/event/taller-de-quiero-ser-artista-24/
LOCATION:ACDÉJATELLEVAR\, PINO GARGALLA Nº 3\, SEVILLA\, Spain
CATEGORIES:Talleres Socios
ATTACH;FMTTYPE=image/png:https://acdejatellevar.es/wp-content/uploads/2025/10/QUIERO-SER-ARTISTA-2.png
END:VEVENT
BEGIN:VEVENT
DTSTART;TZID=UTC:20260518T210000
DTEND;TZID=UTC:20260518T230000
DTSTAMP:20260420T045237
CREATED:20260414T113206Z
LAST-MODIFIED:20260414T113206Z
UID:10000462-1779138000-1779145200@acdejatellevar.es
SUMMARY:Taller de Quiero Ser Artista
DESCRIPTION:🎭 Taller “Quiero Ser Artista” \n🗓 Todos los lunes🕘 Horario: 21:00h – 23:00h (o hasta finalizar los ensayos) \n📌 Taller semanal dirigido por Eli\, Pastori y Carmen\, donde se preparan y ensayan los números para el espectáculo.Un espacio de aprendizaje\, creatividad y trabajo en equipo para dar forma al show. \n✨ ¡Ven y forma parte de la magia del escenario!
URL:https://acdejatellevar.es/event/taller-de-quiero-ser-artista-25/
LOCATION:ACDÉJATELLEVAR\, PINO GARGALLA Nº 3\, SEVILLA\, Spain
CATEGORIES:Talleres Socios
ATTACH;FMTTYPE=image/png:https://acdejatellevar.es/wp-content/uploads/2025/10/QUIERO-SER-ARTISTA-2.png
END:VEVENT
BEGIN:VEVENT
DTSTART;TZID=UTC:20260525T210000
DTEND;TZID=UTC:20260525T230000
DTSTAMP:20260420T045237
CREATED:20260414T113300Z
LAST-MODIFIED:20260414T113300Z
UID:10000463-1779742800-1779750000@acdejatellevar.es
SUMMARY:Taller de Quiero Ser Artista
DESCRIPTION:🎭 Taller “Quiero Ser Artista” \n🗓 Todos los lunes🕘 Horario: 21:00h – 23:00h (o hasta finalizar los ensayos) \n📌 Taller semanal dirigido por Eli\, Pastori y Carmen\, donde se preparan y ensayan los números para el espectáculo.Un espacio de aprendizaje\, creatividad y trabajo en equipo para dar forma al show. \n✨ ¡Ven y forma parte de la magia del escenario!
URL:https://acdejatellevar.es/event/taller-de-quiero-ser-artista-26/
LOCATION:ACDÉJATELLEVAR\, PINO GARGALLA Nº 3\, SEVILLA\, Spain
CATEGORIES:Talleres Socios
ATTACH;FMTTYPE=image/png:https://acdejatellevar.es/wp-content/uploads/2025/10/QUIERO-SER-ARTISTA-2.png
END:VEVENT
END:VCALENDAR