BEGIN:VCALENDAR
VERSION:2.0
PRODID:-//acdejatellevar.es - ECPv6.15.20//NONSGML v1.0//EN
CALSCALE:GREGORIAN
METHOD:PUBLISH
X-WR-CALNAME:acdejatellevar.es
X-ORIGINAL-URL:https://acdejatellevar.es
X-WR-CALDESC:Eventos para acdejatellevar.es
REFRESH-INTERVAL;VALUE=DURATION:PT1H
X-Robots-Tag:noindex
X-PUBLISHED-TTL:PT1H
BEGIN:VTIMEZONE
TZID:UTC
BEGIN:STANDARD
TZOFFSETFROM:+0000
TZOFFSETTO:+0000
TZNAME:UTC
DTSTART:20250101T000000
END:STANDARD
END:VTIMEZONE
BEGIN:VEVENT
DTSTART;TZID=UTC:20260318T190000
DTEND;TZID=UTC:20260318T200000
DTSTAMP:20260420T023808
CREATED:20260302T174734Z
LAST-MODIFIED:20260302T174734Z
UID:10000382-1773860400-1773864000@acdejatellevar.es
SUMMARY:Taller de Bachata
DESCRIPTION:💃 Taller de Bachata con Juan & Pepi \n🗓 Todos los miércoles🕖 Horario: 19:00h – 20:00h (o hasta finalizar los ensayos) \n📌 Taller semanal impartido por Juan & Pepi\, donde además de divertirte aprenderás nuevas figuras y reforzarás las ya conocidas.Estas clases están pensadas para que el fin de semana puedas poner en práctica lo aprendido y bailar con soltura en la fiesta de baile social de los sábados. \n✨ ¡Disfruta\, aprende y vive la Bachata en un ambiente cercano y motivador!
URL:https://acdejatellevar.es/event/taller-de-bachata-23/
CATEGORIES:Talleres Socios
ATTACH;FMTTYPE=image/png:https://acdejatellevar.es/wp-content/uploads/2025/10/TALLER-BACHATA-1.png
END:VEVENT
BEGIN:VEVENT
DTSTART;TZID=UTC:20260317T201500
DTEND;TZID=UTC:20260317T213000
DTSTAMP:20260420T023808
CREATED:20260302T173850Z
LAST-MODIFIED:20260302T173850Z
UID:10000378-1773778500-1773783000@acdejatellevar.es
SUMMARY:Taller de Kizomba - Bachata
DESCRIPTION:💃🕺 Taller de Kizomba y Bachata con Andrés & María del Carmen \n🗓 Todos los martes🕗 Horario: 20:15h – 21:30h (o hasta finalizar los ensayos) \n📌 Taller semanal impartido por Andrés & María del Carmen\, pensado para seguir avanzando en técnica y figuras de Kizomba y Bachata.Estas clases te preparan para disfrutar y poner en práctica lo aprendido durante los fines de semana en las fiestas de baile social. \n✨ ¡Ven a mejorar tu baile y comparte la pasión por la Kizomba en un ambiente divertido y motivador!
URL:https://acdejatellevar.es/event/taller-de-kizomba-bachata-7/
CATEGORIES:Talleres Socios
ATTACH;FMTTYPE=image/png:https://acdejatellevar.es/wp-content/uploads/2025/10/TALLER-KIZOMBA.png
END:VEVENT
BEGIN:VEVENT
DTSTART;TZID=UTC:20260317T193000
DTEND;TZID=UTC:20260317T201500
DTSTAMP:20260420T023808
CREATED:20260302T173300Z
LAST-MODIFIED:20260325T205418Z
UID:10000374-1773775800-1773778500@acdejatellevar.es
SUMMARY:Taller de Rumba-Bolero
DESCRIPTION:🎶 Taller de Rumba Bolero con Paco & Mariló \n🗓 Todos los martes🕢 Horario: 19:30h – 20:15h (o hasta finalizar los ensayos) \n📌 Taller semanal impartido por Paco & Mariló\, diseñado para progresar en el estilo de Rumba Bolero.Con estas clases aprenderás nuevas figuras y ganarás soltura para disfrutar al máximo en la fiesta de baile social de los sábados. \n✨ ¡Ven a mejorar tu técnica\, divertirte y compartir la pasión por el baile!
URL:https://acdejatellevar.es/event/taller-de-rumba-bolero-16/
CATEGORIES:Talleres Socios
ATTACH;FMTTYPE=image/png:https://acdejatellevar.es/wp-content/uploads/2025/10/TALLER-RUMBA-BOLERO-1.png
END:VEVENT
BEGIN:VEVENT
DTSTART;TZID=UTC:20260316T210000
DTEND;TZID=UTC:20260316T230000
DTSTAMP:20260420T023808
CREATED:20260302T172734Z
LAST-MODIFIED:20260302T172734Z
UID:10000370-1773694800-1773702000@acdejatellevar.es
SUMMARY:Taller de Quiero Ser Artista
DESCRIPTION:🎭 Taller “Quiero Ser Artista” \n🗓 Todos los lunes🕘 Horario: 21:00h – 23:00h (o hasta finalizar los ensayos) \n📌 Taller semanal dirigido por Eli\, Pastori y Carmen\, donde se preparan y ensayan los números para el espectáculo.Un espacio de aprendizaje\, creatividad y trabajo en equipo para dar forma al show. \n✨ ¡Ven y forma parte de la magia del escenario!
URL:https://acdejatellevar.es/event/taller-de-quiero-ser-artista-18/
CATEGORIES:Talleres Socios
ATTACH;FMTTYPE=image/png:https://acdejatellevar.es/wp-content/uploads/2025/10/QUIERO-SER-ARTISTA-2.png
END:VEVENT
BEGIN:VEVENT
DTSTART;TZID=UTC:20260315T183000
DTEND;TZID=UTC:20260315T203000
DTSTAMP:20260420T023808
CREATED:20260302T185213Z
LAST-MODIFIED:20260302T185213Z
UID:10000408-1773599400-1773606600@acdejatellevar.es
SUMMARY:Taller de Teatro
DESCRIPTION:🎭 Taller de Teatro con José María \n🗓 Todos los domingos🕢 Horario: 18:30h – 20:30h (o hasta finalizar los ensayos) \n📌 Taller semanal dirigido por José María\, donde se trabajan las diferentes artes escénicas y se aprenden técnicas de interpretación teatral.A lo largo del año se ensayan diversas obras de teatro\, que posteriormente se representan dentro y fuera de la asociación. \n✨ ¡Despierta tu creatividad\, mejora tu expresión y vive la magia del teatro en grupo!
URL:https://acdejatellevar.es/event/taller-de-teatro-43/
CATEGORIES:Talleres Socios
ATTACH;FMTTYPE=image/png:https://acdejatellevar.es/wp-content/uploads/2025/10/TALLER-TEATRO-1.png
END:VEVENT
BEGIN:VEVENT
DTSTART;TZID=UTC:20260314T210000
DTEND;TZID=UTC:20260315T150000
DTSTAMP:20260420T023808
CREATED:20260302T183937Z
LAST-MODIFIED:20260302T183937Z
UID:10000405-1773522000-1773586800@acdejatellevar.es
SUMMARY:Taller de
DESCRIPTION:🔥💃 Noche de Salsa en ACDejatellevar 💃🔥Advertencia: puede provocar sonrisas permanentes y ganas irresistibles de bailar. \nEste sábado 14 de marzo de 2026\, la Asociación Cultural ACDejatellevar se llena de ritmo\, sabor y buena energía con un plan imposible de rechazar. \n🕘 21:00 horas – Taller de SalsaDe la mano de Joselito\, que no solo te enseñará a moverte con estilo\, sino que además será el DJ encargado de mantener la pista viva durante toda la noche.Sí\, aprenderás los pasos… y luego tendrás la oportunidad perfecta para practicarlos (sin escapatoria elegante posible 😉). \nTanto si vienes con experiencia como si tus pies todavía están en modo “procesando instrucciones”\, este taller está pensado para disfrutar\, reír y descubrir que el ritmo lo llevas dentro. \n🕚 23:00 horas – Baile SocialLa noche continúa con música para todos los gustos. Salsa\, ritmos variados y ese ambiente que hace que el reloj pase más rápido de lo normal. \n🍷 Nuestra barra-bar estará abierta\, con tapas y bebidas listas para acompañar cada descanso estratégico… o cada celebración tras ese giro que salió perfecto. \n📍 Lugar: Calle Pino Gargalla nº 21📅 Fecha: Sábado\, 14 de marzo de 2026 \nVen solo\, en pareja o con amigos.Ven con timidez o con ganas de comerte la pista.Pero\, sobre todo… ven dispuesto a dejarte llevar. \nPorque algunas noches se recuerdan… y otras se bailan. ✨
URL:https://acdejatellevar.es/event/taller-de/
CATEGORIES:Talleres Fiestas
ATTACH;FMTTYPE=image/jpeg:https://acdejatellevar.es/wp-content/uploads/2026/03/TALLER-JOSELITO-14-3-2026.jpg
END:VEVENT
BEGIN:VEVENT
DTSTART;TZID=UTC:20260313T200000
DTEND;TZID=UTC:20260313T220000
DTSTAMP:20260420T023808
CREATED:20260302T181104Z
LAST-MODIFIED:20260302T181104Z
UID:10000401-1773432000-1773439200@acdejatellevar.es
SUMMARY:Taller de Teatro
DESCRIPTION:🎭 Taller de Teatro con José María \n🗓 Todos los viernes🕢 Horario: 20:00h – 22:00h (o hasta finalizar los ensayos) \n📌 Taller semanal dirigido por José María\, donde se trabajan las diferentes artes escénicas y se aprenden técnicas de interpretación teatral.A lo largo del año se ensayan diversas obras de teatro\, que posteriormente se representan dentro y fuera de la asociación. \n✨ ¡Despierta tu creatividad\, mejora tu expresión y vive la magia del teatro en grupo!
URL:https://acdejatellevar.es/event/taller-de-teatro-39/
CATEGORIES:Talleres Socios
ATTACH;FMTTYPE=image/png:https://acdejatellevar.es/wp-content/uploads/2025/10/TALLER-TEATRO-1.png
END:VEVENT
BEGIN:VEVENT
DTSTART;TZID=UTC:20260312T210000
DTEND;TZID=UTC:20260312T220000
DTSTAMP:20260420T023808
CREATED:20260302T180409Z
LAST-MODIFIED:20260302T180409Z
UID:10000397-1773349200-1773352800@acdejatellevar.es
SUMMARY:Taller de Tango
DESCRIPTION:🎩💃 Taller de Tango con José Antonio & Eli \n🗓 Todos los jueves🕘 Horario: 21:00h – 22:00h (o hasta finalizar los ensayos) \n📌 Taller semanal impartido por José Antonio & Eli\, donde aprenderás el arte de bailar Tango en pareja.Estas clases te permitirán disfrutar del Tango en nuestro baile social de los sábados\, así como poner en práctica lo aprendido en las milongas que celebramos el primer sábado de cada mes. \n✨ ¡Vive la pasión del Tango y mejora tu baile semana a semana!
URL:https://acdejatellevar.es/event/taller-de-tango-22/
CATEGORIES:Talleres Socios
ATTACH;FMTTYPE=image/png:https://acdejatellevar.es/wp-content/uploads/2025/10/TALLER-TANGO-1.png
END:VEVENT
BEGIN:VEVENT
DTSTART;TZID=UTC:20260312T200000
DTEND;TZID=UTC:20260312T210000
DTSTAMP:20260420T023808
CREATED:20260302T180039Z
LAST-MODIFIED:20260302T180039Z
UID:10000393-1773345600-1773349200@acdejatellevar.es
SUMMARY:Taller de Castañuelas
DESCRIPTION:🎶 Taller de Castañuelas con Julia \n🗓 Todos los jueves🕗 Horario: 20:00h – 21:00h (o hasta finalizar los ensayos) \n📌 Taller semanal dirigido por Julia\, en el que aprenderás a tocar los palillos y a bailar siguiendo el ritmo de las castañuelas.Con lo aprendido podrás bailar con palillos en pareja o acompañar canciones marcando el compás con su inconfundible sonido. \n✨ ¡Descubre la tradición\, la técnica y la alegría de las castañuelas!
URL:https://acdejatellevar.es/event/taller-de-castanuelas-22/
CATEGORIES:Talleres Socios
ATTACH;FMTTYPE=image/png:https://acdejatellevar.es/wp-content/uploads/2025/10/CASTANUELAS-JULIA-1.png
END:VEVENT
BEGIN:VEVENT
DTSTART;TZID=UTC:20260311T213000
DTEND;TZID=UTC:20260311T230000
DTSTAMP:20260420T023808
CREATED:20260302T175609Z
LAST-MODIFIED:20260302T180809Z
UID:10000389-1773264600-1773270000@acdejatellevar.es
SUMMARY:Taller de Coro
DESCRIPTION:🎼 Taller de Coro con José María \n🗓 Todos los miércoles🕤 Horario: 21:30h – 23:00h (o hasta finalizar los ensayos) \n📌 Taller semanal dirigido por José María\, donde se ensayan repertorios variados como villancicos\, sevillanas\, habaneras\, misas\, entre otros.Lo aprendido se pondrá en práctica tanto dentro como fuera de nuestra asociación\, compartiendo la música en distintos espacios y celebraciones. \n✨ ¡Únete al coro y disfruta de la magia de cantar en grupo!
URL:https://acdejatellevar.es/event/taller-de-coro-20/
CATEGORIES:Talleres Socios
ATTACH;FMTTYPE=image/png:https://acdejatellevar.es/wp-content/uploads/2025/10/TALLER-DEL-CORO-1.png
END:VEVENT
BEGIN:VEVENT
DTSTART;TZID=UTC:20260311T200000
DTEND;TZID=UTC:20260311T213000
DTSTAMP:20260420T023808
CREATED:20260302T175147Z
LAST-MODIFIED:20260302T175147Z
UID:10000385-1773259200-1773264600@acdejatellevar.es
SUMMARY:Taller de Salsa
DESCRIPTION:🔥 Taller de Salsa con Francisco & Ana \n🗓 Todos los miércoles🕗 Horario: 20:00h – 21:30h (o hasta finalizar los ensayos) \n📌 Taller semanal impartido por Francisco & Ana\, con clases divertidas y de nivel avanzado.El objetivo es seguir aprendiendo y practicando figuras en pareja\, para después disfrutar bailando los fines de semana en la fiesta de baile social. \n✨ ¡Ven a perfeccionar tu estilo\, mejorar tu técnica y pasarlo en grande con la Salsa!
URL:https://acdejatellevar.es/event/taller-de-salsa-19/
CATEGORIES:Talleres Socios
ATTACH;FMTTYPE=image/png:https://acdejatellevar.es/wp-content/uploads/2025/10/TALLER-SALSA-1.png
END:VEVENT
BEGIN:VEVENT
DTSTART;TZID=UTC:20260311T190000
DTEND;TZID=UTC:20260311T200000
DTSTAMP:20260420T023808
CREATED:20260302T174325Z
LAST-MODIFIED:20260302T174325Z
UID:10000381-1773255600-1773259200@acdejatellevar.es
SUMMARY:Taller de Bachata
DESCRIPTION:💃 Taller de Bachata con Juan & Pepi \n🗓 Todos los miércoles🕖 Horario: 19:00h – 20:00h (o hasta finalizar los ensayos) \n📌 Taller semanal impartido por Juan & Pepi\, donde además de divertirte aprenderás nuevas figuras y reforzarás las ya conocidas.Estas clases están pensadas para que el fin de semana puedas poner en práctica lo aprendido y bailar con soltura en la fiesta de baile social de los sábados. \n✨ ¡Disfruta\, aprende y vive la Bachata en un ambiente cercano y motivador!
URL:https://acdejatellevar.es/event/taller-de-bachata-22/
CATEGORIES:Talleres Socios
ATTACH;FMTTYPE=image/png:https://acdejatellevar.es/wp-content/uploads/2025/10/TALLER-BACHATA-1.png
END:VEVENT
BEGIN:VEVENT
DTSTART;TZID=UTC:20260310T201500
DTEND;TZID=UTC:20260310T213000
DTSTAMP:20260420T023808
CREATED:20260302T173805Z
LAST-MODIFIED:20260302T173805Z
UID:10000377-1773173700-1773178200@acdejatellevar.es
SUMMARY:Taller de Kizomba - Bachata
DESCRIPTION:💃🕺 Taller de Kizomba y Bachata con Andrés & María del Carmen \n🗓 Todos los martes🕗 Horario: 20:15h – 21:30h (o hasta finalizar los ensayos) \n📌 Taller semanal impartido por Andrés & María del Carmen\, pensado para seguir avanzando en técnica y figuras de Kizomba y Bachata.Estas clases te preparan para disfrutar y poner en práctica lo aprendido durante los fines de semana en las fiestas de baile social. \n✨ ¡Ven a mejorar tu baile y comparte la pasión por la Kizomba en un ambiente divertido y motivador!
URL:https://acdejatellevar.es/event/taller-de-kizomba-bachata-6/
CATEGORIES:Talleres Socios
ATTACH;FMTTYPE=image/png:https://acdejatellevar.es/wp-content/uploads/2025/10/TALLER-KIZOMBA.png
END:VEVENT
BEGIN:VEVENT
DTSTART;TZID=UTC:20260310T193000
DTEND;TZID=UTC:20260310T201500
DTSTAMP:20260420T023808
CREATED:20260302T173211Z
LAST-MODIFIED:20260325T205354Z
UID:10000373-1773171000-1773173700@acdejatellevar.es
SUMMARY:Taller de Rumba-Bolero
DESCRIPTION:🎶 Taller de Rumba Bolero con Paco & Mariló \n🗓 Todos los martes🕢 Horario: 19:30h – 20:15h (o hasta finalizar los ensayos) \n📌 Taller semanal impartido por Paco & Mariló\, diseñado para progresar en el estilo de Rumba Bolero.Con estas clases aprenderás nuevas figuras y ganarás soltura para disfrutar al máximo en la fiesta de baile social de los sábados. \n✨ ¡Ven a mejorar tu técnica\, divertirte y compartir la pasión por el baile!
URL:https://acdejatellevar.es/event/taller-de-rumba-bolero-15/
CATEGORIES:Talleres Socios
ATTACH;FMTTYPE=image/png:https://acdejatellevar.es/wp-content/uploads/2025/10/TALLER-RUMBA-BOLERO-1.png
END:VEVENT
BEGIN:VEVENT
DTSTART;TZID=UTC:20260309T210000
DTEND;TZID=UTC:20260309T230000
DTSTAMP:20260420T023808
CREATED:20260302T172646Z
LAST-MODIFIED:20260302T172646Z
UID:10000369-1773090000-1773097200@acdejatellevar.es
SUMMARY:Taller de Quiero Ser Artista
DESCRIPTION:🎭 Taller “Quiero Ser Artista” \n🗓 Todos los lunes🕘 Horario: 21:00h – 23:00h (o hasta finalizar los ensayos) \n📌 Taller semanal dirigido por Eli\, Pastori y Carmen\, donde se preparan y ensayan los números para el espectáculo.Un espacio de aprendizaje\, creatividad y trabajo en equipo para dar forma al show. \n✨ ¡Ven y forma parte de la magia del escenario!
URL:https://acdejatellevar.es/event/taller-de-quiero-ser-artista-17/
CATEGORIES:Talleres Socios
ATTACH;FMTTYPE=image/png:https://acdejatellevar.es/wp-content/uploads/2025/10/QUIERO-SER-ARTISTA-2.png
END:VEVENT
BEGIN:VEVENT
DTSTART;TZID=UTC:20260308T183000
DTEND;TZID=UTC:20260308T203000
DTSTAMP:20260420T023808
CREATED:20260302T185136Z
LAST-MODIFIED:20260302T185136Z
UID:10000407-1772994600-1773001800@acdejatellevar.es
SUMMARY:Taller de Teatro
DESCRIPTION:🎭 Taller de Teatro con José María \n🗓 Todos los domingos🕢 Horario: 18:30h – 20:30h (o hasta finalizar los ensayos) \n📌 Taller semanal dirigido por José María\, donde se trabajan las diferentes artes escénicas y se aprenden técnicas de interpretación teatral.A lo largo del año se ensayan diversas obras de teatro\, que posteriormente se representan dentro y fuera de la asociación. \n✨ ¡Despierta tu creatividad\, mejora tu expresión y vive la magia del teatro en grupo!
URL:https://acdejatellevar.es/event/taller-de-teatro-42/
CATEGORIES:Talleres Socios
ATTACH;FMTTYPE=image/png:https://acdejatellevar.es/wp-content/uploads/2025/10/TALLER-TEATRO-1.png
END:VEVENT
BEGIN:VEVENT
DTSTART;TZID=UTC:20260307T200000
DTEND;TZID=UTC:20260308T030000
DTSTAMP:20260420T023808
CREATED:20260302T181811Z
LAST-MODIFIED:20260302T183016Z
UID:10000404-1772913600-1772938800@acdejatellevar.es
SUMMARY:Milonga y Baile Social
DESCRIPTION:✨ Noche de Milonga & Baile Social en Dejatellevar ✨Donde el abrazo es arte… y el compás\, pura emoción. \nEste sábado 7 de marzo de 2026\, la Asociación Cultural Dejatellevar se transforma en un rincón de Buenos Aires para vivir una velada llena de elegancia\, pasión y miradas que dicen más que mil palabras. \n🕗 20:00 horas – MilongaContaremos con la sensibilidad musical de TDJ Carmen Villafuerte\, que será la encargada de guiar la pista y acariciar cada tanda con el equilibrio perfecto entre intensidad y poesía.Entrada Milonga: 7 € (un pequeño precio para una gran noche). \nY cuando el último tango susurre su despedida… \n🕚 23:00 horas – Baile SocialLa pista se abre a todo tipo de música\, porque sabemos que el cuerpo a veces pide tango… y otras veces pide simplemente dejarse llevar. \nNuestra barra-bar estará abierta\, con tapas y bebidas para acompañar la conversación\, recuperar energía o brindar por ese giro que salió perfecto (o por el que casi sale). \n📍 Lugar: Calle Pino Gargalla nº 21📅 Fecha: Sábado\, 7 de marzo de 2026 \nUna noche para bailar con el alma\, sonreír con elegancia y volver a casa con esa sensación maravillosa de haber vivido algo especial. \nTe esperamos… y recuerda: en la pista\, todo comienza con un paso. 💫
URL:https://acdejatellevar.es/event/milonga-y-baile-social/
CATEGORIES:Talleres Fiestas
ATTACH;FMTTYPE=image/jpeg:https://acdejatellevar.es/wp-content/uploads/2026/01/MILONGA-7-3-26.jpg
END:VEVENT
BEGIN:VEVENT
DTSTART;TZID=UTC:20260306T200000
DTEND;TZID=UTC:20260306T230000
DTSTAMP:20260420T023808
CREATED:20260302T181013Z
LAST-MODIFIED:20260302T181013Z
UID:10000400-1772827200-1772838000@acdejatellevar.es
SUMMARY:Taller de Teatro
DESCRIPTION:🎭 Taller de Teatro con José María \n🗓 Todos los viernes🕢 Horario: 20:00h – 22:00h (o hasta finalizar los ensayos) \n📌 Taller semanal dirigido por José María\, donde se trabajan las diferentes artes escénicas y se aprenden técnicas de interpretación teatral.A lo largo del año se ensayan diversas obras de teatro\, que posteriormente se representan dentro y fuera de la asociación. \n✨ ¡Despierta tu creatividad\, mejora tu expresión y vive la magia del teatro en grupo!
URL:https://acdejatellevar.es/event/taller-de-teatro-38/
CATEGORIES:Talleres Socios
ATTACH;FMTTYPE=image/png:https://acdejatellevar.es/wp-content/uploads/2025/10/TALLER-TEATRO-1.png
END:VEVENT
BEGIN:VEVENT
DTSTART;TZID=UTC:20260305T210000
DTEND;TZID=UTC:20260305T220000
DTSTAMP:20260420T023808
CREATED:20260302T180331Z
LAST-MODIFIED:20260302T180331Z
UID:10000396-1772744400-1772748000@acdejatellevar.es
SUMMARY:Taller de Tango
DESCRIPTION:🎩💃 Taller de Tango con José Antonio & Eli \n🗓 Todos los jueves🕘 Horario: 21:00h – 22:00h (o hasta finalizar los ensayos) \n📌 Taller semanal impartido por José Antonio & Eli\, donde aprenderás el arte de bailar Tango en pareja.Estas clases te permitirán disfrutar del Tango en nuestro baile social de los sábados\, así como poner en práctica lo aprendido en las milongas que celebramos el primer sábado de cada mes. \n✨ ¡Vive la pasión del Tango y mejora tu baile semana a semana!
URL:https://acdejatellevar.es/event/taller-de-tango-21/
CATEGORIES:Talleres Socios
ATTACH;FMTTYPE=image/png:https://acdejatellevar.es/wp-content/uploads/2025/10/TALLER-TANGO-1.png
END:VEVENT
BEGIN:VEVENT
DTSTART;TZID=UTC:20260305T200000
DTEND;TZID=UTC:20260305T210000
DTSTAMP:20260420T023808
CREATED:20260302T175959Z
LAST-MODIFIED:20260302T175959Z
UID:10000392-1772740800-1772744400@acdejatellevar.es
SUMMARY:Taller de Castañuelas
DESCRIPTION:🎶 Taller de Castañuelas con Julia \n🗓 Todos los jueves🕗 Horario: 20:00h – 21:00h (o hasta finalizar los ensayos) \n📌 Taller semanal dirigido por Julia\, en el que aprenderás a tocar los palillos y a bailar siguiendo el ritmo de las castañuelas.Con lo aprendido podrás bailar con palillos en pareja o acompañar canciones marcando el compás con su inconfundible sonido. \n✨ ¡Descubre la tradición\, la técnica y la alegría de las castañuelas!
URL:https://acdejatellevar.es/event/taller-de-castanuelas-21/
CATEGORIES:Talleres Socios
ATTACH;FMTTYPE=image/png:https://acdejatellevar.es/wp-content/uploads/2025/10/CASTANUELAS-JULIA-1.png
END:VEVENT
BEGIN:VEVENT
DTSTART;TZID=UTC:20260304T213000
DTEND;TZID=UTC:20260304T230000
DTSTAMP:20260420T023808
CREATED:20260302T175452Z
LAST-MODIFIED:20260302T175452Z
UID:10000388-1772659800-1772665200@acdejatellevar.es
SUMMARY:Taller de Coro
DESCRIPTION:🎼 Taller de Coro con José María \n🗓 Todos los miércoles🕤 Horario: 21:30h – 23:00h (o hasta finalizar los ensayos) \n📌 Taller semanal dirigido por José María\, donde se ensayan repertorios variados como villancicos\, sevillanas\, habaneras\, misas\, entre otros.Lo aprendido se pondrá en práctica tanto dentro como fuera de nuestra asociación\, compartiendo la música en distintos espacios y celebraciones. \n✨ ¡Únete al coro y disfruta de la magia de cantar en grupo!
URL:https://acdejatellevar.es/event/taller-de-coro-19/
CATEGORIES:Talleres Socios
ATTACH;FMTTYPE=image/png:https://acdejatellevar.es/wp-content/uploads/2025/10/TALLER-DEL-CORO-1.png
END:VEVENT
BEGIN:VEVENT
DTSTART;TZID=UTC:20260304T200000
DTEND;TZID=UTC:20260304T213000
DTSTAMP:20260420T023808
CREATED:20260302T175100Z
LAST-MODIFIED:20260302T175100Z
UID:10000384-1772654400-1772659800@acdejatellevar.es
SUMMARY:Taller de Salsa
DESCRIPTION:🔥 Taller de Salsa con Francisco & Ana \n🗓 Todos los miércoles🕗 Horario: 20:00h – 21:30h (o hasta finalizar los ensayos) \n📌 Taller semanal impartido por Francisco & Ana\, con clases divertidas y de nivel avanzado.El objetivo es seguir aprendiendo y practicando figuras en pareja\, para después disfrutar bailando los fines de semana en la fiesta de baile social. \n✨ ¡Ven a perfeccionar tu estilo\, mejorar tu técnica y pasarlo en grande con la Salsa!
URL:https://acdejatellevar.es/event/taller-de-salsa-18/
CATEGORIES:Talleres Socios
ATTACH;FMTTYPE=image/png:https://acdejatellevar.es/wp-content/uploads/2025/10/TALLER-SALSA-1.png
END:VEVENT
BEGIN:VEVENT
DTSTART;TZID=UTC:20260304T190000
DTEND;TZID=UTC:20260304T200000
DTSTAMP:20260420T023808
CREATED:20260302T174218Z
LAST-MODIFIED:20260302T174218Z
UID:10000380-1772650800-1772654400@acdejatellevar.es
SUMMARY:Taller de Bachata
DESCRIPTION:💃 Taller de Bachata con Juan & Pepi \n🗓 Todos los miércoles🕖 Horario: 19:00h – 20:00h (o hasta finalizar los ensayos) \n📌 Taller semanal impartido por Juan & Pepi\, donde además de divertirte aprenderás nuevas figuras y reforzarás las ya conocidas.Estas clases están pensadas para que el fin de semana puedas poner en práctica lo aprendido y bailar con soltura en la fiesta de baile social de los sábados. \n✨ ¡Disfruta\, aprende y vive la Bachata en un ambiente cercano y motivador!
URL:https://acdejatellevar.es/event/taller-de-bachata-21/
CATEGORIES:Talleres Socios
ATTACH;FMTTYPE=image/png:https://acdejatellevar.es/wp-content/uploads/2025/10/TALLER-BACHATA-1.png
END:VEVENT
BEGIN:VEVENT
DTSTART;TZID=UTC:20260303T201500
DTEND;TZID=UTC:20260303T213000
DTSTAMP:20260420T023808
CREATED:20260302T173634Z
LAST-MODIFIED:20260302T173634Z
UID:10000376-1772568900-1772573400@acdejatellevar.es
SUMMARY:Taller de Kizomba - Bachata
DESCRIPTION:💃🕺 Taller de Kizomba y Bachata con Andrés & María del Carmen \n🗓 Todos los martes🕗 Horario: 20:15h – 21:30h (o hasta finalizar los ensayos) \n📌 Taller semanal impartido por Andrés & María del Carmen\, pensado para seguir avanzando en técnica y figuras de Kizomba y Bachata.Estas clases te preparan para disfrutar y poner en práctica lo aprendido durante los fines de semana en las fiestas de baile social. \n✨ ¡Ven a mejorar tu baile y comparte la pasión por la Kizomba en un ambiente divertido y motivador!
URL:https://acdejatellevar.es/event/taller-de-kizomba-bachata-5/
CATEGORIES:Talleres Socios
ATTACH;FMTTYPE=image/png:https://acdejatellevar.es/wp-content/uploads/2025/10/TALLER-KIZOMBA.png
END:VEVENT
BEGIN:VEVENT
DTSTART;TZID=UTC:20260303T193000
DTEND;TZID=UTC:20260303T201500
DTSTAMP:20260420T023808
CREATED:20260302T173106Z
LAST-MODIFIED:20260325T205328Z
UID:10000372-1772566200-1772568900@acdejatellevar.es
SUMMARY:Taller de Rumba-Bolero
DESCRIPTION:🎶 Taller de Rumba Bolero con Paco & Mariló \n🗓 Todos los martes🕢 Horario: 19:30h – 20:15h (o hasta finalizar los ensayos) \n📌 Taller semanal impartido por Paco & Mariló\, diseñado para progresar en el estilo de Rumba Bolero.Con estas clases aprenderás nuevas figuras y ganarás soltura para disfrutar al máximo en la fiesta de baile social de los sábados. \n✨ ¡Ven a mejorar tu técnica\, divertirte y compartir la pasión por el baile!
URL:https://acdejatellevar.es/event/taller-de-rumba-bolero-14/
CATEGORIES:Talleres Socios
ATTACH;FMTTYPE=image/png:https://acdejatellevar.es/wp-content/uploads/2025/10/TALLER-RUMBA-BOLERO-1.png
END:VEVENT
BEGIN:VEVENT
DTSTART;TZID=UTC:20260302T210000
DTEND;TZID=UTC:20260302T230000
DTSTAMP:20260420T023808
CREATED:20260302T172554Z
LAST-MODIFIED:20260302T172554Z
UID:10000368-1772485200-1772492400@acdejatellevar.es
SUMMARY:Taller de Quiero Ser Artista
DESCRIPTION:🎭 Taller “Quiero Ser Artista” \n🗓 Todos los lunes🕘 Horario: 21:00h – 23:00h (o hasta finalizar los ensayos) \n📌 Taller semanal dirigido por Eli\, Pastori y Carmen\, donde se preparan y ensayan los números para el espectáculo.Un espacio de aprendizaje\, creatividad y trabajo en equipo para dar forma al show. \n✨ ¡Ven y forma parte de la magia del escenario!
URL:https://acdejatellevar.es/event/taller-de-quiero-ser-artista-16/
CATEGORIES:Talleres Socios
ATTACH;FMTTYPE=image/png:https://acdejatellevar.es/wp-content/uploads/2025/10/QUIERO-SER-ARTISTA-2.png
END:VEVENT
BEGIN:VEVENT
DTSTART;TZID=UTC:20260301T183000
DTEND;TZID=UTC:20260301T203000
DTSTAMP:20260420T023808
CREATED:20260302T171612Z
LAST-MODIFIED:20260302T171612Z
UID:10000366-1772389800-1772397000@acdejatellevar.es
SUMMARY:Taller de Teatro
DESCRIPTION:🎭 Taller de Teatro con José María \n🗓 Todos los domingos🕢 Horario: 18:30h – 20:30h (o hasta finalizar los ensayos) \n📌 Taller semanal dirigido por José María\, donde se trabajan las diferentes artes escénicas y se aprenden técnicas de interpretación teatral.A lo largo del año se ensayan diversas obras de teatro\, que posteriormente se representan dentro y fuera de la asociación. \n✨ ¡Despierta tu creatividad\, mejora tu expresión y vive la magia del teatro en grupo!
URL:https://acdejatellevar.es/event/taller-de-teatro-37/
CATEGORIES:Talleres Socios
ATTACH;FMTTYPE=image/png:https://acdejatellevar.es/wp-content/uploads/2025/10/TALLER-TEATRO-1.png
END:VEVENT
BEGIN:VEVENT
DTSTART;TZID=UTC:20260301T110000
DTEND;TZID=UTC:20260301T133000
DTSTAMP:20260420T023808
CREATED:20260302T172005Z
LAST-MODIFIED:20260302T172005Z
UID:10000367-1772362800-1772371800@acdejatellevar.es
SUMMARY:Taller de Parapekes
DESCRIPTION:🎈 Taller Parapekes \n🗓 Taller mensual – fines de semana por la mañana👩‍🏫 Dirigido por Inés\, Carmen\, Eli y Pastori  \n🕗 Horario: 11:00h – 13:30h (o hasta finalizar los ensayos) \n📌 En este divertido taller se preparan números infantiles llenos de color\, alegría y creatividad\, con el objetivo de desarrollar un espectáculo ameno y brillante para los más pequeños.Está especialmente pensado para fomentar la animación infantil\, el trabajo en equipo y la expresión artística de manera lúdica y participativa. \n✨ ¡Un espacio donde los peques se divierten\, aprenden y sueñan en grande!
URL:https://acdejatellevar.es/event/taller-de-parapekes-7/
CATEGORIES:Talleres Socios
ATTACH;FMTTYPE=image/png:https://acdejatellevar.es/wp-content/uploads/2025/10/PARAPEKES-3.png
END:VEVENT
BEGIN:VEVENT
DTSTART;TZID=UTC:20260228T210000
DTEND;TZID=UTC:20260301T030000
DTSTAMP:20260420T023808
CREATED:20260203T001936Z
LAST-MODIFIED:20260203T001936Z
UID:10000362-1772312400-1772334000@acdejatellevar.es
SUMMARY:Taller de Kizomba + Baile Social
DESCRIPTION:📅 Taller de Kizomba + Fiesta SBK con Josema \n🕘 Horario del taller: 21:00h – 23:00h💃 Impartido por Josema\, quien compartirá su experiencia y pasión por la Kizomba en un taller dinámico y divertido. \n🎶 Después del taller:A partir de las 23:00h\, Josema se pondrá a los mandos como DJ\, ofreciendo una selección de música SBK (Salsa\, Bachata\, Kizomba) y otros ritmos variados para que disfrutes bailando hasta el cierre. \n⏰ Horario de la fiesta: 23:00h – 03:00h (cierre de la asociación) \n✨ ¡No te pierdas esta noche de baile\, aprendizaje y diversión en un ambiente único!
URL:https://acdejatellevar.es/event/taller-de-kizomba-baile-social/
CATEGORIES:Talleres Fiestas
ATTACH;FMTTYPE=image/jpeg:https://acdejatellevar.es/wp-content/uploads/2026/01/TALLER-KIZOMBA-28-2-26-scaled.jpg
END:VEVENT
BEGIN:VEVENT
DTSTART;TZID=UTC:20260227T200000
DTEND;TZID=UTC:20260227T220000
DTSTAMP:20260420T023808
CREATED:20260202T192522Z
LAST-MODIFIED:20260202T192522Z
UID:10000353-1772222400-1772229600@acdejatellevar.es
SUMMARY:Taller de Teatro
DESCRIPTION:🎭 Taller de Teatro con José María \n🗓 Todos los viernes🕢 Horario: 20:00h – 22:00h (o hasta finalizar los ensayos) \n📌 Taller semanal dirigido por José María\, donde se trabajan las diferentes artes escénicas y se aprenden técnicas de interpretación teatral.A lo largo del año se ensayan diversas obras de teatro\, que posteriormente se representan dentro y fuera de la asociación. \n✨ ¡Despierta tu creatividad\, mejora tu expresión y vive la magia del teatro en grupo!
URL:https://acdejatellevar.es/event/taller-de-teatro-33/
CATEGORIES:Talleres Socios
ATTACH;FMTTYPE=image/png:https://acdejatellevar.es/wp-content/uploads/2025/10/TALLER-TEATRO-1.png
END:VEVENT
END:VCALENDAR