BEGIN:VCALENDAR
VERSION:2.0
PRODID:-//acdejatellevar.es - ECPv6.15.20//NONSGML v1.0//EN
CALSCALE:GREGORIAN
METHOD:PUBLISH
X-WR-CALNAME:acdejatellevar.es
X-ORIGINAL-URL:https://acdejatellevar.es
X-WR-CALDESC:Eventos para acdejatellevar.es
REFRESH-INTERVAL;VALUE=DURATION:PT1H
X-Robots-Tag:noindex
X-PUBLISHED-TTL:PT1H
BEGIN:VTIMEZONE
TZID:Europe/Madrid
BEGIN:DAYLIGHT
TZOFFSETFROM:+0100
TZOFFSETTO:+0200
TZNAME:CEST
DTSTART:20240331T010000
END:DAYLIGHT
BEGIN:STANDARD
TZOFFSETFROM:+0200
TZOFFSETTO:+0100
TZNAME:CET
DTSTART:20241027T010000
END:STANDARD
BEGIN:DAYLIGHT
TZOFFSETFROM:+0100
TZOFFSETTO:+0200
TZNAME:CEST
DTSTART:20250330T010000
END:DAYLIGHT
BEGIN:STANDARD
TZOFFSETFROM:+0200
TZOFFSETTO:+0100
TZNAME:CET
DTSTART:20251026T010000
END:STANDARD
BEGIN:DAYLIGHT
TZOFFSETFROM:+0100
TZOFFSETTO:+0200
TZNAME:CEST
DTSTART:20260329T010000
END:DAYLIGHT
BEGIN:STANDARD
TZOFFSETFROM:+0200
TZOFFSETTO:+0100
TZNAME:CET
DTSTART:20261025T010000
END:STANDARD
END:VTIMEZONE
BEGIN:VTIMEZONE
TZID:UTC
BEGIN:STANDARD
TZOFFSETFROM:+0000
TZOFFSETTO:+0000
TZNAME:UTC
DTSTART:20240101T000000
END:STANDARD
END:VTIMEZONE
BEGIN:VEVENT
DTSTART;TZID=Europe/Madrid:20251002T210000
DTEND;TZID=Europe/Madrid:20251002T220000
DTSTAMP:20260421T041951
CREATED:20251004T162028Z
LAST-MODIFIED:20251208T235530Z
UID:10000152-1759438800-1759442400@acdejatellevar.es
SUMMARY:Taller de Tango
DESCRIPTION:🎩💃 Taller de Tango con José Antonio & Eli \n🗓 Todos los jueves🕘 Horario: 21:00h – 22:00h (o hasta finalizar los ensayos) \n📌 Taller semanal impartido por José Antonio & Eli\, donde aprenderás el arte de bailar Tango en pareja.Estas clases te permitirán disfrutar del Tango en nuestro baile social de los sábados\, así como poner en práctica lo aprendido en las milongas que celebramos el primer sábado de cada mes. \n✨ ¡Vive la pasión del Tango y mejora tu baile semana a semana!
URL:https://acdejatellevar.es/event/taller-de-tango/
LOCATION:ACDÉJATELLEVAR\, PINO GARGALLA Nº 3\, SEVILLA\, Spain
CATEGORIES:Talleres Socios
ATTACH;FMTTYPE=image/png:https://acdejatellevar.es/wp-content/uploads/2025/10/TALLER-TANGO-1.png
END:VEVENT
BEGIN:VEVENT
DTSTART;TZID=Europe/Madrid:20251002T200000
DTEND;TZID=Europe/Madrid:20251002T210000
DTSTAMP:20260421T041951
CREATED:20251004T160903Z
LAST-MODIFIED:20251004T214003Z
UID:10000146-1759435200-1759438800@acdejatellevar.es
SUMMARY:Taller de Castañuelas
DESCRIPTION:🎶 Taller de Castañuelas con Julia \n🗓 Todos los jueves🕗 Horario: 20:00h – 21:00h (o hasta finalizar los ensayos) \n📌 Taller semanal dirigido por Julia\, en el que aprenderás a tocar los palillos y a bailar siguiendo el ritmo de las castañuelas.Con lo aprendido podrás bailar con palillos en pareja o acompañar canciones marcando el compás con su inconfundible sonido. \n✨ ¡Descubre la tradición\, la técnica y la alegría de las castañuelas!
URL:https://acdejatellevar.es/event/taller-de-castanuelas/
LOCATION:ACDÉJATELLEVAR\, PINO GARGALLA Nº 3\, SEVILLA\, Spain
CATEGORIES:Talleres Socios
ATTACH;FMTTYPE=image/png:https://acdejatellevar.es/wp-content/uploads/2025/10/CASTANUELAS-JULIA-1.png
END:VEVENT
BEGIN:VEVENT
DTSTART;TZID=UTC:20251001T213000
DTEND;TZID=UTC:20251001T230000
DTSTAMP:20260421T041951
CREATED:20251004T003502Z
LAST-MODIFIED:20251208T235611Z
UID:10000141-1759354200-1759359600@acdejatellevar.es
SUMMARY:Taller de Coro
DESCRIPTION:🎼 Taller de Coro con José María \n🗓 Todos los miércoles🕤 Horario: 21:30h – 23:00h (o hasta finalizar los ensayos) \n📌 Taller semanal dirigido por José María\, donde se ensayan repertorios variados como villancicos\, sevillanas\, habaneras\, misas\, entre otros.Lo aprendido se pondrá en práctica tanto dentro como fuera de nuestra asociación\, compartiendo la música en distintos espacios y celebraciones. \n✨ ¡Únete al coro y disfruta de la magia de cantar en grupo!
URL:https://acdejatellevar.es/event/taller-de-coro/
LOCATION:ACDÉJATELLEVAR\, PINO GARGALLA Nº 3\, SEVILLA\, Spain
CATEGORIES:Talleres Socios
ATTACH;FMTTYPE=image/png:https://acdejatellevar.es/wp-content/uploads/2025/10/TALLER-DEL-CORO-1.png
END:VEVENT
BEGIN:VEVENT
DTSTART;TZID=Europe/Madrid:20251001T200000
DTEND;TZID=Europe/Madrid:20251001T213000
DTSTAMP:20260421T041951
CREATED:20251004T000459Z
LAST-MODIFIED:20251004T213552Z
UID:10000136-1759348800-1759354200@acdejatellevar.es
SUMMARY:Taller de Salsa
DESCRIPTION:🔥 Taller de Salsa con Francisco & Ana \n🗓 Todos los miércoles🕗 Horario: 20:00h – 21:30h (o hasta finalizar los ensayos) \n📌 Taller semanal impartido por Francisco & Ana\, con clases divertidas y de nivel avanzado.El objetivo es seguir aprendiendo y practicando figuras en pareja\, para después disfrutar bailando los fines de semana en la fiesta de baile social. \n✨ ¡Ven a perfeccionar tu estilo\, mejorar tu técnica y pasarlo en grande con la Salsa!
URL:https://acdejatellevar.es/event/taller-de-salsa/
LOCATION:ACDÉJATELLEVAR\, PINO GARGALLA Nº 3\, SEVILLA\, Spain
CATEGORIES:Talleres Socios
ATTACH;FMTTYPE=image/png:https://acdejatellevar.es/wp-content/uploads/2025/10/TALLER-SALSA-1.png
END:VEVENT
BEGIN:VEVENT
DTSTART;TZID=UTC:20251001T190000
DTEND;TZID=UTC:20251001T200000
DTSTAMP:20260421T041951
CREATED:20251003T235120Z
LAST-MODIFIED:20251004T213530Z
UID:10000131-1759345200-1759348800@acdejatellevar.es
SUMMARY:Taller de Bachata
DESCRIPTION:💃 Taller de Bachata con Juan & Pepi \n🗓 Todos los miércoles🕖 Horario: 19:00h – 20:00h (o hasta finalizar los ensayos) \n📌 Taller semanal impartido por Juan & Pepi\, donde además de divertirte aprenderás nuevas figuras y reforzarás las ya conocidas.Estas clases están pensadas para que el fin de semana puedas poner en práctica lo aprendido y bailar con soltura en la fiesta de baile social de los sábados. \n✨ ¡Disfruta\, aprende y vive la Bachata en un ambiente cercano y motivador!
URL:https://acdejatellevar.es/event/taller-de-bachata/
LOCATION:ACDÉJATELLEVAR\, PINO GARGALLA Nº 3\, SEVILLA\, Spain
CATEGORIES:Talleres Socios
END:VEVENT
END:VCALENDAR