BEGIN:VCALENDAR
VERSION:2.0
PRODID:-//acdejatellevar.es - ECPv6.15.20//NONSGML v1.0//EN
CALSCALE:GREGORIAN
METHOD:PUBLISH
X-ORIGINAL-URL:https://acdejatellevar.es
X-WR-CALDESC:Eventos para acdejatellevar.es
REFRESH-INTERVAL;VALUE=DURATION:PT1H
X-Robots-Tag:noindex
X-PUBLISHED-TTL:PT1H
BEGIN:VTIMEZONE
TZID:UTC
BEGIN:STANDARD
TZOFFSETFROM:+0000
TZOFFSETTO:+0000
TZNAME:UTC
DTSTART:20250101T000000
END:STANDARD
END:VTIMEZONE
BEGIN:VEVENT
DTSTART;TZID=UTC:20260227T200000
DTEND;TZID=UTC:20260227T220000
DTSTAMP:20260419T201335
CREATED:20260202T192522Z
LAST-MODIFIED:20260202T192522Z
UID:10000353-1772222400-1772229600@acdejatellevar.es
SUMMARY:Taller de Teatro
DESCRIPTION:🎭 Taller de Teatro con José María \n🗓 Todos los viernes🕢 Horario: 20:00h – 22:00h (o hasta finalizar los ensayos) \n📌 Taller semanal dirigido por José María\, donde se trabajan las diferentes artes escénicas y se aprenden técnicas de interpretación teatral.A lo largo del año se ensayan diversas obras de teatro\, que posteriormente se representan dentro y fuera de la asociación. \n✨ ¡Despierta tu creatividad\, mejora tu expresión y vive la magia del teatro en grupo!
URL:https://acdejatellevar.es/event/taller-de-teatro-33/
CATEGORIES:Talleres Socios
ATTACH;FMTTYPE=image/png:https://acdejatellevar.es/wp-content/uploads/2025/10/TALLER-TEATRO-1.png
END:VEVENT
BEGIN:VEVENT
DTSTART;TZID=UTC:20260226T210000
DTEND;TZID=UTC:20260226T220000
DTSTAMP:20260419T201335
CREATED:20260202T191802Z
LAST-MODIFIED:20260202T191802Z
UID:10000349-1772139600-1772143200@acdejatellevar.es
SUMMARY:Taller de Tango
DESCRIPTION:🎩💃 Taller de Tango con José Antonio & Eli \n🗓 Todos los jueves🕘 Horario: 21:00h – 22:00h (o hasta finalizar los ensayos) \n📌 Taller semanal impartido por José Antonio & Eli\, donde aprenderás el arte de bailar Tango en pareja.Estas clases te permitirán disfrutar del Tango en nuestro baile social de los sábados\, así como poner en práctica lo aprendido en las milongas que celebramos el primer sábado de cada mes. \n✨ ¡Vive la pasión del Tango y mejora tu baile semana a semana!
URL:https://acdejatellevar.es/event/taller-de-tango-20/
CATEGORIES:Talleres Socios
ATTACH;FMTTYPE=image/png:https://acdejatellevar.es/wp-content/uploads/2025/10/TALLER-TANGO-1.png
END:VEVENT
BEGIN:VEVENT
DTSTART;TZID=UTC:20260226T200000
DTEND;TZID=UTC:20260226T210000
DTSTAMP:20260419T201335
CREATED:20260202T190024Z
LAST-MODIFIED:20260202T190024Z
UID:10000345-1772136000-1772139600@acdejatellevar.es
SUMMARY:Taller de Castañuelas
DESCRIPTION:🎶 Taller de Castañuelas con Julia \n🗓 Todos los jueves🕗 Horario: 20:00h – 21:00h (o hasta finalizar los ensayos) \n📌 Taller semanal dirigido por Julia\, en el que aprenderás a tocar los palillos y a bailar siguiendo el ritmo de las castañuelas.Con lo aprendido podrás bailar con palillos en pareja o acompañar canciones marcando el compás con su inconfundible sonido. \n✨ ¡Descubre la tradición\, la técnica y la alegría de las castañuelas!
URL:https://acdejatellevar.es/event/taller-de-castanuelas-20/
CATEGORIES:Talleres Socios
ATTACH;FMTTYPE=image/png:https://acdejatellevar.es/wp-content/uploads/2025/10/CASTANUELAS-JULIA-1.png
END:VEVENT
BEGIN:VEVENT
DTSTART;TZID=UTC:20260225T213000
DTEND;TZID=UTC:20260225T230000
DTSTAMP:20260419T201335
CREATED:20260202T230513Z
LAST-MODIFIED:20260202T230513Z
UID:10000357-1772055000-1772060400@acdejatellevar.es
SUMMARY:Taller de Coro
DESCRIPTION:🎼 Taller de Coro con José María \n🗓 Todos los miércoles🕤 Horario: 21:30h – 23:00h (o hasta finalizar los ensayos) \n📌 Taller semanal dirigido por José María\, donde se ensayan repertorios variados como villancicos\, sevillanas\, habaneras\, misas\, entre otros.Lo aprendido se pondrá en práctica tanto dentro como fuera de nuestra asociación\, compartiendo la música en distintos espacios y celebraciones. \n✨ ¡Únete al coro y disfruta de la magia de cantar en grupo!
URL:https://acdejatellevar.es/event/taller-de-coro-18/
CATEGORIES:Talleres Socios
ATTACH;FMTTYPE=image/png:https://acdejatellevar.es/wp-content/uploads/2025/10/TALLER-DEL-CORO-1.png
END:VEVENT
BEGIN:VEVENT
DTSTART;TZID=UTC:20260225T200000
DTEND;TZID=UTC:20260225T213000
DTSTAMP:20260419T201335
CREATED:20260202T004540Z
LAST-MODIFIED:20260202T005506Z
UID:10000341-1772049600-1772055000@acdejatellevar.es
SUMMARY:Taller de Salsa
DESCRIPTION:🔥 Taller de Salsa con Francisco & Ana \n🗓 Todos los miércoles🕗 Horario: 20:00h – 21:30h (o hasta finalizar los ensayos) \n📌 Taller semanal impartido por Francisco & Ana\, con clases divertidas y de nivel avanzado.El objetivo es seguir aprendiendo y practicando figuras en pareja\, para después disfrutar bailando los fines de semana en la fiesta de baile social. \n✨ ¡Ven a perfeccionar tu estilo\, mejorar tu técnica y pasarlo en grande con la Salsa!
URL:https://acdejatellevar.es/event/taller-de-salsa-17/
CATEGORIES:Talleres Socios
ATTACH;FMTTYPE=image/png:https://acdejatellevar.es/wp-content/uploads/2025/10/TALLER-SALSA-1.png
END:VEVENT
BEGIN:VEVENT
DTSTART;TZID=UTC:20260225T190000
DTEND;TZID=UTC:20260225T200000
DTSTAMP:20260419T201335
CREATED:20260202T000443Z
LAST-MODIFIED:20260202T000443Z
UID:10000337-1772046000-1772049600@acdejatellevar.es
SUMMARY:Taller de Bachata
DESCRIPTION:💃 Taller de Bachata con Juan & Pepi \n🗓 Todos los miércoles🕖 Horario: 19:00h – 20:00h (o hasta finalizar los ensayos) \n📌 Taller semanal impartido por Juan & Pepi\, donde además de divertirte aprenderás nuevas figuras y reforzarás las ya conocidas.Estas clases están pensadas para que el fin de semana puedas poner en práctica lo aprendido y bailar con soltura en la fiesta de baile social de los sábados. \n✨ ¡Disfruta\, aprende y vive la Bachata en un ambiente cercano y motivador!
URL:https://acdejatellevar.es/event/taller-de-bachata-20/
CATEGORIES:Talleres Socios
ATTACH;FMTTYPE=image/png:https://acdejatellevar.es/wp-content/uploads/2025/10/TALLER-BACHATA-1.png
END:VEVENT
BEGIN:VEVENT
DTSTART;TZID=UTC:20260224T201500
DTEND;TZID=UTC:20260224T213000
DTSTAMP:20260419T201335
CREATED:20260201T232849Z
LAST-MODIFIED:20260201T232849Z
UID:10000332-1771964100-1771968600@acdejatellevar.es
SUMMARY:Taller de Kizomba - Bachata
DESCRIPTION:💃🕺 Taller de Kizomba y Bachata con Andrés & María del Carmen \n🗓 Todos los martes🕗 Horario: 20:15h – 21:30h (o hasta finalizar los ensayos) \n📌 Taller semanal impartido por Andrés & María del Carmen\, pensado para seguir avanzando en técnica y figuras de Kizomba y Bachata.Estas clases te preparan para disfrutar y poner en práctica lo aprendido durante los fines de semana en las fiestas de baile social. \n✨ ¡Ven a mejorar tu baile y comparte la pasión por la Kizomba en un ambiente divertido y motivador!
URL:https://acdejatellevar.es/event/taller-de-kizomba-bachata-4/
CATEGORIES:Talleres Socios
ATTACH;FMTTYPE=image/png:https://acdejatellevar.es/wp-content/uploads/2025/10/TALLER-KIZOMBA.png
END:VEVENT
BEGIN:VEVENT
DTSTART;TZID=UTC:20260224T193000
DTEND;TZID=UTC:20260224T201500
DTSTAMP:20260419T201335
CREATED:20260201T222522Z
LAST-MODIFIED:20260201T222522Z
UID:10000328-1771961400-1771964100@acdejatellevar.es
SUMMARY:Taller de Rumba-Bolero
DESCRIPTION:🎶 Taller de Rumba Bolero con Paco & Mariló \n🗓 Todos los martes🕢 Horario: 19:30h – 20:15h (o hasta finalizar los ensayos) \n📌 Taller semanal impartido por Paco & Mariló\, diseñado para progresar en el estilo de Rumba Bolero.Con estas clases aprenderás nuevas figuras y ganarás soltura para disfrutar al máximo en la fiesta de baile social de los sábados. \n✨ ¡Ven a mejorar tu técnica\, divertirte y compartir la pasión por el baile!
URL:https://acdejatellevar.es/event/taller-de-rumba-bolero-13/
CATEGORIES:Talleres Socios
ATTACH;FMTTYPE=image/png:https://acdejatellevar.es/wp-content/uploads/2025/10/TALLER-RUMBA-BOLERO-1.png
END:VEVENT
BEGIN:VEVENT
DTSTART;TZID=UTC:20260223T210000
DTEND;TZID=UTC:20260223T230000
DTSTAMP:20260419T201335
CREATED:20260201T133326Z
LAST-MODIFIED:20260201T133326Z
UID:10000324-1771880400-1771887600@acdejatellevar.es
SUMMARY:Taller de Quiero Ser Artista
DESCRIPTION:🎭 Taller “Quiero Ser Artista” \n🗓 Todos los lunes🕘 Horario: 21:00h – 23:00h (o hasta finalizar los ensayos) \n📌 Taller semanal dirigido por Eli\, Pastori y Carmen\, donde se preparan y ensayan los números para el espectáculo.Un espacio de aprendizaje\, creatividad y trabajo en equipo para dar forma al show. \n✨ ¡Ven y forma parte de la magia del escenario!
URL:https://acdejatellevar.es/event/taller-de-quiero-ser-artista-15/
CATEGORIES:Talleres Socios
ATTACH;FMTTYPE=image/png:https://acdejatellevar.es/wp-content/uploads/2025/10/QUIERO-SER-ARTISTA-2.png
END:VEVENT
BEGIN:VEVENT
DTSTART;TZID=UTC:20260222T183000
DTEND;TZID=UTC:20260222T203000
DTSTAMP:20260419T201335
CREATED:20260203T010833Z
LAST-MODIFIED:20260203T010833Z
UID:10000365-1771785000-1771792200@acdejatellevar.es
SUMMARY:Taller de Teatro
DESCRIPTION:🎭 Taller de Teatro con José María \n🗓 Todos los domingos🕢 Horario: 18:30h – 20:30h (o hasta finalizar los ensayos) \n📌 Taller semanal dirigido por José María\, donde se trabajan las diferentes artes escénicas y se aprenden técnicas de interpretación teatral.A lo largo del año se ensayan diversas obras de teatro\, que posteriormente se representan dentro y fuera de la asociación. \n✨ ¡Despierta tu creatividad\, mejora tu expresión y vive la magia del teatro en grupo!
URL:https://acdejatellevar.es/event/taller-de-teatro-36/
CATEGORIES:Talleres Socios
ATTACH;FMTTYPE=image/png:https://acdejatellevar.es/wp-content/uploads/2025/10/TALLER-TEATRO-1.png
END:VEVENT
BEGIN:VEVENT
DTSTART;TZID=UTC:20260221T200000
DTEND;TZID=UTC:20260222T030000
DTSTAMP:20260419T201335
CREATED:20260203T001459Z
LAST-MODIFIED:20260203T001459Z
UID:10000361-1771704000-1771729200@acdejatellevar.es
SUMMARY:Noche de Teatro y Baile Social
DESCRIPTION:🎭 Noche de Teatro en Acdejatellevar 🎭\nLa cultura y el entretenimiento se dan cita en una velada muy especial. La asociación Acdejatellevar te invita a disfrutar de una Noche de Teatro llena de humor\, talento y buena compañía. \n📅 Fecha: 21 de febrero🕗 Hora: 20:00 h📍 Lugar: Nuestra sede – Calle Pino Gargalla nº 21 \nEn esta ocasión\, tendremos el placer de presentar la obra“Mi mujer es el fontanero”\, del autor Hugo D. Marcos\,interpretada por la reconocida compañía Gárgolas Teatro. \n🎟️ Entrada gratuita \nY para completar la noche\, tras la representación:🍷 Barra-bar abierta con tapas💃🕺 Fiesta de baile social para seguir disfrutando en un ambiente distendido y animado. \nUna noche perfecta para compartir cultura\, risas y buen ambiente. ¡Te esperamos!
URL:https://acdejatellevar.es/event/noche-de-teatro-y-baile-social/
CATEGORIES:Eventos
ATTACH;FMTTYPE=image/jpeg:https://acdejatellevar.es/wp-content/uploads/2026/01/GAGOLAS-TEATRO-21-2-26-1.jpg
END:VEVENT
BEGIN:VEVENT
DTSTART;TZID=UTC:20260220T200000
DTEND;TZID=UTC:20260220T210000
DTSTAMP:20260419T201335
CREATED:20260202T192430Z
LAST-MODIFIED:20260202T192430Z
UID:10000352-1771617600-1771621200@acdejatellevar.es
SUMMARY:Taller de Teatro
DESCRIPTION:🎭 Taller de Teatro con José María \n🗓 Todos los viernes🕢 Horario: 20:00h – 22:00h (o hasta finalizar los ensayos) \n📌 Taller semanal dirigido por José María\, donde se trabajan las diferentes artes escénicas y se aprenden técnicas de interpretación teatral.A lo largo del año se ensayan diversas obras de teatro\, que posteriormente se representan dentro y fuera de la asociación. \n✨ ¡Despierta tu creatividad\, mejora tu expresión y vive la magia del teatro en grupo!
URL:https://acdejatellevar.es/event/taller-de-teatro-32/
CATEGORIES:Talleres Socios
ATTACH;FMTTYPE=image/png:https://acdejatellevar.es/wp-content/uploads/2025/10/TALLER-TEATRO-1.png
END:VEVENT
BEGIN:VEVENT
DTSTART;TZID=UTC:20260219T210000
DTEND;TZID=UTC:20260219T220000
DTSTAMP:20260419T201335
CREATED:20260202T191650Z
LAST-MODIFIED:20260202T191650Z
UID:10000348-1771534800-1771538400@acdejatellevar.es
SUMMARY:Taller de Tango
DESCRIPTION:🎩💃 Taller de Tango con José Antonio & Eli \n🗓 Todos los jueves🕘 Horario: 21:00h – 22:00h (o hasta finalizar los ensayos) \n📌 Taller semanal impartido por José Antonio & Eli\, donde aprenderás el arte de bailar Tango en pareja.Estas clases te permitirán disfrutar del Tango en nuestro baile social de los sábados\, así como poner en práctica lo aprendido en las milongas que celebramos el primer sábado de cada mes. \n✨ ¡Vive la pasión del Tango y mejora tu baile semana a semana!
URL:https://acdejatellevar.es/event/taller-de-tango-19/
CATEGORIES:Talleres Socios
ATTACH;FMTTYPE=image/png:https://acdejatellevar.es/wp-content/uploads/2025/10/TALLER-TANGO-1.png
END:VEVENT
BEGIN:VEVENT
DTSTART;TZID=UTC:20260219T200000
DTEND;TZID=UTC:20260219T210000
DTSTAMP:20260419T201335
CREATED:20260202T185812Z
LAST-MODIFIED:20260202T185812Z
UID:10000344-1771531200-1771534800@acdejatellevar.es
SUMMARY:Taller de Castañuelas
DESCRIPTION:🎶 Taller de Castañuelas con Julia \n🗓 Todos los jueves🕗 Horario: 20:00h – 21:00h (o hasta finalizar los ensayos) \n📌 Taller semanal dirigido por Julia\, en el que aprenderás a tocar los palillos y a bailar siguiendo el ritmo de las castañuelas.Con lo aprendido podrás bailar con palillos en pareja o acompañar canciones marcando el compás con su inconfundible sonido. \n✨ ¡Descubre la tradición\, la técnica y la alegría de las castañuelas!
URL:https://acdejatellevar.es/event/taller-de-castanuelas-19/
CATEGORIES:Talleres Socios
ATTACH;FMTTYPE=image/png:https://acdejatellevar.es/wp-content/uploads/2025/10/CASTANUELAS-JULIA-1.png
END:VEVENT
BEGIN:VEVENT
DTSTART;TZID=UTC:20260218T213000
DTEND;TZID=UTC:20260218T230000
DTSTAMP:20260419T201335
CREATED:20260202T230247Z
LAST-MODIFIED:20260202T230247Z
UID:10000356-1771450200-1771455600@acdejatellevar.es
SUMMARY:Taller de Coro
DESCRIPTION:🎼 Taller de Coro con José María \n🗓 Todos los miércoles🕤 Horario: 21:30h – 23:00h (o hasta finalizar los ensayos) \n📌 Taller semanal dirigido por José María\, donde se ensayan repertorios variados como villancicos\, sevillanas\, habaneras\, misas\, entre otros.Lo aprendido se pondrá en práctica tanto dentro como fuera de nuestra asociación\, compartiendo la música en distintos espacios y celebraciones. \n✨ ¡Únete al coro y disfruta de la magia de cantar en grupo!
URL:https://acdejatellevar.es/event/taller-de-coro-17/
CATEGORIES:Talleres Socios
ATTACH;FMTTYPE=image/png:https://acdejatellevar.es/wp-content/uploads/2025/10/TALLER-DEL-CORO-1.png
END:VEVENT
BEGIN:VEVENT
DTSTART;TZID=UTC:20260218T200000
DTEND;TZID=UTC:20260218T213000
DTSTAMP:20260419T201335
CREATED:20260202T004413Z
LAST-MODIFIED:20260202T004413Z
UID:10000340-1771444800-1771450200@acdejatellevar.es
SUMMARY:Taller de Salsa
DESCRIPTION:🔥 Taller de Salsa con Francisco & Ana \n🗓 Todos los miércoles🕗 Horario: 20:00h – 21:30h (o hasta finalizar los ensayos) \n📌 Taller semanal impartido por Francisco & Ana\, con clases divertidas y de nivel avanzado.El objetivo es seguir aprendiendo y practicando figuras en pareja\, para después disfrutar bailando los fines de semana en la fiesta de baile social. \n✨ ¡Ven a perfeccionar tu estilo\, mejorar tu técnica y pasarlo en grande con la Salsa!
URL:https://acdejatellevar.es/event/taller-de-salsa-16/
CATEGORIES:Talleres Socios
ATTACH;FMTTYPE=image/png:https://acdejatellevar.es/wp-content/uploads/2025/10/TALLER-SALSA-1.png
END:VEVENT
BEGIN:VEVENT
DTSTART;TZID=UTC:20260218T190000
DTEND;TZID=UTC:20260218T200000
DTSTAMP:20260419T201335
CREATED:20260202T000237Z
LAST-MODIFIED:20260202T000237Z
UID:10000336-1771441200-1771444800@acdejatellevar.es
SUMMARY:Taller de Bachata
DESCRIPTION:💃 Taller de Bachata con Juan & Pepi \n🗓 Todos los miércoles🕖 Horario: 19:00h – 20:00h (o hasta finalizar los ensayos) \n📌 Taller semanal impartido por Juan & Pepi\, donde además de divertirte aprenderás nuevas figuras y reforzarás las ya conocidas.Estas clases están pensadas para que el fin de semana puedas poner en práctica lo aprendido y bailar con soltura en la fiesta de baile social de los sábados. \n✨ ¡Disfruta\, aprende y vive la Bachata en un ambiente cercano y motivador!
URL:https://acdejatellevar.es/event/taller-de-bachata-19/
CATEGORIES:Talleres Socios
ATTACH;FMTTYPE=image/png:https://acdejatellevar.es/wp-content/uploads/2025/10/TALLER-BACHATA-1.png
END:VEVENT
BEGIN:VEVENT
DTSTART;TZID=UTC:20260217T201500
DTEND;TZID=UTC:20260217T213000
DTSTAMP:20260419T201335
CREATED:20260201T232751Z
LAST-MODIFIED:20260201T232751Z
UID:10000331-1771359300-1771363800@acdejatellevar.es
SUMMARY:Taller de Kizomba - Bachata
DESCRIPTION:💃🕺 Taller de Kizomba y Bachata con Andrés & María del Carmen \n🗓 Todos los martes🕗 Horario: 20:15h – 21:30h (o hasta finalizar los ensayos) \n📌 Taller semanal impartido por Andrés & María del Carmen\, pensado para seguir avanzando en técnica y figuras de Kizomba y Bachata.Estas clases te preparan para disfrutar y poner en práctica lo aprendido durante los fines de semana en las fiestas de baile social. \n✨ ¡Ven a mejorar tu baile y comparte la pasión por la Kizomba en un ambiente divertido y motivador!
URL:https://acdejatellevar.es/event/taller-de-kizomba-bachata-3/
CATEGORIES:Talleres Socios
ATTACH;FMTTYPE=image/png:https://acdejatellevar.es/wp-content/uploads/2025/10/TALLER-KIZOMBA.png
END:VEVENT
BEGIN:VEVENT
DTSTART;TZID=UTC:20260217T193000
DTEND;TZID=UTC:20260217T201500
DTSTAMP:20260419T201335
CREATED:20260201T222336Z
LAST-MODIFIED:20260201T222336Z
UID:10000327-1771356600-1771359300@acdejatellevar.es
SUMMARY:Taller de Rumba-Bolero
DESCRIPTION:🎶 Taller de Rumba Bolero con Paco & Mariló \n🗓 Todos los martes🕢 Horario: 19:30h – 20:15h (o hasta finalizar los ensayos) \n📌 Taller semanal impartido por Paco & Mariló\, diseñado para progresar en el estilo de Rumba Bolero.Con estas clases aprenderás nuevas figuras y ganarás soltura para disfrutar al máximo en la fiesta de baile social de los sábados. \n✨ ¡Ven a mejorar tu técnica\, divertirte y compartir la pasión por el baile!
URL:https://acdejatellevar.es/event/taller-de-rumba-bolero-12/
CATEGORIES:Talleres Socios
ATTACH;FMTTYPE=image/png:https://acdejatellevar.es/wp-content/uploads/2025/10/TALLER-RUMBA-BOLERO-1.png
END:VEVENT
BEGIN:VEVENT
DTSTART;TZID=UTC:20260216T210000
DTEND;TZID=UTC:20260216T230000
DTSTAMP:20260419T201335
CREATED:20260201T133159Z
LAST-MODIFIED:20260201T133159Z
UID:10000323-1771275600-1771282800@acdejatellevar.es
SUMMARY:Taller de Quiero Ser Artista
DESCRIPTION:🎭 Taller “Quiero Ser Artista” \n🗓 Todos los lunes🕘 Horario: 21:00h – 23:00h (o hasta finalizar los ensayos) \n📌 Taller semanal dirigido por Eli\, Pastori y Carmen\, donde se preparan y ensayan los números para el espectáculo.Un espacio de aprendizaje\, creatividad y trabajo en equipo para dar forma al show. \n✨ ¡Ven y forma parte de la magia del escenario!
URL:https://acdejatellevar.es/event/taller-de-quiero-ser-artista-14/
CATEGORIES:Talleres Socios
ATTACH;FMTTYPE=image/png:https://acdejatellevar.es/wp-content/uploads/2025/10/QUIERO-SER-ARTISTA-2.png
END:VEVENT
BEGIN:VEVENT
DTSTART;TZID=UTC:20260215T183000
DTEND;TZID=UTC:20260215T203000
DTSTAMP:20260419T201335
CREATED:20260203T010506Z
LAST-MODIFIED:20260203T010506Z
UID:10000364-1771180200-1771187400@acdejatellevar.es
SUMMARY:Taller de Teatro
DESCRIPTION:🎭 Taller de Teatro con José María \n🗓 Todos los domingos🕢 Horario: 18:30h – 20:30h (o hasta finalizar los ensayos) \n📌 Taller semanal dirigido por José María\, donde se trabajan las diferentes artes escénicas y se aprenden técnicas de interpretación teatral.A lo largo del año se ensayan diversas obras de teatro\, que posteriormente se representan dentro y fuera de la asociación. \n✨ ¡Despierta tu creatividad\, mejora tu expresión y vive la magia del teatro en grupo!
URL:https://acdejatellevar.es/event/taller-de-teatro-35/
CATEGORIES:Talleres Socios
ATTACH;FMTTYPE=image/png:https://acdejatellevar.es/wp-content/uploads/2025/10/TALLER-TEATRO-1.png
END:VEVENT
BEGIN:VEVENT
DTSTART;TZID=UTC:20260214T210000
DTEND;TZID=UTC:20260215T030000
DTSTAMP:20260419T201335
CREATED:20260202T233722Z
LAST-MODIFIED:20260202T233722Z
UID:10000360-1771102800-1771124400@acdejatellevar.es
SUMMARY:Cena de Enamorados 2026
DESCRIPTION:💖 Día de San Valentín · Cena de Enamorados 2026 💖\nCelebra el amor en una noche única y especial pensada para compartir\, disfrutar y emocionarse. Nuestra asociación te invita a una Cena de Enamorados en un ambiente elegante y moderno\, creado especialmente para vivir San Valentín como se merece. \n📅 Fecha: 14 de febrero de 2026🕘 Hora: 21:00 h📍 Lugar: Nuestra sede – Calle Pino Gargalla nº 21 \nLa velada estará amenizada con música y animaciones en directo\, a cargo del DJ José Maccclain y María del Mar\, que pondrán ritmo\, romanticismo y diversión a una noche inolvidable. \n💶 Precio de la cena: \n\n\nSocios: 30 € \n\n\nInvitados: 40 € \n\n\nDéjate envolver por la magia de San Valentín y comparte una experiencia llena de amor\, buena compañía y momentos para recordar. 💫💑
URL:https://acdejatellevar.es/event/cena-de-enamorados-2026/
CATEGORIES:Comidas
ATTACH;FMTTYPE=image/jpeg:https://acdejatellevar.es/wp-content/uploads/2026/01/CENA-ENAMORADO-14-2-26-1-scaled.jpg
END:VEVENT
BEGIN:VEVENT
DTSTART;TZID=UTC:20260213T200000
DTEND;TZID=UTC:20260213T220000
DTSTAMP:20260419T201335
CREATED:20260202T192326Z
LAST-MODIFIED:20260202T192326Z
UID:10000351-1771012800-1771020000@acdejatellevar.es
SUMMARY:Taller de Teatro
DESCRIPTION:🎭 Taller de Teatro con José María \n🗓 Todos los viernes🕢 Horario: 20:00h – 22:00h (o hasta finalizar los ensayos) \n📌 Taller semanal dirigido por José María\, donde se trabajan las diferentes artes escénicas y se aprenden técnicas de interpretación teatral.A lo largo del año se ensayan diversas obras de teatro\, que posteriormente se representan dentro y fuera de la asociación. \n✨ ¡Despierta tu creatividad\, mejora tu expresión y vive la magia del teatro en grupo!
URL:https://acdejatellevar.es/event/taller-de-teatro-31/
CATEGORIES:Talleres Socios
ATTACH;FMTTYPE=image/png:https://acdejatellevar.es/wp-content/uploads/2025/10/TALLER-TEATRO-1.png
END:VEVENT
BEGIN:VEVENT
DTSTART;TZID=UTC:20260212T210000
DTEND;TZID=UTC:20260212T220000
DTSTAMP:20260419T201335
CREATED:20260202T191525Z
LAST-MODIFIED:20260202T191525Z
UID:10000347-1770930000-1770933600@acdejatellevar.es
SUMMARY:Taller de Tango
DESCRIPTION:🎩💃 Taller de Tango con José Antonio & Eli \n🗓 Todos los jueves🕘 Horario: 21:00h – 22:00h (o hasta finalizar los ensayos) \n📌 Taller semanal impartido por José Antonio & Eli\, donde aprenderás el arte de bailar Tango en pareja.Estas clases te permitirán disfrutar del Tango en nuestro baile social de los sábados\, así como poner en práctica lo aprendido en las milongas que celebramos el primer sábado de cada mes. \n✨ ¡Vive la pasión del Tango y mejora tu baile semana a semana!
URL:https://acdejatellevar.es/event/taller-de-tango-18/
CATEGORIES:Talleres Socios
ATTACH;FMTTYPE=image/png:https://acdejatellevar.es/wp-content/uploads/2025/10/TALLER-TANGO-1.png
END:VEVENT
BEGIN:VEVENT
DTSTART;TZID=UTC:20260212T200000
DTEND;TZID=UTC:20260212T210000
DTSTAMP:20260419T201335
CREATED:20260202T185708Z
LAST-MODIFIED:20260202T185708Z
UID:10000343-1770926400-1770930000@acdejatellevar.es
SUMMARY:Taller de Castañuelas
DESCRIPTION:🎶 Taller de Castañuelas con Julia \n🗓 Todos los jueves🕗 Horario: 20:00h – 21:00h (o hasta finalizar los ensayos) \n📌 Taller semanal dirigido por Julia\, en el que aprenderás a tocar los palillos y a bailar siguiendo el ritmo de las castañuelas.Con lo aprendido podrás bailar con palillos en pareja o acompañar canciones marcando el compás con su inconfundible sonido. \n✨ ¡Descubre la tradición\, la técnica y la alegría de las castañuelas!
URL:https://acdejatellevar.es/event/taller-de-castanuelas-18/
CATEGORIES:Talleres Socios
ATTACH;FMTTYPE=image/png:https://acdejatellevar.es/wp-content/uploads/2025/10/CASTANUELAS-JULIA-1.png
END:VEVENT
BEGIN:VEVENT
DTSTART;TZID=UTC:20260211T213000
DTEND;TZID=UTC:20260211T230000
DTSTAMP:20260419T201335
CREATED:20260202T225922Z
LAST-MODIFIED:20260202T225922Z
UID:10000355-1770845400-1770850800@acdejatellevar.es
SUMMARY:Taller de Coro
DESCRIPTION:🎼 Taller de Coro con José María \n🗓 Todos los miércoles🕤 Horario: 21:30h – 23:00h (o hasta finalizar los ensayos) \n📌 Taller semanal dirigido por José María\, donde se ensayan repertorios variados como villancicos\, sevillanas\, habaneras\, misas\, entre otros.Lo aprendido se pondrá en práctica tanto dentro como fuera de nuestra asociación\, compartiendo la música en distintos espacios y celebraciones. \n✨ ¡Únete al coro y disfruta de la magia de cantar en grupo!
URL:https://acdejatellevar.es/event/taller-de-coro-16/
CATEGORIES:Talleres Socios
ATTACH;FMTTYPE=image/png:https://acdejatellevar.es/wp-content/uploads/2025/10/TALLER-DEL-CORO-1.png
END:VEVENT
BEGIN:VEVENT
DTSTART;TZID=UTC:20260211T200000
DTEND;TZID=UTC:20260211T213000
DTSTAMP:20260419T201335
CREATED:20260202T004215Z
LAST-MODIFIED:20260202T004215Z
UID:10000339-1770840000-1770845400@acdejatellevar.es
SUMMARY:Taller de Salsa
DESCRIPTION:🔥 Taller de Salsa con Francisco & Ana \n🗓 Todos los miércoles🕗 Horario: 20:00h – 21:30h (o hasta finalizar los ensayos) \n📌 Taller semanal impartido por Francisco & Ana\, con clases divertidas y de nivel avanzado.El objetivo es seguir aprendiendo y practicando figuras en pareja\, para después disfrutar bailando los fines de semana en la fiesta de baile social. \n✨ ¡Ven a perfeccionar tu estilo\, mejorar tu técnica y pasarlo en grande con la Salsa!
URL:https://acdejatellevar.es/event/taller-de-salsa-15/
CATEGORIES:Talleres Socios
ATTACH;FMTTYPE=image/png:https://acdejatellevar.es/wp-content/uploads/2025/10/TALLER-SALSA-1.png
END:VEVENT
BEGIN:VEVENT
DTSTART;TZID=UTC:20260211T190000
DTEND;TZID=UTC:20260211T213000
DTSTAMP:20260419T201335
CREATED:20260201T235121Z
LAST-MODIFIED:20260201T235121Z
UID:10000334-1770836400-1770845400@acdejatellevar.es
SUMMARY:Taller de Bachata
DESCRIPTION:💃 Taller de Bachata con Juan & Pepi \n🗓 Todos los miércoles🕖 Horario: 19:00h – 20:00h (o hasta finalizar los ensayos) \n📌 Taller semanal impartido por Juan & Pepi\, donde además de divertirte aprenderás nuevas figuras y reforzarás las ya conocidas.Estas clases están pensadas para que el fin de semana puedas poner en práctica lo aprendido y bailar con soltura en la fiesta de baile social de los sábados. \n✨ ¡Disfruta\, aprende y vive la Bachata en un ambiente cercano y motivador!
URL:https://acdejatellevar.es/event/taller-de-bachata-18/
CATEGORIES:Talleres Socios
ATTACH;FMTTYPE=image/png:https://acdejatellevar.es/wp-content/uploads/2025/10/TALLER-BACHATA-1.png
END:VEVENT
BEGIN:VEVENT
DTSTART;TZID=UTC:20260210T201500
DTEND;TZID=UTC:20260210T213000
DTSTAMP:20260419T201335
CREATED:20260201T232634Z
LAST-MODIFIED:20260201T232634Z
UID:10000330-1770754500-1770759000@acdejatellevar.es
SUMMARY:Taller de Kizomba - Bachata
DESCRIPTION:💃🕺 Taller de Kizomba y Bachata con Andrés & María del Carmen \n🗓 Todos los martes🕗 Horario: 20:15h – 21:30h (o hasta finalizar los ensayos) \n📌 Taller semanal impartido por Andrés & María del Carmen\, pensado para seguir avanzando en técnica y figuras de Kizomba y Bachata.Estas clases te preparan para disfrutar y poner en práctica lo aprendido durante los fines de semana en las fiestas de baile social. \n✨ ¡Ven a mejorar tu baile y comparte la pasión por la Kizomba en un ambiente divertido y motivador!
URL:https://acdejatellevar.es/event/taller-de-kizomba-bachata-2/
CATEGORIES:Talleres Socios
ATTACH;FMTTYPE=image/png:https://acdejatellevar.es/wp-content/uploads/2025/10/TALLER-KIZOMBA.png
END:VEVENT
BEGIN:VEVENT
DTSTART;TZID=UTC:20260210T193000
DTEND;TZID=UTC:20260210T201500
DTSTAMP:20260419T201335
CREATED:20260201T222221Z
LAST-MODIFIED:20260201T222221Z
UID:10000326-1770751800-1770754500@acdejatellevar.es
SUMMARY:Taller de Rumba-Bolero
DESCRIPTION:🎶 Taller de Rumba Bolero con Paco & Mariló \n🗓 Todos los martes🕢 Horario: 19:30h – 20:15h (o hasta finalizar los ensayos) \n📌 Taller semanal impartido por Paco & Mariló\, diseñado para progresar en el estilo de Rumba Bolero.Con estas clases aprenderás nuevas figuras y ganarás soltura para disfrutar al máximo en la fiesta de baile social de los sábados. \n✨ ¡Ven a mejorar tu técnica\, divertirte y compartir la pasión por el baile!
URL:https://acdejatellevar.es/event/taller-de-rumba-bolero-11/
CATEGORIES:Talleres Socios
ATTACH;FMTTYPE=image/png:https://acdejatellevar.es/wp-content/uploads/2025/10/TALLER-RUMBA-BOLERO-1.png
END:VEVENT
END:VCALENDAR