BEGIN:VCALENDAR
VERSION:2.0
PRODID:-//acdejatellevar.es - ECPv6.15.20//NONSGML v1.0//EN
CALSCALE:GREGORIAN
METHOD:PUBLISH
X-WR-CALNAME:acdejatellevar.es
X-ORIGINAL-URL:https://acdejatellevar.es
X-WR-CALDESC:Eventos para acdejatellevar.es
REFRESH-INTERVAL;VALUE=DURATION:PT1H
X-Robots-Tag:noindex
X-PUBLISHED-TTL:PT1H
BEGIN:VTIMEZONE
TZID:UTC
BEGIN:STANDARD
TZOFFSETFROM:+0000
TZOFFSETTO:+0000
TZNAME:UTC
DTSTART:20240101T000000
END:STANDARD
END:VTIMEZONE
BEGIN:VTIMEZONE
TZID:Europe/Madrid
BEGIN:DAYLIGHT
TZOFFSETFROM:+0100
TZOFFSETTO:+0200
TZNAME:CEST
DTSTART:20240331T010000
END:DAYLIGHT
BEGIN:STANDARD
TZOFFSETFROM:+0200
TZOFFSETTO:+0100
TZNAME:CET
DTSTART:20241027T010000
END:STANDARD
BEGIN:DAYLIGHT
TZOFFSETFROM:+0100
TZOFFSETTO:+0200
TZNAME:CEST
DTSTART:20250330T010000
END:DAYLIGHT
BEGIN:STANDARD
TZOFFSETFROM:+0200
TZOFFSETTO:+0100
TZNAME:CET
DTSTART:20251026T010000
END:STANDARD
BEGIN:DAYLIGHT
TZOFFSETFROM:+0100
TZOFFSETTO:+0200
TZNAME:CEST
DTSTART:20260329T010000
END:DAYLIGHT
BEGIN:STANDARD
TZOFFSETFROM:+0200
TZOFFSETTO:+0100
TZNAME:CET
DTSTART:20261025T010000
END:STANDARD
END:VTIMEZONE
BEGIN:VEVENT
DTSTART;TZID=UTC:20251212T193000
DTEND;TZID=UTC:20251212T220000
DTSTAMP:20260420T045927
CREATED:20251207T143544Z
LAST-MODIFIED:20251208T225246Z
UID:10000258-1765567800-1765576800@acdejatellevar.es
SUMMARY:Taller de Teatro
DESCRIPTION:🎭 Taller de Teatro con José María \n🗓 Todos los viernes🕢 Horario: 19:30h – 22:00h (o hasta finalizar los ensayos) \n📌 Taller semanal dirigido por José María\, donde se trabajan las diferentes artes escénicas y se aprenden técnicas de interpretación teatral.A lo largo del año se ensayan diversas obras de teatro\, que posteriormente se representan dentro y fuera de la asociación. \n✨ ¡Despierta tu creatividad\, mejora tu expresión y vive la magia del teatro en grupo!
URL:https://acdejatellevar.es/event/taller-de-teatro-16/
CATEGORIES:Talleres Socios
ATTACH;FMTTYPE=image/png:https://acdejatellevar.es/wp-content/uploads/2025/10/TALLER-TEATRO-1.png
END:VEVENT
BEGIN:VEVENT
DTSTART;TZID=UTC:20251211T210000
DTEND;TZID=UTC:20251211T220000
DTSTAMP:20260420T045927
CREATED:20251207T143215Z
LAST-MODIFIED:20251208T225336Z
UID:10000256-1765486800-1765490400@acdejatellevar.es
SUMMARY:Taller de Tango
DESCRIPTION:🎩💃 Taller de Tango con José Antonio & Eli \n🗓 Todos los jueves🕘 Horario: 21:00h – 22:00h (o hasta finalizar los ensayos) \n📌 Taller semanal impartido por José Antonio & Eli\, donde aprenderás el arte de bailar Tango en pareja.Estas clases te permitirán disfrutar del Tango en nuestro baile social de los sábados\, así como poner en práctica lo aprendido en las milongas que celebramos el primer sábado de cada mes. \n✨ ¡Vive la pasión del Tango y mejora tu baile semana a semana!
URL:https://acdejatellevar.es/event/taller-de-tango-11/
CATEGORIES:Talleres Socios
ATTACH;FMTTYPE=image/png:https://acdejatellevar.es/wp-content/uploads/2025/10/TALLER-TANGO-1.png
END:VEVENT
BEGIN:VEVENT
DTSTART;TZID=UTC:20251211T200000
DTEND;TZID=UTC:20251211T210000
DTSTAMP:20260420T045927
CREATED:20251207T142854Z
LAST-MODIFIED:20251207T142854Z
UID:10000253-1765483200-1765486800@acdejatellevar.es
SUMMARY:Taller de Castañuelas
DESCRIPTION:🎶 Taller de Castañuelas con Julia \n🗓 Todos los jueves🕗 Horario: 20:00h – 21:00h (o hasta finalizar los ensayos) \n📌 Taller semanal dirigido por Julia\, en el que aprenderás a tocar los palillos y a bailar siguiendo el ritmo de las castañuelas.Con lo aprendido podrás bailar con palillos en pareja o acompañar canciones marcando el compás con su inconfundible sonido. \n✨ ¡Descubre la tradición\, la técnica y la alegría de las castañuelas!
URL:https://acdejatellevar.es/event/taller-de-castanuelas-11/
CATEGORIES:Talleres Socios
ATTACH;FMTTYPE=image/png:https://acdejatellevar.es/wp-content/uploads/2025/10/CASTANUELAS-JULIA-1.png
END:VEVENT
BEGIN:VEVENT
DTSTART;TZID=UTC:20251210T213000
DTEND;TZID=UTC:20251210T230000
DTSTAMP:20260420T045927
CREATED:20251207T142507Z
LAST-MODIFIED:20251208T225450Z
UID:10000250-1765402200-1765407600@acdejatellevar.es
SUMMARY:Taller de Coro
DESCRIPTION:🎼 Taller de Coro con José María \n🗓 Todos los miércoles🕤 Horario: 21:30h – 23:00h (o hasta finalizar los ensayos) \n📌 Taller semanal dirigido por José María\, donde se ensayan repertorios variados como villancicos\, sevillanas\, habaneras\, misas\, entre otros.Lo aprendido se pondrá en práctica tanto dentro como fuera de nuestra asociación\, compartiendo la música en distintos espacios y celebraciones. \n✨ ¡Únete al coro y disfruta de la magia de cantar en grupo!
URL:https://acdejatellevar.es/event/taller-de-coro-10/
CATEGORIES:Talleres Socios
ATTACH;FMTTYPE=image/png:https://acdejatellevar.es/wp-content/uploads/2025/10/TALLER-DEL-CORO-1.png
END:VEVENT
BEGIN:VEVENT
DTSTART;TZID=UTC:20251210T200000
DTEND;TZID=UTC:20251210T213000
DTSTAMP:20260420T045927
CREATED:20251207T141906Z
LAST-MODIFIED:20251207T141906Z
UID:10000247-1765396800-1765402200@acdejatellevar.es
SUMMARY:Taller de Salsa
DESCRIPTION:🔥 Taller de Salsa con Francisco & Ana \n🗓 Todos los miércoles🕗 Horario: 20:00h – 21:30h (o hasta finalizar los ensayos) \n📌 Taller semanal impartido por Francisco & Ana\, con clases divertidas y de nivel avanzado.El objetivo es seguir aprendiendo y practicando figuras en pareja\, para después disfrutar bailando los fines de semana en la fiesta de baile social. \n✨ ¡Ven a perfeccionar tu estilo\, mejorar tu técnica y pasarlo en grande con la Salsa!
URL:https://acdejatellevar.es/event/taller-de-salsa-8/
CATEGORIES:Talleres Socios
ATTACH;FMTTYPE=image/png:https://acdejatellevar.es/wp-content/uploads/2025/10/TALLER-SALSA-1.png
END:VEVENT
BEGIN:VEVENT
DTSTART;TZID=UTC:20251210T190000
DTEND;TZID=UTC:20251210T200000
DTSTAMP:20260420T045927
CREATED:20251207T141545Z
LAST-MODIFIED:20251207T141545Z
UID:10000244-1765393200-1765396800@acdejatellevar.es
SUMMARY:Taller de Bachata
DESCRIPTION:💃 Taller de Bachata con Juan & Pepi \n🗓 Todos los miércoles🕖 Horario: 19:00h – 20:00h (o hasta finalizar los ensayos) \n📌 Taller semanal impartido por Juan & Pepi\, donde además de divertirte aprenderás nuevas figuras y reforzarás las ya conocidas.Estas clases están pensadas para que el fin de semana puedas poner en práctica lo aprendido y bailar con soltura en la fiesta de baile social de los sábados. \n✨ ¡Disfruta\, aprende y vive la Bachata en un ambiente cercano y motivador!
URL:https://acdejatellevar.es/event/taller-de-bachata-11/
CATEGORIES:Talleres Socios
ATTACH;FMTTYPE=image/png:https://acdejatellevar.es/wp-content/uploads/2025/10/TALLER-BACHATA-1.png
END:VEVENT
BEGIN:VEVENT
DTSTART;TZID=UTC:20251209T201500
DTEND;TZID=UTC:20251209T214500
DTSTAMP:20260420T045927
CREATED:20251207T141159Z
LAST-MODIFIED:20251208T225628Z
UID:10000241-1765311300-1765316700@acdejatellevar.es
SUMMARY:Taller de Kizomba
DESCRIPTION:💃🕺 Taller de Kizomba con Andrés & María del Carmen \n🗓 Todos los martes🕗 Horario: 20:15h – 21:30h (o hasta finalizar los ensayos) \n📌 Taller semanal impartido por Andrés & María del Carmen\, pensado para seguir avanzando en técnica y figuras de Kizomba.Estas clases te preparan para disfrutar y poner en práctica lo aprendido durante los fines de semana en las fiestas de baile social. \n✨ ¡Ven a mejorar tu baile y comparte la pasión por la Kizomba en un ambiente divertido y motivador!
URL:https://acdejatellevar.es/event/taller-de-kizomba-10/
CATEGORIES:Talleres Socios
ATTACH;FMTTYPE=image/png:https://acdejatellevar.es/wp-content/uploads/2025/10/TALLER-KIZOMBA.png
END:VEVENT
BEGIN:VEVENT
DTSTART;TZID=UTC:20251209T193000
DTEND;TZID=UTC:20251209T201500
DTSTAMP:20260420T045927
CREATED:20251207T010745Z
LAST-MODIFIED:20251207T080120Z
UID:10000189-1765308600-1765311300@acdejatellevar.es
SUMMARY:Taller de Rumba Bolero
DESCRIPTION:🎶 Taller de Rumba Bolero con Paco & Mariló \n🗓 Todos los martes🕢 Horario: 19:30h – 20:15h (o hasta finalizar los ensayos) \n📌 Taller semanal impartido por Paco & Mariló\, diseñado para progresar en el estilo de Rumba Bolero.Con estas clases aprenderás nuevas figuras y ganarás soltura para disfrutar al máximo en la fiesta de baile social de los sábados. \n✨ ¡Ven a mejorar tu técnica\, divertirte y compartir la pasión por el baile!
URL:https://acdejatellevar.es/event/2999/
CATEGORIES:Talleres Socios
END:VEVENT
BEGIN:VEVENT
DTSTART;TZID=UTC:20251208T000000
DTEND;TZID=UTC:20251208T120000
DTSTAMP:20260420T045927
CREATED:20251207T131029Z
LAST-MODIFIED:20251207T131029Z
UID:10000231-1765152000-1765195200@acdejatellevar.es
SUMMARY:Festivo Nacional ( Cerrado )
DESCRIPTION:🎉 Aviso Importante: ¡Cerramos por Festivo Nacional! 🎉 \nEste día festivo\, nuestra asociación hará algo verdaderamente extraordinario:descansar oficialmente (sí\, también sabemos hacerlo con mucha clase). \nEstaremos cerrados durante toda la jornada\, celebrando como corresponde a un día que une al país… o al menos nos regala una pausa gloriosa. \nVolvemos en el horario habitual\, con la energía renovada y el café en mano.Gracias por su comprensión… ¡y feliz festivo! 🇪🇸✨
URL:https://acdejatellevar.es/event/festivo-nacional-cerrado-2/
CATEGORIES:Anuncios
END:VEVENT
BEGIN:VEVENT
DTSTART;TZID=UTC:20251207T080000
DTEND;TZID=UTC:20251207T150000
DTSTAMP:20260420T045927
CREATED:20251207T222519Z
LAST-MODIFIED:20251228T102546Z
UID:10000272-1765094400-1765119600@acdejatellevar.es
SUMMARY:Milonga de Tango
DESCRIPTION:✨ ¡Una noche de pasión\, tango y celebración! ✨ \nEl sábado 7 de Diciembre de 2025 te invitamos a vivir una velada única en nuestra Milonga Especial.A partir de las 20:00 horas\, la pista se llenará de abrazos y compases porteños con la mejor selección musical de Carmen Villafuerte TDJ\, que nos hará viajar al corazón de Buenos Aires con cada tanda. \nPero la noche no termina ahí… 🌙Desde las 23:00 horas\, la pista se transforma para dar paso a un gran baile social donde todos los ritmos se encuentran: tango\, salsa\, bachata\, rock & roll\, música actual y mucho más. ¡Un espacio para bailar\, compartir y disfrutar sin límites! \n💃🕺 Ven con tus amigos\, con tu pareja o atrévete a venir solo: aquí siempre encontrarás un abrazo y buena energía. \n📍 ACDÉJATELLEVAR⏰ Sábado 1 de Noviembre\, desde las 20:00 h🎶 DJ: Carmen Villafuerte TDJ \n👉 ¡Reserva la fecha y prepárate para una noche inolvidable!
URL:https://acdejatellevar.es/event/milonga-de-tango/
CATEGORIES:Talleres Fiestas
ATTACH;FMTTYPE=image/jpeg:https://acdejatellevar.es/wp-content/uploads/2025/12/MILONGA-3-1-26.jpg
END:VEVENT
BEGIN:VEVENT
DTSTART;TZID=UTC:20251207T080000
DTEND;TZID=UTC:20251207T120000
DTSTAMP:20260420T045927
CREATED:20251207T144056Z
LAST-MODIFIED:20251207T144056Z
UID:10000261-1765094400-1765108800@acdejatellevar.es
SUMMARY:Puente Cerrado
DESCRIPTION:La Asociación permanecerá cerrada sin actividad por el puente de la Inmaculada\, volveremos a retomar la actividad el día 9 de Diciembre. \nFeliz Puente a todos.
URL:https://acdejatellevar.es/event/puente-cerrado-2/
CATEGORIES:Anuncios
END:VEVENT
BEGIN:VEVENT
DTSTART;TZID=UTC:20251206T000100
DTEND;TZID=UTC:20251206T120000
DTSTAMP:20260420T045927
CREATED:20251207T130832Z
LAST-MODIFIED:20251207T130832Z
UID:10000230-1764979260-1765022400@acdejatellevar.es
SUMMARY:Festivo Nacional ( Cerrado )
DESCRIPTION:🎉 Aviso Importante: ¡Cerramos por Festivo Nacional! 🎉 \nEste día festivo\, nuestra asociación hará algo verdaderamente extraordinario:descansar oficialmente (sí\, también sabemos hacerlo con mucha clase). \nEstaremos cerrados durante toda la jornada\, celebrando como corresponde a un día que une al país… o al menos nos regala una pausa gloriosa. \nVolvemos en el horario habitual\, con la energía renovada y el café en mano.Gracias por su comprensión… ¡y feliz festivo! 🇪🇸✨
URL:https://acdejatellevar.es/event/festivo-nacional-cerrado/
CATEGORIES:Anuncios
END:VEVENT
BEGIN:VEVENT
DTSTART;TZID=UTC:20251205T080000
DTEND;TZID=UTC:20251205T120000
DTSTAMP:20260420T045927
CREATED:20251207T144015Z
LAST-MODIFIED:20251207T144015Z
UID:10000260-1764921600-1764936000@acdejatellevar.es
SUMMARY:Puente Cerrado
DESCRIPTION:La Asociación permanecerá cerrada sin actividad por el puente de la Inmaculada\, volveremos a retomar la actividad el día 9 de Diciembre. \nFeliz Puente a todos.
URL:https://acdejatellevar.es/event/puente-cerrado/
CATEGORIES:Anuncios
END:VEVENT
BEGIN:VEVENT
DTSTART;TZID=UTC:20251204T210000
DTEND;TZID=UTC:20251204T220000
DTSTAMP:20260420T045927
CREATED:20251207T143132Z
LAST-MODIFIED:20251208T225807Z
UID:10000255-1764882000-1764885600@acdejatellevar.es
SUMMARY:Taller de Tango
DESCRIPTION:🎩💃 Taller de Tango con José Antonio & Eli \n🗓 Todos los jueves🕘 Horario: 21:00h – 22:00h (o hasta finalizar los ensayos) \n📌 Taller semanal impartido por José Antonio & Eli\, donde aprenderás el arte de bailar Tango en pareja.Estas clases te permitirán disfrutar del Tango en nuestro baile social de los sábados\, así como poner en práctica lo aprendido en las milongas que celebramos el primer sábado de cada mes. \n✨ ¡Vive la pasión del Tango y mejora tu baile semana a semana!
URL:https://acdejatellevar.es/event/taller-de-tango-10/
CATEGORIES:Talleres Socios
ATTACH;FMTTYPE=image/png:https://acdejatellevar.es/wp-content/uploads/2025/10/TALLER-TANGO-1.png
END:VEVENT
BEGIN:VEVENT
DTSTART;TZID=UTC:20251204T200000
DTEND;TZID=UTC:20251204T210000
DTSTAMP:20260420T045927
CREATED:20251207T142756Z
LAST-MODIFIED:20251207T142756Z
UID:10000252-1764878400-1764882000@acdejatellevar.es
SUMMARY:Taller de Castañuelas
DESCRIPTION:🎶 Taller de Castañuelas con Julia \n🗓 Todos los jueves🕗 Horario: 20:00h – 21:00h (o hasta finalizar los ensayos) \n📌 Taller semanal dirigido por Julia\, en el que aprenderás a tocar los palillos y a bailar siguiendo el ritmo de las castañuelas.Con lo aprendido podrás bailar con palillos en pareja o acompañar canciones marcando el compás con su inconfundible sonido. \n✨ ¡Descubre la tradición\, la técnica y la alegría de las castañuelas!
URL:https://acdejatellevar.es/event/taller-de-castanuelas-10/
CATEGORIES:Talleres Socios
ATTACH;FMTTYPE=image/png:https://acdejatellevar.es/wp-content/uploads/2025/10/CASTANUELAS-JULIA-1.png
END:VEVENT
BEGIN:VEVENT
DTSTART;TZID=UTC:20251203T213000
DTEND;TZID=UTC:20251203T230000
DTSTAMP:20260420T045927
CREATED:20251207T142429Z
LAST-MODIFIED:20251208T225928Z
UID:10000249-1764797400-1764802800@acdejatellevar.es
SUMMARY:Taller de Coro ( Suspendido )
DESCRIPTION:🎼 Taller de Coro con José María \n🗓 Todos los miércoles🕤 Horario: 21:30h – 23:00h (o hasta finalizar los ensayos) \n📌 Taller semanal dirigido por José María\, donde se ensayan repertorios variados como villancicos\, sevillanas\, habaneras\, misas\, entre otros.Lo aprendido se pondrá en práctica tanto dentro como fuera de nuestra asociación\, compartiendo la música en distintos espacios y celebraciones. \n✨ ¡Únete al coro y disfruta de la magia de cantar en grupo!
URL:https://acdejatellevar.es/event/taller-de-coro-suspendido/
CATEGORIES:Talleres Socios
ATTACH;FMTTYPE=image/png:https://acdejatellevar.es/wp-content/uploads/2025/10/TALLER-DEL-CORO-1.png
END:VEVENT
BEGIN:VEVENT
DTSTART;TZID=UTC:20251203T200000
DTEND;TZID=UTC:20251203T213000
DTSTAMP:20260420T045927
CREATED:20251207T141812Z
LAST-MODIFIED:20251207T141812Z
UID:10000246-1764792000-1764797400@acdejatellevar.es
SUMMARY:Taller de Salsa
DESCRIPTION:🔥 Taller de Salsa con Francisco & Ana \n🗓 Todos los miércoles🕗 Horario: 20:00h – 21:30h (o hasta finalizar los ensayos) \n📌 Taller semanal impartido por Francisco & Ana\, con clases divertidas y de nivel avanzado.El objetivo es seguir aprendiendo y practicando figuras en pareja\, para después disfrutar bailando los fines de semana en la fiesta de baile social. \n✨ ¡Ven a perfeccionar tu estilo\, mejorar tu técnica y pasarlo en grande con la Salsa!
URL:https://acdejatellevar.es/event/taller-de-salsa-7/
CATEGORIES:Talleres Socios
ATTACH;FMTTYPE=image/png:https://acdejatellevar.es/wp-content/uploads/2025/10/TALLER-SALSA-1.png
END:VEVENT
BEGIN:VEVENT
DTSTART;TZID=UTC:20251203T190000
DTEND;TZID=UTC:20251203T200000
DTSTAMP:20260420T045927
CREATED:20251207T141502Z
LAST-MODIFIED:20251207T141502Z
UID:10000243-1764788400-1764792000@acdejatellevar.es
SUMMARY:Taller de Bachata
DESCRIPTION:💃 Taller de Bachata con Juan & Pepi \n🗓 Todos los miércoles🕖 Horario: 19:00h – 20:00h (o hasta finalizar los ensayos) \n📌 Taller semanal impartido por Juan & Pepi\, donde además de divertirte aprenderás nuevas figuras y reforzarás las ya conocidas.Estas clases están pensadas para que el fin de semana puedas poner en práctica lo aprendido y bailar con soltura en la fiesta de baile social de los sábados. \n✨ ¡Disfruta\, aprende y vive la Bachata en un ambiente cercano y motivador!
URL:https://acdejatellevar.es/event/taller-de-bachata-10/
CATEGORIES:Talleres Socios
ATTACH;FMTTYPE=image/png:https://acdejatellevar.es/wp-content/uploads/2025/10/TALLER-BACHATA-1.png
END:VEVENT
BEGIN:VEVENT
DTSTART;TZID=UTC:20251202T201500
DTEND;TZID=UTC:20251202T214500
DTSTAMP:20260420T045927
CREATED:20251207T141057Z
LAST-MODIFIED:20251208T230027Z
UID:10000240-1764706500-1764711900@acdejatellevar.es
SUMMARY:Taller de Kizomba
DESCRIPTION:💃🕺 Taller de Kizomba con Andrés & María del Carmen \n🗓 Todos los martes🕗 Horario: 20:15h – 21:30h (o hasta finalizar los ensayos) \n📌 Taller semanal impartido por Andrés & María del Carmen\, pensado para seguir avanzando en técnica y figuras de Kizomba.Estas clases te preparan para disfrutar y poner en práctica lo aprendido durante los fines de semana en las fiestas de baile social. \n✨ ¡Ven a mejorar tu baile y comparte la pasión por la Kizomba en un ambiente divertido y motivador!
URL:https://acdejatellevar.es/event/taller-de-kizomba-9/
CATEGORIES:Talleres Socios
ATTACH;FMTTYPE=image/png:https://acdejatellevar.es/wp-content/uploads/2025/10/TALLER-KIZOMBA.png
END:VEVENT
BEGIN:VEVENT
DTSTART;TZID=UTC:20251202T193000
DTEND;TZID=UTC:20251202T201500
DTSTAMP:20260420T045927
CREATED:20251207T125047Z
LAST-MODIFIED:20251207T125047Z
UID:10000228-1764703800-1764706500@acdejatellevar.es
SUMMARY:Taller de Rumba Bolero
DESCRIPTION:🎶 Taller de Rumba Bolero con Paco & Mariló \n🗓 Todos los martes🕢 Horario: 19:30h – 20:15h (o hasta finalizar los ensayos) \n📌 Taller semanal impartido por Paco & Mariló\, diseñado para progresar en el estilo de Rumba Bolero.Con estas clases aprenderás nuevas figuras y ganarás soltura para disfrutar al máximo en la fiesta de baile social de los sábados. \n✨ ¡Ven a mejorar tu técnica\, divertirte y compartir la pasión por el baile!
URL:https://acdejatellevar.es/event/taller-de-rumba-bolero-5/
CATEGORIES:Talleres Socios
ATTACH;FMTTYPE=image/png:https://acdejatellevar.es/wp-content/uploads/2025/10/TALLER-RUMBA-BOLERO-1.png
END:VEVENT
BEGIN:VEVENT
DTSTART;TZID=UTC:20251201T210000
DTEND;TZID=UTC:20251201T230000
DTSTAMP:20260420T045927
CREATED:20251207T123703Z
LAST-MODIFIED:20251207T123703Z
UID:10000226-1764622800-1764630000@acdejatellevar.es
SUMMARY:Taller de Quiero Ser Artista (Suspendido)
DESCRIPTION:🎭 Taller “Quiero Ser Artista” \n🗓 Todos los lunes🕘 Horario: 21:00h – 23:00h (o hasta finalizar los ensayos) \n📌 Taller semanal dirigido por Eli\, Pastori y Carmen\, donde se preparan y ensayan los números para el espectáculo.Un espacio de aprendizaje\, creatividad y trabajo en equipo para dar forma al show. \n✨ ¡Ven y forma parte de la magia del escenario!
URL:https://acdejatellevar.es/event/taller-de-quiero-ser-artista-suspendido/
CATEGORIES:Talleres Socios
ATTACH;FMTTYPE=image/png:https://acdejatellevar.es/wp-content/uploads/2025/10/QUIERO-SER-ARTISTA-2.png
END:VEVENT
BEGIN:VEVENT
DTSTART;TZID=Europe/Madrid:20251130T183000
DTEND;TZID=Europe/Madrid:20251130T203000
DTSTAMP:20260420T045927
CREATED:20251103T143131Z
LAST-MODIFIED:20251208T230138Z
UID:10000176-1764527400-1764534600@acdejatellevar.es
SUMMARY:Taller de teatro.
DESCRIPTION:🎭 Taller de Teatro con José María \n🗓 Todos los domingos🕢 Horario: 18:30h – 20:30h (o hasta finalizar los ensayos) \n📌 Taller semanal dirigido por José María\, donde se trabajan las diferentes artes escénicas y se aprenden técnicas de interpretación teatral.A lo largo del año se ensayan diversas obras de teatro\, que posteriormente se representan dentro y fuera de la asociación. \n✨ ¡Despierta tu creatividad\, mejora tu expresión y vive la magia del teatro en grupo!
URL:https://acdejatellevar.es/event/taller-de-teatro-7/
LOCATION:ACDÉJATELLEVAR\, PINO GARGALLA Nº 3\, SEVILLA\, Spain
CATEGORIES:Talleres Socios
ATTACH;FMTTYPE=image/png:https://acdejatellevar.es/wp-content/uploads/2025/10/TALLER-TEATRO-1.png
END:VEVENT
BEGIN:VEVENT
DTSTART;TZID=UTC:20251129T210000
DTEND;TZID=UTC:20251130T030000
DTSTAMP:20260420T045927
CREATED:20251207T121812Z
LAST-MODIFIED:20251207T121812Z
UID:10000225-1764450000-1764471600@acdejatellevar.es
SUMMARY:Taller de Rueda + Fiesta Social
DESCRIPTION:
URL:https://acdejatellevar.es/event/taller-de-rueda-fiesta-social/
CATEGORIES:Talleres Fiestas
ATTACH;FMTTYPE=image/jpeg:https://acdejatellevar.es/wp-content/uploads/2025/12/TALLER-RUEDA-CHARI-FUENTE-29-11-25.jpg
END:VEVENT
BEGIN:VEVENT
DTSTART;TZID=UTC:20251128T193000
DTEND;TZID=UTC:20251128T220000
DTSTAMP:20260420T045927
CREATED:20251207T104658Z
LAST-MODIFIED:20251208T230252Z
UID:10000221-1764358200-1764367200@acdejatellevar.es
SUMMARY:Taller de Teatro
DESCRIPTION:🎭 Taller de Teatro con José María \n🗓 Todos los viernes🕢 Horario: 19:30h – 22:00h (o hasta finalizar los ensayos) \n📌 Taller semanal dirigido por José María\, donde se trabajan las diferentes artes escénicas y se aprenden técnicas de interpretación teatral.A lo largo del año se ensayan diversas obras de teatro\, que posteriormente se representan dentro y fuera de la asociación. \n✨ ¡Despierta tu creatividad\, mejora tu expresión y vive la magia del teatro en grupo!
URL:https://acdejatellevar.es/event/taller-de-teatro-15/
CATEGORIES:Talleres Socios
ATTACH;FMTTYPE=image/png:https://acdejatellevar.es/wp-content/uploads/2025/10/TALLER-TEATRO-1.png
END:VEVENT
BEGIN:VEVENT
DTSTART;TZID=UTC:20251127T210000
DTEND;TZID=UTC:20251127T220000
DTSTAMP:20260420T045927
CREATED:20251207T100905Z
LAST-MODIFIED:20251208T230343Z
UID:10000213-1764277200-1764280800@acdejatellevar.es
SUMMARY:Taller de Tango
DESCRIPTION:🎩💃 Taller de Tango con José Antonio & Eli \n🗓 Todos los jueves🕘 Horario: 21:00h – 22:00h (o hasta finalizar los ensayos) \n📌 Taller semanal impartido por José Antonio & Eli\, donde aprenderás el arte de bailar Tango en pareja.Estas clases te permitirán disfrutar del Tango en nuestro baile social de los sábados\, así como poner en práctica lo aprendido en las milongas que celebramos el primer sábado de cada mes. \n✨ ¡Vive la pasión del Tango y mejora tu baile semana a semana!
URL:https://acdejatellevar.es/event/taller-de-tango-9/
CATEGORIES:Talleres Socios
ATTACH;FMTTYPE=image/png:https://acdejatellevar.es/wp-content/uploads/2025/10/TALLER-TANGO-1.png
END:VEVENT
BEGIN:VEVENT
DTSTART;TZID=UTC:20251127T200000
DTEND;TZID=UTC:20251127T210000
DTSTAMP:20260420T045927
CREATED:20251207T093955Z
LAST-MODIFIED:20251207T093955Z
UID:10000209-1764273600-1764277200@acdejatellevar.es
SUMMARY:Taller de Castañuelas
DESCRIPTION:🎶 Taller de Castañuelas con Julia \n🗓 Todos los jueves🕗 Horario: 20:00h – 21:00h (o hasta finalizar los ensayos) \n📌 Taller semanal dirigido por Julia\, en el que aprenderás a tocar los palillos y a bailar siguiendo el ritmo de las castañuelas.Con lo aprendido podrás bailar con palillos en pareja o acompañar canciones marcando el compás con su inconfundible sonido. \n✨ ¡Descubre la tradición\, la técnica y la alegría de las castañuelas!
URL:https://acdejatellevar.es/event/taller-de-castanuelas-9/
CATEGORIES:Talleres Socios
ATTACH;FMTTYPE=image/png:https://acdejatellevar.es/wp-content/uploads/2025/10/CASTANUELAS-JULIA-1.png
END:VEVENT
BEGIN:VEVENT
DTSTART;TZID=UTC:20251126T210000
DTEND;TZID=UTC:20251126T230000
DTSTAMP:20260420T045927
CREATED:20251207T082716Z
LAST-MODIFIED:20251208T230441Z
UID:10000205-1764190800-1764198000@acdejatellevar.es
SUMMARY:Taller de Coro
DESCRIPTION:🎼 Taller de Coro con José María \n🗓 Todos los miércoles🕤 Horario: 21:30h – 23:00h (o hasta finalizar los ensayos) \n📌 Taller semanal dirigido por José María\, donde se ensayan repertorios variados como villancicos\, sevillanas\, habaneras\, misas\, entre otros.Lo aprendido se pondrá en práctica tanto dentro como fuera de nuestra asociación\, compartiendo la música en distintos espacios y celebraciones. \n✨ ¡Únete al coro y disfruta de la magia de cantar en grupo!
URL:https://acdejatellevar.es/event/taller-de-coro-9/
CATEGORIES:Talleres Socios
ATTACH;FMTTYPE=image/png:https://acdejatellevar.es/wp-content/uploads/2025/10/TALLER-DEL-CORO-1.png
END:VEVENT
BEGIN:VEVENT
DTSTART;TZID=UTC:20251126T200000
DTEND;TZID=UTC:20251126T213000
DTSTAMP:20260420T045927
CREATED:20251207T081530Z
LAST-MODIFIED:20251207T081530Z
UID:10000201-1764187200-1764192600@acdejatellevar.es
SUMMARY:Taller de Salsa
DESCRIPTION:🔥 Taller de Salsa con Francisco & Ana \n🗓 Todos los miércoles🕗 Horario: 20:00h – 21:30h (o hasta finalizar los ensayos) \n📌 Taller semanal impartido por Francisco & Ana\, con clases divertidas y de nivel avanzado.El objetivo es seguir aprendiendo y practicando figuras en pareja\, para después disfrutar bailando los fines de semana en la fiesta de baile social. \n✨ ¡Ven a perfeccionar tu estilo\, mejorar tu técnica y pasarlo en grande con la Salsa!
URL:https://acdejatellevar.es/event/taller-de-salsa-6/
CATEGORIES:Talleres Socios
ATTACH;FMTTYPE=image/png:https://acdejatellevar.es/wp-content/uploads/2025/10/TALLER-SALSA-1.png
END:VEVENT
BEGIN:VEVENT
DTSTART;TZID=UTC:20251126T190000
DTEND;TZID=UTC:20251126T201500
DTSTAMP:20260420T045927
CREATED:20251207T080803Z
LAST-MODIFIED:20251207T080803Z
UID:10000197-1764183600-1764188100@acdejatellevar.es
SUMMARY:Taller de Bachata
DESCRIPTION:💃 Taller de Bachata con Juan & Pepi \n🗓 Todos los miércoles🕖 Horario: 19:00h – 20:00h (o hasta finalizar los ensayos) \n📌 Taller semanal impartido por Juan & Pepi\, donde además de divertirte aprenderás nuevas figuras y reforzarás las ya conocidas.Estas clases están pensadas para que el fin de semana puedas poner en práctica lo aprendido y bailar con soltura en la fiesta de baile social de los sábados. \n✨ ¡Disfruta\, aprende y vive la Bachata en un ambiente cercano y motivador!
URL:https://acdejatellevar.es/event/taller-de-bachata-9/
CATEGORIES:Talleres Socios
ATTACH;FMTTYPE=image/png:https://acdejatellevar.es/wp-content/uploads/2025/10/TALLER-BACHATA-1.png
END:VEVENT
BEGIN:VEVENT
DTSTART;TZID=UTC:20251125T201500
DTEND;TZID=UTC:20251125T214500
DTSTAMP:20260420T045927
CREATED:20251207T075541Z
LAST-MODIFIED:20251208T230614Z
UID:10000193-1764101700-1764107100@acdejatellevar.es
SUMMARY:Taller de Kizomba
DESCRIPTION:💃🕺 Taller de Kizomba con Andrés & María del Carmen \n🗓 Todos los martes🕗 Horario: 20:15h – 21:30h (o hasta finalizar los ensayos) \n📌 Taller semanal impartido por Andrés & María del Carmen\, pensado para seguir avanzando en técnica y figuras de Kizomba.Estas clases te preparan para disfrutar y poner en práctica lo aprendido durante los fines de semana en las fiestas de baile social. \n✨ ¡Ven a mejorar tu baile y comparte la pasión por la Kizomba en un ambiente divertido y motivador!
URL:https://acdejatellevar.es/event/taller-de-kizomba-8/
CATEGORIES:Talleres Socios
ATTACH;FMTTYPE=image/png:https://acdejatellevar.es/wp-content/uploads/2025/10/TALLER-KIZOMBA.png
END:VEVENT
END:VCALENDAR