BEGIN:VCALENDAR
VERSION:2.0
PRODID:-//acdejatellevar.es - ECPv6.15.20//NONSGML v1.0//EN
CALSCALE:GREGORIAN
METHOD:PUBLISH
X-ORIGINAL-URL:https://acdejatellevar.es
X-WR-CALDESC:Eventos para acdejatellevar.es
REFRESH-INTERVAL;VALUE=DURATION:PT1H
X-Robots-Tag:noindex
X-PUBLISHED-TTL:PT1H
BEGIN:VTIMEZONE
TZID:UTC
BEGIN:STANDARD
TZOFFSETFROM:+0000
TZOFFSETTO:+0000
TZNAME:UTC
DTSTART:20240101T000000
END:STANDARD
END:VTIMEZONE
BEGIN:VTIMEZONE
TZID:Europe/Madrid
BEGIN:DAYLIGHT
TZOFFSETFROM:+0100
TZOFFSETTO:+0200
TZNAME:CEST
DTSTART:20240331T010000
END:DAYLIGHT
BEGIN:STANDARD
TZOFFSETFROM:+0200
TZOFFSETTO:+0100
TZNAME:CET
DTSTART:20241027T010000
END:STANDARD
BEGIN:DAYLIGHT
TZOFFSETFROM:+0100
TZOFFSETTO:+0200
TZNAME:CEST
DTSTART:20250330T010000
END:DAYLIGHT
BEGIN:STANDARD
TZOFFSETFROM:+0200
TZOFFSETTO:+0100
TZNAME:CET
DTSTART:20251026T010000
END:STANDARD
BEGIN:DAYLIGHT
TZOFFSETFROM:+0100
TZOFFSETTO:+0200
TZNAME:CEST
DTSTART:20260329T010000
END:DAYLIGHT
BEGIN:STANDARD
TZOFFSETFROM:+0200
TZOFFSETTO:+0100
TZNAME:CET
DTSTART:20261025T010000
END:STANDARD
END:VTIMEZONE
BEGIN:VEVENT
DTSTART;TZID=UTC:20251120T200000
DTEND;TZID=UTC:20251120T210000
DTSTAMP:20260420T081307
CREATED:20251207T093848Z
LAST-MODIFIED:20251207T093848Z
UID:10000208-1763668800-1763672400@acdejatellevar.es
SUMMARY:Taller de Castañuelas
DESCRIPTION:🎶 Taller de Castañuelas con Julia \n🗓 Todos los jueves🕗 Horario: 20:00h – 21:00h (o hasta finalizar los ensayos) \n📌 Taller semanal dirigido por Julia\, en el que aprenderás a tocar los palillos y a bailar siguiendo el ritmo de las castañuelas.Con lo aprendido podrás bailar con palillos en pareja o acompañar canciones marcando el compás con su inconfundible sonido. \n✨ ¡Descubre la tradición\, la técnica y la alegría de las castañuelas!
URL:https://acdejatellevar.es/event/taller-de-castanuelas-8/
CATEGORIES:Talleres Socios
ATTACH;FMTTYPE=image/png:https://acdejatellevar.es/wp-content/uploads/2025/10/CASTANUELAS-JULIA-1.png
END:VEVENT
BEGIN:VEVENT
DTSTART;TZID=UTC:20251119T213000
DTEND;TZID=UTC:20251119T230000
DTSTAMP:20260420T081307
CREATED:20251207T082623Z
LAST-MODIFIED:20251208T231627Z
UID:10000204-1763587800-1763593200@acdejatellevar.es
SUMMARY:Taller de Coro
DESCRIPTION:🎼 Taller de Coro con José María \n🗓 Todos los miércoles🕤 Horario: 21:30h – 23:00h (o hasta finalizar los ensayos) \n📌 Taller semanal dirigido por José María\, donde se ensayan repertorios variados como villancicos\, sevillanas\, habaneras\, misas\, entre otros.Lo aprendido se pondrá en práctica tanto dentro como fuera de nuestra asociación\, compartiendo la música en distintos espacios y celebraciones. \n✨ ¡Únete al coro y disfruta de la magia de cantar en grupo!
URL:https://acdejatellevar.es/event/taller-de-coro-8/
CATEGORIES:Talleres Socios
ATTACH;FMTTYPE=image/png:https://acdejatellevar.es/wp-content/uploads/2025/10/TALLER-DEL-CORO-1.png
END:VEVENT
BEGIN:VEVENT
DTSTART;TZID=UTC:20251119T200000
DTEND;TZID=UTC:20251119T213000
DTSTAMP:20260420T081307
CREATED:20251207T081311Z
LAST-MODIFIED:20251207T081311Z
UID:10000200-1763582400-1763587800@acdejatellevar.es
SUMMARY:Taller de Salsa
DESCRIPTION:🔥 Taller de Salsa con Francisco & Ana \n🗓 Todos los miércoles🕗 Horario: 20:00h – 21:30h (o hasta finalizar los ensayos) \n📌 Taller semanal impartido por Francisco & Ana\, con clases divertidas y de nivel avanzado.El objetivo es seguir aprendiendo y practicando figuras en pareja\, para después disfrutar bailando los fines de semana en la fiesta de baile social. \n✨ ¡Ven a perfeccionar tu estilo\, mejorar tu técnica y pasarlo en grande con la Salsa!
URL:https://acdejatellevar.es/event/taller-de-salsa-4/
CATEGORIES:Talleres Socios
ATTACH;FMTTYPE=image/png:https://acdejatellevar.es/wp-content/uploads/2025/10/TALLER-SALSA-1.png
END:VEVENT
BEGIN:VEVENT
DTSTART;TZID=UTC:20251119T190000
DTEND;TZID=UTC:20251119T201500
DTSTAMP:20260420T081307
CREATED:20251207T080649Z
LAST-MODIFIED:20251207T080649Z
UID:10000196-1763578800-1763583300@acdejatellevar.es
SUMMARY:Taller de Bachata
DESCRIPTION:💃 Taller de Bachata con Juan & Pepi \n🗓 Todos los miércoles🕖 Horario: 19:00h – 20:00h (o hasta finalizar los ensayos) \n📌 Taller semanal impartido por Juan & Pepi\, donde además de divertirte aprenderás nuevas figuras y reforzarás las ya conocidas.Estas clases están pensadas para que el fin de semana puedas poner en práctica lo aprendido y bailar con soltura en la fiesta de baile social de los sábados. \n✨ ¡Disfruta\, aprende y vive la Bachata en un ambiente cercano y motivador!
URL:https://acdejatellevar.es/event/taller-de-bachata-8/
CATEGORIES:Talleres Socios
ATTACH;FMTTYPE=image/png:https://acdejatellevar.es/wp-content/uploads/2025/10/TALLER-BACHATA-1.png
END:VEVENT
BEGIN:VEVENT
DTSTART;TZID=UTC:20251118T201500
DTEND;TZID=UTC:20251118T214500
DTSTAMP:20260420T081307
CREATED:20251207T075436Z
LAST-MODIFIED:20251208T231732Z
UID:10000192-1763496900-1763502300@acdejatellevar.es
SUMMARY:Taller de Kizomba
DESCRIPTION:💃🕺 Taller de Kizomba con Andrés & María del Carmen \n🗓 Todos los martes🕗 Horario: 20:15h – 21:30h (o hasta finalizar los ensayos) \n📌 Taller semanal impartido por Andrés & María del Carmen\, pensado para seguir avanzando en técnica y figuras de Kizomba.Estas clases te preparan para disfrutar y poner en práctica lo aprendido durante los fines de semana en las fiestas de baile social. \n✨ ¡Ven a mejorar tu baile y comparte la pasión por la Kizomba en un ambiente divertido y motivador!
URL:https://acdejatellevar.es/event/taller-de-kizomba-7/
CATEGORIES:Talleres Socios
ATTACH;FMTTYPE=image/png:https://acdejatellevar.es/wp-content/uploads/2025/10/TALLER-KIZOMBA.png
END:VEVENT
BEGIN:VEVENT
DTSTART;TZID=UTC:20251118T193000
DTEND;TZID=UTC:20251118T201500
DTSTAMP:20260420T081307
CREATED:20251207T005948Z
LAST-MODIFIED:20251207T005948Z
UID:10000187-1763494200-1763496900@acdejatellevar.es
SUMMARY:Taller de Rumba Bolero
DESCRIPTION:🎶 Taller de Rumba Bolero con Paco & Mariló \n🗓 Todos los martes🕢 Horario: 19:30h – 20:15h (o hasta finalizar los ensayos) \n📌 Taller semanal impartido por Paco & Mariló\, diseñado para progresar en el estilo de Rumba Bolero.Con estas clases aprenderás nuevas figuras y ganarás soltura para disfrutar al máximo en la fiesta de baile social de los sábados. \n✨ ¡Ven a mejorar tu técnica\, divertirte y compartir la pasión por el baile!
URL:https://acdejatellevar.es/event/taller-de-rumba-bolero-3/
CATEGORIES:Talleres Socios
END:VEVENT
BEGIN:VEVENT
DTSTART;TZID=UTC:20251117T210000
DTEND;TZID=UTC:20251117T233000
DTSTAMP:20260420T081307
CREATED:20251103T143843Z
LAST-MODIFIED:20251103T143843Z
UID:10000182-1763413200-1763422200@acdejatellevar.es
SUMMARY:Taller de Quiero Ser Artista
DESCRIPTION:🎭 Taller “Quiero Ser Artista” \n🗓 Todos los lunes🕘 Horario: 21:00h – 23:00h (o hasta finalizar los ensayos) \n📌 Taller semanal dirigido por Eli\, Pastori y Carmen\, donde se preparan y ensayan los números para el espectáculo.Un espacio de aprendizaje\, creatividad y trabajo en equipo para dar forma al show. \n✨ ¡Ven y forma parte de la magia del escenario!
URL:https://acdejatellevar.es/event/taller-de-quiero-ser-artista-6/
CATEGORIES:Espectaculos,Quiero Ser Artista
END:VEVENT
BEGIN:VEVENT
DTSTART;TZID=UTC:20251116T183000
DTEND;TZID=UTC:20251116T203000
DTSTAMP:20260420T081307
CREATED:20251207T103033Z
LAST-MODIFIED:20251208T231828Z
UID:10000217-1763317800-1763325000@acdejatellevar.es
SUMMARY:Taller de Teatro
DESCRIPTION:🎭 Taller de Teatro con José María \n🗓 Todos los domingos🕢 Horario: 18:30h – 20:30h (o hasta finalizar los ensayos) \n📌 Taller semanal dirigido por José María\, donde se trabajan las diferentes artes escénicas y se aprenden técnicas de interpretación teatral.A lo largo del año se ensayan diversas obras de teatro\, que posteriormente se representan dentro y fuera de la asociación. \n✨ ¡Despierta tu creatividad\, mejora tu expresión y vive la magia del teatro en grupo!
URL:https://acdejatellevar.es/event/taller-de-teatro-14/
CATEGORIES:Talleres Socios
ATTACH;FMTTYPE=image/png:https://acdejatellevar.es/wp-content/uploads/2025/10/TALLER-TEATRO-1.png
END:VEVENT
BEGIN:VEVENT
DTSTART;TZID=UTC:20251115T213000
DTEND;TZID=UTC:20251116T030000
DTSTAMP:20260420T081307
CREATED:20251207T111128Z
LAST-MODIFIED:20251207T111128Z
UID:10000223-1763242200-1763262000@acdejatellevar.es
SUMMARY:Fiesta Aniversario
DESCRIPTION:🎉 XIX Cena Aniversario 2025 – ¡Una Noche Para Brillar! ✨\nEste sábado 15 de noviembre prepárate para una velada que lo tiene TODO: glamour\, buena comida\, risas… y un ambiente tan especial que hasta las copas de champán vienen festivas. \nCelebra con nosotros un año más de esta gran familia en una noche donde la elegancia se mezcla con la diversión y donde cada brindis contará como cardio (así compensamos la cena 😉). \nLa música y la animación estarán a cargo del siempre encantador Eloy de Sanamé\, que promete hacerte cantar\, bailar y disfrutar hasta que las burbujas se acaben… o hasta que el cuerpo aguante. \n🕤 Comenzamos a las 21:30 h📲 Por favor\, confirmad asistencia a través del WhatsApp de la Asociación. \n✨ No te lo pierdas:Una noche así no se celebra todos los días… ¡y mucho menos dos veces! Ven\, disfruta\, ríe\, brinda y forma parte de esta celebración que promete ser inolvidable.
URL:https://acdejatellevar.es/event/fiesta-aniversario/
CATEGORIES:Comidas
ATTACH;FMTTYPE=image/jpeg:https://acdejatellevar.es/wp-content/uploads/2025/12/CENA-ANIVERSARIO-2025.jpg
END:VEVENT
BEGIN:VEVENT
DTSTART;TZID=UTC:20251114T193000
DTEND;TZID=UTC:20251114T220000
DTSTAMP:20260420T081307
CREATED:20251207T104425Z
LAST-MODIFIED:20251208T232019Z
UID:10000219-1763148600-1763157600@acdejatellevar.es
SUMMARY:Taller de Teatro
DESCRIPTION:🎭 Taller de Teatro con José María \n🗓 Todos los viernes🕢 Horario: 19:30h – 22:00h (o hasta finalizar los ensayos) \n📌 Taller semanal dirigido por José María\, donde se trabajan las diferentes artes escénicas y se aprenden técnicas de interpretación teatral.A lo largo del año se ensayan diversas obras de teatro\, que posteriormente se representan dentro y fuera de la asociación. \n✨ ¡Despierta tu creatividad\, mejora tu expresión y vive la magia del teatro en grupo!
URL:https://acdejatellevar.es/event/taller-de-teatro-12/
CATEGORIES:Talleres Socios
ATTACH;FMTTYPE=image/png:https://acdejatellevar.es/wp-content/uploads/2025/10/TALLER-TEATRO-1.png
END:VEVENT
BEGIN:VEVENT
DTSTART;TZID=UTC:20251113T210000
DTEND;TZID=UTC:20251113T220000
DTSTAMP:20260420T081307
CREATED:20251207T100629Z
LAST-MODIFIED:20251208T232110Z
UID:10000211-1763067600-1763071200@acdejatellevar.es
SUMMARY:Taller de Tango
DESCRIPTION:🎩💃 Taller de Tango con José Antonio & Eli \n🗓 Todos los jueves🕘 Horario: 21:00h – 22:00h (o hasta finalizar los ensayos) \n📌 Taller semanal impartido por José Antonio & Eli\, donde aprenderás el arte de bailar Tango en pareja.Estas clases te permitirán disfrutar del Tango en nuestro baile social de los sábados\, así como poner en práctica lo aprendido en las milongas que celebramos el primer sábado de cada mes. \n✨ ¡Vive la pasión del Tango y mejora tu baile semana a semana!
URL:https://acdejatellevar.es/event/taller-de-tango-7/
CATEGORIES:Talleres Socios
ATTACH;FMTTYPE=image/png:https://acdejatellevar.es/wp-content/uploads/2025/10/TALLER-TANGO-1.png
END:VEVENT
BEGIN:VEVENT
DTSTART;TZID=UTC:20251113T200000
DTEND;TZID=UTC:20251113T210000
DTSTAMP:20260420T081307
CREATED:20251207T093755Z
LAST-MODIFIED:20251207T093755Z
UID:10000207-1763064000-1763067600@acdejatellevar.es
SUMMARY:Taller de Castañuelas
DESCRIPTION:🎶 Taller de Castañuelas con Julia \n🗓 Todos los jueves🕗 Horario: 20:00h – 21:00h (o hasta finalizar los ensayos) \n📌 Taller semanal dirigido por Julia\, en el que aprenderás a tocar los palillos y a bailar siguiendo el ritmo de las castañuelas.Con lo aprendido podrás bailar con palillos en pareja o acompañar canciones marcando el compás con su inconfundible sonido. \n✨ ¡Descubre la tradición\, la técnica y la alegría de las castañuelas!
URL:https://acdejatellevar.es/event/taller-de-castanuelas-7/
CATEGORIES:Talleres Socios
ATTACH;FMTTYPE=image/png:https://acdejatellevar.es/wp-content/uploads/2025/10/CASTANUELAS-JULIA-1.png
END:VEVENT
BEGIN:VEVENT
DTSTART;TZID=UTC:20251112T210000
DTEND;TZID=UTC:20251112T230000
DTSTAMP:20260420T081307
CREATED:20251207T082434Z
LAST-MODIFIED:20251208T232209Z
UID:10000203-1762981200-1762988400@acdejatellevar.es
SUMMARY:Taller de Coro
DESCRIPTION:🎼 Taller de Coro con José María \n🗓 Todos los miércoles🕤 Horario: 21:30h – 23:00h (o hasta finalizar los ensayos) \n📌 Taller semanal dirigido por José María\, donde se ensayan repertorios variados como villancicos\, sevillanas\, habaneras\, misas\, entre otros.Lo aprendido se pondrá en práctica tanto dentro como fuera de nuestra asociación\, compartiendo la música en distintos espacios y celebraciones. \n✨ ¡Únete al coro y disfruta de la magia de cantar en grupo!
URL:https://acdejatellevar.es/event/taller-de-coro-7/
CATEGORIES:Talleres Socios
ATTACH;FMTTYPE=image/png:https://acdejatellevar.es/wp-content/uploads/2025/10/TALLER-DEL-CORO-1.png
END:VEVENT
BEGIN:VEVENT
DTSTART;TZID=UTC:20251112T200000
DTEND;TZID=UTC:20251112T213000
DTSTAMP:20260420T081307
CREATED:20251207T081219Z
LAST-MODIFIED:20251207T081219Z
UID:10000199-1762977600-1762983000@acdejatellevar.es
SUMMARY:Taller de Salsa
DESCRIPTION:🔥 Taller de Salsa con Francisco & Ana \n🗓 Todos los miércoles🕗 Horario: 20:00h – 21:30h (o hasta finalizar los ensayos) \n📌 Taller semanal impartido por Francisco & Ana\, con clases divertidas y de nivel avanzado.El objetivo es seguir aprendiendo y practicando figuras en pareja\, para después disfrutar bailando los fines de semana en la fiesta de baile social. \n✨ ¡Ven a perfeccionar tu estilo\, mejorar tu técnica y pasarlo en grande con la Salsa!
URL:https://acdejatellevar.es/event/taller-de-salsa-3/
CATEGORIES:Talleres Socios
ATTACH;FMTTYPE=image/png:https://acdejatellevar.es/wp-content/uploads/2025/10/TALLER-SALSA-1.png
END:VEVENT
BEGIN:VEVENT
DTSTART;TZID=UTC:20251112T190000
DTEND;TZID=UTC:20251112T201500
DTSTAMP:20260420T081307
CREATED:20251207T080551Z
LAST-MODIFIED:20251207T080551Z
UID:10000195-1762974000-1762978500@acdejatellevar.es
SUMMARY:Taller de Bachata
DESCRIPTION:💃 Taller de Bachata con Juan & Pepi \n🗓 Todos los miércoles🕖 Horario: 19:00h – 20:00h (o hasta finalizar los ensayos) \n📌 Taller semanal impartido por Juan & Pepi\, donde además de divertirte aprenderás nuevas figuras y reforzarás las ya conocidas.Estas clases están pensadas para que el fin de semana puedas poner en práctica lo aprendido y bailar con soltura en la fiesta de baile social de los sábados. \n✨ ¡Disfruta\, aprende y vive la Bachata en un ambiente cercano y motivador!
URL:https://acdejatellevar.es/event/taller-de-bachata-7/
CATEGORIES:Talleres Socios
ATTACH;FMTTYPE=image/png:https://acdejatellevar.es/wp-content/uploads/2025/10/TALLER-BACHATA-1.png
END:VEVENT
BEGIN:VEVENT
DTSTART;TZID=UTC:20251111T193000
DTEND;TZID=UTC:20251111T201500
DTSTAMP:20260420T081307
CREATED:20251207T005148Z
LAST-MODIFIED:20251207T005148Z
UID:10000186-1762889400-1762892100@acdejatellevar.es
SUMMARY:Taller de Rumba Bolero
DESCRIPTION:🎶 Taller de Rumba Bolero con Paco & Mariló \n🗓 Todos los martes🕢 Horario: 19:30h – 20:15h (o hasta finalizar los ensayos) \n📌 Taller semanal impartido por Paco & Mariló\, diseñado para progresar en el estilo de Rumba Bolero.Con estas clases aprenderás nuevas figuras y ganarás soltura para disfrutar al máximo en la fiesta de baile social de los sábados. \n✨ ¡Ven a mejorar tu técnica\, divertirte y compartir la pasión por el baile!
URL:https://acdejatellevar.es/event/taller-de-rumba-bolero-2/
CATEGORIES:Talleres Socios
END:VEVENT
BEGIN:VEVENT
DTSTART;TZID=UTC:20251111T081500
DTEND;TZID=UTC:20251111T214500
DTSTAMP:20260420T081307
CREATED:20251207T075242Z
LAST-MODIFIED:20251208T232343Z
UID:10000191-1762848900-1762897500@acdejatellevar.es
SUMMARY:Taller de Kizomba
DESCRIPTION:💃🕺 Taller de Kizomba con Andrés & María del Carmen \n🗓 Todos los martes🕗 Horario: 20:15h – 21:30h (o hasta finalizar los ensayos) \n📌 Taller semanal impartido por Andrés & María del Carmen\, pensado para seguir avanzando en técnica y figuras de Kizomba.Estas clases te preparan para disfrutar y poner en práctica lo aprendido durante los fines de semana en las fiestas de baile social. \n✨ ¡Ven a mejorar tu baile y comparte la pasión por la Kizomba en un ambiente divertido y motivador!
URL:https://acdejatellevar.es/event/taller-de-kizomba-6/
CATEGORIES:Talleres Socios
ATTACH;FMTTYPE=image/png:https://acdejatellevar.es/wp-content/uploads/2025/10/TALLER-KIZOMBA.png
END:VEVENT
BEGIN:VEVENT
DTSTART;TZID=UTC:20251110T210000
DTEND;TZID=UTC:20251110T233000
DTSTAMP:20260420T081307
CREATED:20251103T143815Z
LAST-MODIFIED:20251103T143815Z
UID:10000181-1762808400-1762817400@acdejatellevar.es
SUMMARY:Taller de Quiero Ser Artista
DESCRIPTION:🎭 Taller “Quiero Ser Artista” \n🗓 Todos los lunes🕘 Horario: 21:00h – 23:00h (o hasta finalizar los ensayos) \n📌 Taller semanal dirigido por Eli\, Pastori y Carmen\, donde se preparan y ensayan los números para el espectáculo.Un espacio de aprendizaje\, creatividad y trabajo en equipo para dar forma al show. \n✨ ¡Ven y forma parte de la magia del escenario!
URL:https://acdejatellevar.es/event/taller-de-quiero-ser-artista-5/
CATEGORIES:Espectaculos,Quiero Ser Artista
END:VEVENT
BEGIN:VEVENT
DTSTART;TZID=Europe/Madrid:20251109T183000
DTEND;TZID=Europe/Madrid:20251109T203000
DTSTAMP:20260420T081307
CREATED:20251103T143226Z
LAST-MODIFIED:20251208T232534Z
UID:10000177-1762713000-1762720200@acdejatellevar.es
SUMMARY:Taller de teatro.
DESCRIPTION:🎭 Taller de Teatro con José María \n🗓 Todos los domingos🕢 Horario: 18:30h – 20:30h (o hasta finalizar los ensayos) \n📌 Taller semanal dirigido por José María\, donde se trabajan las diferentes artes escénicas y se aprenden técnicas de interpretación teatral.A lo largo del año se ensayan diversas obras de teatro\, que posteriormente se representan dentro y fuera de la asociación. \n✨ ¡Despierta tu creatividad\, mejora tu expresión y vive la magia del teatro en grupo!
URL:https://acdejatellevar.es/event/taller-de-teatro-8/
LOCATION:ACDÉJATELLEVAR\, PINO GARGALLA Nº 3\, SEVILLA\, Spain
CATEGORIES:Talleres Socios
ATTACH;FMTTYPE=image/png:https://acdejatellevar.es/wp-content/uploads/2025/10/TALLER-TEATRO-1.png
END:VEVENT
BEGIN:VEVENT
DTSTART;TZID=UTC:20251109T110000
DTEND;TZID=UTC:20251109T133000
DTSTAMP:20260420T081307
CREATED:20251207T160252Z
LAST-MODIFIED:20251207T160252Z
UID:10000262-1762686000-1762695000@acdejatellevar.es
SUMMARY:Taller de Parapekes
DESCRIPTION:🎈 Taller Parapekes \n🗓 Taller mensual – fines de semana por la mañana👩‍🏫 Dirigido por Inés\, Carmen\, Eli y Pastori \n📌 En este divertido taller se preparan números infantiles llenos de color\, alegría y creatividad\, con el objetivo de desarrollar un espectáculo ameno y brillante para los más pequeños.Está especialmente pensado para fomentar la animación infantil\, el trabajo en equipo y la expresión artística de manera lúdica y participativa. \n✨ ¡Un espacio donde los peques se divierten\, aprenden y sueñan en grande!
URL:https://acdejatellevar.es/event/taller-de-parapekes-2/
CATEGORIES:Talleres Socios
ATTACH;FMTTYPE=image/png:https://acdejatellevar.es/wp-content/uploads/2025/10/PARAPEKES-3.png
END:VEVENT
BEGIN:VEVENT
DTSTART;TZID=UTC:20251108T210000
DTEND;TZID=UTC:20251109T030000
DTSTAMP:20260420T081307
CREATED:20251207T110504Z
LAST-MODIFIED:20251207T110504Z
UID:10000222-1762635600-1762657200@acdejatellevar.es
SUMMARY:Taller Bachata + Fiesta Social
DESCRIPTION:✨ ¡Taller de Bachata con Doble J! ✨\n¿Listo para mover las caderas y el buen rollo? Este sábado 8 de noviembre a las 21:00 h llega un evento que promete subir la temperatura… ¡y no solo por el baile! \nJulia y Joaquín te enseñarán a dominar la bachata con estilo\, ritmo y alguna que otra risa asegurada. No importa si tienes dos pies izquierdos: ¡en nuestra pista todos terminan bailando como si fueran estrellas de escenario! \nAdemás\, nuestra barra estará abierta durante toda la noche para que puedas disfrutar de deliciosas tapas\, aperitivos y bebidas que harán que tus pasos fluyan aún mejor (científicamente comprobado… probablemente 😄). \n📍 Lugar: C/ Pino Gargalla Nº 21🕘 Hora: 21:00 h \n✨ No faltes: bailarás\, reirás\, brindarás… y quizá hasta encuentres nueva pareja de baile.¡Te esperamos para una noche inolvidable! 💃🕺🍹
URL:https://acdejatellevar.es/event/taller-bachata-fiesta-social/
CATEGORIES:Talleres Fiestas
ATTACH;FMTTYPE=image/jpeg:https://acdejatellevar.es/wp-content/uploads/2025/12/TALLER-BACHATA-DOBLE-J-8-11-2025-scaled.jpg
END:VEVENT
BEGIN:VEVENT
DTSTART;TZID=UTC:20251107T193000
DTEND;TZID=UTC:20251107T220000
DTSTAMP:20260420T081307
CREATED:20251207T104336Z
LAST-MODIFIED:20251208T232752Z
UID:10000218-1762543800-1762552800@acdejatellevar.es
SUMMARY:Taller de Teatro
DESCRIPTION:🎭 Taller de Teatro con José María \n🗓 Todos los viernes🕢 Horario: 19:30h – 22:00h (o hasta finalizar los ensayos) \n📌 Taller semanal dirigido por José María\, donde se trabajan las diferentes artes escénicas y se aprenden técnicas de interpretación teatral.A lo largo del año se ensayan diversas obras de teatro\, que posteriormente se representan dentro y fuera de la asociación. \n✨ ¡Despierta tu creatividad\, mejora tu expresión y vive la magia del teatro en grupo!
URL:https://acdejatellevar.es/event/taller-de-teatro-11/
CATEGORIES:Talleres Socios
ATTACH;FMTTYPE=image/png:https://acdejatellevar.es/wp-content/uploads/2025/10/TALLER-TEATRO-1.png
END:VEVENT
BEGIN:VEVENT
DTSTART;TZID=UTC:20251106T210000
DTEND;TZID=UTC:20251106T220000
DTSTAMP:20260420T081307
CREATED:20251207T100531Z
LAST-MODIFIED:20251208T232914Z
UID:10000210-1762462800-1762466400@acdejatellevar.es
SUMMARY:Taller de Tango
DESCRIPTION:🎩💃 Taller de Tango con José Antonio & Eli \n🗓 Todos los jueves🕘 Horario: 21:00h – 22:00h (o hasta finalizar los ensayos) \n📌 Taller semanal impartido por José Antonio & Eli\, donde aprenderás el arte de bailar Tango en pareja.Estas clases te permitirán disfrutar del Tango en nuestro baile social de los sábados\, así como poner en práctica lo aprendido en las milongas que celebramos el primer sábado de cada mes. \n✨ ¡Vive la pasión del Tango y mejora tu baile semana a semana!
URL:https://acdejatellevar.es/event/taller-de-tango-6/
CATEGORIES:Talleres Socios
ATTACH;FMTTYPE=image/png:https://acdejatellevar.es/wp-content/uploads/2025/10/TALLER-TANGO-1.png
END:VEVENT
BEGIN:VEVENT
DTSTART;TZID=UTC:20251106T203000
DTEND;TZID=UTC:20251106T210000
DTSTAMP:20260420T081307
CREATED:20251207T093639Z
LAST-MODIFIED:20251207T093639Z
UID:10000206-1762461000-1762462800@acdejatellevar.es
SUMMARY:Taller de Castañuelas
DESCRIPTION:🎶 Taller de Castañuelas con Julia \n🗓 Todos los jueves🕗 Horario: 20:00h – 21:00h (o hasta finalizar los ensayos) \n📌 Taller semanal dirigido por Julia\, en el que aprenderás a tocar los palillos y a bailar siguiendo el ritmo de las castañuelas.Con lo aprendido podrás bailar con palillos en pareja o acompañar canciones marcando el compás con su inconfundible sonido. \n✨ ¡Descubre la tradición\, la técnica y la alegría de las castañuelas!
URL:https://acdejatellevar.es/event/taller-de-castanuelas-6/
CATEGORIES:Talleres Socios
ATTACH;FMTTYPE=image/png:https://acdejatellevar.es/wp-content/uploads/2025/10/CASTANUELAS-JULIA-1.png
END:VEVENT
BEGIN:VEVENT
DTSTART;TZID=UTC:20251105T213000
DTEND;TZID=UTC:20251105T230000
DTSTAMP:20260420T081307
CREATED:20251207T082341Z
LAST-MODIFIED:20251208T233028Z
UID:10000202-1762378200-1762383600@acdejatellevar.es
SUMMARY:Taller de Coro
DESCRIPTION:🎼 Taller de Coro con José María \n🗓 Todos los miércoles🕤 Horario: 21:30h – 23:00h (o hasta finalizar los ensayos) \n📌 Taller semanal dirigido por José María\, donde se ensayan repertorios variados como villancicos\, sevillanas\, habaneras\, misas\, entre otros.Lo aprendido se pondrá en práctica tanto dentro como fuera de nuestra asociación\, compartiendo la música en distintos espacios y celebraciones. \n✨ ¡Únete al coro y disfruta de la magia de cantar en grupo!
URL:https://acdejatellevar.es/event/taller-de-coro-6/
CATEGORIES:Talleres Socios
ATTACH;FMTTYPE=image/png:https://acdejatellevar.es/wp-content/uploads/2025/10/TALLER-DEL-CORO-1.png
END:VEVENT
BEGIN:VEVENT
DTSTART;TZID=UTC:20251105T200000
DTEND;TZID=UTC:20251105T213000
DTSTAMP:20260420T081307
CREATED:20251207T081042Z
LAST-MODIFIED:20251207T081042Z
UID:10000198-1762372800-1762378200@acdejatellevar.es
SUMMARY:Taller de Salsa
DESCRIPTION:🔥 Taller de Salsa con Francisco & Ana \n🗓 Todos los miércoles🕗 Horario: 20:00h – 21:30h (o hasta finalizar los ensayos) \n📌 Taller semanal impartido por Francisco & Ana\, con clases divertidas y de nivel avanzado.El objetivo es seguir aprendiendo y practicando figuras en pareja\, para después disfrutar bailando los fines de semana en la fiesta de baile social. \n✨ ¡Ven a perfeccionar tu estilo\, mejorar tu técnica y pasarlo en grande con la Salsa!
URL:https://acdejatellevar.es/event/taller-de-salsa-2/
CATEGORIES:Talleres Socios
ATTACH;FMTTYPE=image/png:https://acdejatellevar.es/wp-content/uploads/2025/10/TALLER-SALSA-1.png
END:VEVENT
BEGIN:VEVENT
DTSTART;TZID=UTC:20251105T190000
DTEND;TZID=UTC:20251105T201500
DTSTAMP:20260420T081307
CREATED:20251207T080432Z
LAST-MODIFIED:20251207T080432Z
UID:10000194-1762369200-1762373700@acdejatellevar.es
SUMMARY:Taller de Bachata
DESCRIPTION:💃 Taller de Bachata con Juan & Pepi \n🗓 Todos los miércoles🕖 Horario: 19:00h – 20:00h (o hasta finalizar los ensayos) \n📌 Taller semanal impartido por Juan & Pepi\, donde además de divertirte aprenderás nuevas figuras y reforzarás las ya conocidas.Estas clases están pensadas para que el fin de semana puedas poner en práctica lo aprendido y bailar con soltura en la fiesta de baile social de los sábados. \n✨ ¡Disfruta\, aprende y vive la Bachata en un ambiente cercano y motivador!
URL:https://acdejatellevar.es/event/taller-de-bachata-6/
CATEGORIES:Talleres Socios
ATTACH;FMTTYPE=image/png:https://acdejatellevar.es/wp-content/uploads/2025/10/TALLER-BACHATA-1.png
END:VEVENT
BEGIN:VEVENT
DTSTART;TZID=UTC:20251104T201500
DTEND;TZID=UTC:20251104T214500
DTSTAMP:20260420T081307
CREATED:20251207T075108Z
LAST-MODIFIED:20251208T233137Z
UID:10000190-1762287300-1762292700@acdejatellevar.es
SUMMARY:Taller de Kizomba
DESCRIPTION:💃🕺 Taller de Kizomba con Andrés & María del Carmen \n🗓 Todos los martes🕗 Horario: 20:15h – 21:30h (o hasta finalizar los ensayos) \n📌 Taller semanal impartido por Andrés & María del Carmen\, pensado para seguir avanzando en técnica y figuras de Kizomba.Estas clases te preparan para disfrutar y poner en práctica lo aprendido durante los fines de semana en las fiestas de baile social. \n✨ ¡Ven a mejorar tu baile y comparte la pasión por la Kizomba en un ambiente divertido y motivador!
URL:https://acdejatellevar.es/event/taller-de-kizomba-5/
CATEGORIES:Talleres Socios
ATTACH;FMTTYPE=image/png:https://acdejatellevar.es/wp-content/uploads/2025/10/TALLER-KIZOMBA.png
END:VEVENT
BEGIN:VEVENT
DTSTART;TZID=UTC:20251104T193000
DTEND;TZID=UTC:20251104T201500
DTSTAMP:20260420T081307
CREATED:20251207T004915Z
LAST-MODIFIED:20251207T004915Z
UID:10000185-1762284600-1762287300@acdejatellevar.es
SUMMARY:Taller de Rumba Bolero
DESCRIPTION:🎶 Taller de Rumba Bolero con Paco & Mariló \n🗓 Todos los martes🕢 Horario: 19:30h – 20:15h (o hasta finalizar los ensayos) \n📌 Taller semanal impartido por Paco & Mariló\, diseñado para progresar en el estilo de Rumba Bolero.Con estas clases aprenderás nuevas figuras y ganarás soltura para disfrutar al máximo en la fiesta de baile social de los sábados. \n✨ ¡Ven a mejorar tu técnica\, divertirte y compartir la pasión por el baile!
URL:https://acdejatellevar.es/event/taller-de-rumba-bolero/
CATEGORIES:Talleres Socios
END:VEVENT
BEGIN:VEVENT
DTSTART;TZID=UTC:20251103T210000
DTEND;TZID=UTC:20251103T233000
DTSTAMP:20260420T081307
CREATED:20251103T143758Z
LAST-MODIFIED:20251103T143758Z
UID:10000180-1762203600-1762212600@acdejatellevar.es
SUMMARY:Taller de Quiero Ser Artista
DESCRIPTION:🎭 Taller “Quiero Ser Artista” \n🗓 Todos los lunes🕘 Horario: 21:00h – 23:00h (o hasta finalizar los ensayos) \n📌 Taller semanal dirigido por Eli\, Pastori y Carmen\, donde se preparan y ensayan los números para el espectáculo.Un espacio de aprendizaje\, creatividad y trabajo en equipo para dar forma al show. \n✨ ¡Ven y forma parte de la magia del escenario!
URL:https://acdejatellevar.es/event/taller-de-quiero-ser-artista-4/
CATEGORIES:Espectaculos,Quiero Ser Artista
END:VEVENT
END:VCALENDAR