BEGIN:VCALENDAR
VERSION:2.0
PRODID:-//acdejatellevar.es - ECPv6.15.20//NONSGML v1.0//EN
CALSCALE:GREGORIAN
METHOD:PUBLISH
X-ORIGINAL-URL:https://acdejatellevar.es
X-WR-CALDESC:Eventos para acdejatellevar.es
REFRESH-INTERVAL;VALUE=DURATION:PT1H
X-Robots-Tag:noindex
X-PUBLISHED-TTL:PT1H
BEGIN:VTIMEZONE
TZID:UTC
BEGIN:STANDARD
TZOFFSETFROM:+0000
TZOFFSETTO:+0000
TZNAME:UTC
DTSTART:20250101T000000
END:STANDARD
END:VTIMEZONE
BEGIN:VEVENT
DTSTART;TZID=UTC:20260419T193000
DTEND;TZID=UTC:20260419T213000
DTSTAMP:20260419T150220
CREATED:20260325T224333Z
LAST-MODIFIED:20260415T193926Z
UID:10000458-1776627000-1776634200@acdejatellevar.es
SUMMARY:Taller de Teatro
DESCRIPTION:🎭 Taller de Teatro con José María \n🗓 Todos los domingos🕢 Horario: 18:30h – 20:30h (o hasta finalizar los ensayos) \n📌 Taller semanal dirigido por José María\, donde se trabajan las diferentes artes escénicas y se aprenden técnicas de interpretación teatral.A lo largo del año se ensayan diversas obras de teatro\, que posteriormente se representan dentro y fuera de la asociación. \n✨ ¡Despierta tu creatividad\, mejora tu expresión y vive la magia del teatro en grupo!
URL:https://acdejatellevar.es/event/taller-de-teatro-48/
LOCATION:ACDÉJATELLEVAR\, PINO GARGALLA Nº 3\, SEVILLA\, Spain
CATEGORIES:Talleres Socios
ATTACH;FMTTYPE=image/png:https://acdejatellevar.es/wp-content/uploads/2025/10/TALLER-TEATRO-1.png
END:VEVENT
END:VCALENDAR