BEGIN:VCALENDAR
VERSION:2.0
PRODID:-//acdejatellevar.es - ECPv6.15.20//NONSGML v1.0//EN
CALSCALE:GREGORIAN
METHOD:PUBLISH
X-ORIGINAL-URL:https://acdejatellevar.es
X-WR-CALDESC:Eventos para acdejatellevar.es
REFRESH-INTERVAL;VALUE=DURATION:PT1H
X-Robots-Tag:noindex
X-PUBLISHED-TTL:PT1H
BEGIN:VTIMEZONE
TZID:UTC
BEGIN:STANDARD
TZOFFSETFROM:+0000
TZOFFSETTO:+0000
TZNAME:UTC
DTSTART:20240101T000000
END:STANDARD
END:VTIMEZONE
BEGIN:VEVENT
DTSTART;TZID=UTC:20251231T010000
DTEND;TZID=UTC:20260101T070000
DTSTAMP:20260420T041602
CREATED:20251207T161849Z
LAST-MODIFIED:20251207T162332Z
UID:10000266-1767142800-1767250800@acdejatellevar.es
SUMMARY:Fiesta Fin de Año 2025
DESCRIPTION:Este 31 de diciembre te esperamos en nuestra gran FIESTA DE FIN DE AÑO 2025 \n🎆 Una noche mágica con animación y música en vivo a cargo de Francisco & Jesús\, ¡para que no pares de bailar hasta el amanecer! \n💃🕺 🍾 Barra libre 🥜 Frutos secos y bombones 🍰 Minipastelitos y chocolate con churros \n🍖 ¡Y además sorteamos un jamón durante la noche! \n🎁 🎟️ Entradas limitadas: solo 110 plazas 💛 Socios: 25 € | Invitados: 35 € \n📍 Lugar: Nuestra sede\, C/ Pino Gargalla Nº 21 \n🕐 Apertura a partir de la 1:00 h \n⚡ Venta de entradas disponible a partir del día 17 de Noviembre\, durante el horario de los talleres. \n¡No te quedes sin la tuya y vive una noche inolvidable para recibir el 2026 con la mejor energía! 🥂✨
URL:https://acdejatellevar.es/event/fiesta-fin-de-ano-2025/
CATEGORIES:Fiestas
ATTACH;FMTTYPE=image/jpeg:https://acdejatellevar.es/wp-content/uploads/2025/12/FIESTA-FIN-DE-ANO-2025.jpg
END:VEVENT
BEGIN:VEVENT
DTSTART;TZID=UTC:20260117T210000
DTEND;TZID=UTC:20260117T210000
DTSTAMP:20260420T041602
CREATED:20251228T123410Z
LAST-MODIFIED:20260109T195126Z
UID:10000314-1768683600-1768683600@acdejatellevar.es
SUMMARY:Fiesta Show Latino
DESCRIPTION:💃🔥 Fiesta y Show Latino – Sáname y su Son 🔥🕺\nSábado 17 de enero | Desde las 21:00 h \nPrepárate para vivir una noche llena de ritmo\, alegría y sabor latino que no te dejará indiferente. Este sábado 17 de enero\, el escenario se llena de energía con un espectacular show de bailes latinos\, seguido de música en directo para que no pares de bailar hasta que el cuerpo aguante. \nLa noche contará con la actuación de Sáname y su Son\, un show vibrante y elegante que combina pasión\, talento y una puesta en escena espectacular. Bailes latinos\, sonrisas\, complicidad con el público y un ambiente festivo harán que te sientas parte del espectáculo desde el primer momento. \n🎶 ¿Qué te espera esta noche? \n\n\nShow de bailes latinos con artistas profesionales \n\n\nMúsica en directo después del espectáculo \n\n\nFiesta latina para todos los públicos \n\n\nBarra-bar abierta para refrescar la noche \n\n\nAmbiente divertido\, cercano y lleno de buena energía \n\n\n📍 Horario:🕘 Comienza a las 21:00 horas \n🎟 Entrada: \n\n\nEntrada para no socios: 10 € \n\n\nAforo limitado\, ¡no te quedes sin tu sitio! \n\n\nSi te gusta bailar\, disfrutar de buena música\, reír\, desconectar y vivir una noche diferente\, este evento es para ti. Ven con amigos\, en pareja o solo… ¡seguro que te vas acompañado de buenos recuerdos y muchas ganas de repetir! \n✨ No lo pienses más y marca la fecha en tu calendario.El sábado 17 de enero\, la noche se vive al ritmo latino. 💃🔥
URL:https://acdejatellevar.es/event/fiesta-show-latino/
CATEGORIES:Fiestas
ATTACH;FMTTYPE=image/jpeg:https://acdejatellevar.es/wp-content/uploads/2026/01/FIESTA-LATINA-SANAME-17-1-262-scaled.jpg
END:VEVENT
BEGIN:VEVENT
DTSTART;TZID=UTC:20260321T200000
DTEND;TZID=UTC:20260322T030000
DTSTAMP:20260420T041602
CREATED:20260302T184901Z
LAST-MODIFIED:20260302T184901Z
UID:10000406-1774123200-1774148400@acdejatellevar.es
SUMMARY:Noche de Teatro y Baile Social
DESCRIPTION:🎭 Noche de Teatro en ACDEJATELLEVAR 🎭 \nEl próximo sábado 21 de marzo de 2026 tenemos una cita muy especial con la cultura y el arte en nuestra sede. A las 20:00 horas dará comienzo una magnífica velada teatral con la representación de las obras “El sueño es vida” y “El Miserable Puchero”\, bajo la dirección de José María Martín. \nUn elenco excepcional dará vida a estas historias llenas de emoción\, matices y momentos inolvidables:Antonio Cordero\, Antonio López\, Pastori\, Francisco\, Bartolomé\, Encarni\, Juana\, Manolo\, Rosario\, Eli\, Rosa\, José María\, Claudia y Candela. \nSerá una noche para disfrutar del teatro en su esencia\, compartir cultura y dejarse llevar por la magia del escenario en un ambiente cercano y acogedor. \n📍 Lugar: Nuestra sede – C/ Pino Gargalla nº 21🕗 Hora de comienzo: 20:00 h \nY la velada no termina cuando cae el telón… \n🍷 Tras la función\, nuestra barra bar permanecerá abierta con sus estupendas tapas\, el complemento perfecto para comentar la obra y seguir disfrutando de la noche. \n💃🕺 A partir de las 23:00 horas\, comenzará el baile social\, con todo tipo de música para que nadie se quede sin su momento en la pista. \nUna propuesta completa: teatro\, gastronomía y baile en una misma noche.✨ Les invitamos a acompañarnos y vivir una experiencia cultural y social única en ACDEJATELLEVAR. ¡Será un placer contar con su presencia!
URL:https://acdejatellevar.es/event/noche-de-teatro-y-baile-social-2/
CATEGORIES:Fiestas,Teatro
ATTACH;FMTTYPE=image/jpeg:https://acdejatellevar.es/wp-content/uploads/2026/03/CARTEL-TEATRO-21-3-261-scaled.jpg
END:VEVENT
END:VCALENDAR