BEGIN:VCALENDAR
VERSION:2.0
PRODID:-//acdejatellevar.es - ECPv6.15.20//NONSGML v1.0//EN
CALSCALE:GREGORIAN
METHOD:PUBLISH
X-ORIGINAL-URL:https://acdejatellevar.es
X-WR-CALDESC:Eventos para acdejatellevar.es
REFRESH-INTERVAL;VALUE=DURATION:PT1H
X-Robots-Tag:noindex
X-PUBLISHED-TTL:PT1H
BEGIN:VTIMEZONE
TZID:UTC
BEGIN:STANDARD
TZOFFSETFROM:+0000
TZOFFSETTO:+0000
TZNAME:UTC
DTSTART:20240101T000000
END:STANDARD
END:VTIMEZONE
BEGIN:VEVENT
DTSTART;TZID=UTC:20251031T223000
DTEND;TZID=UTC:20251101T030000
DTSTAMP:20260420T053408
CREATED:20251004T223524Z
LAST-MODIFIED:20251004T223725Z
UID:10000163-1761949800-1761966000@acdejatellevar.es
SUMMARY:Fiesta de HALLOWEEN
DESCRIPTION:🎃 FIESTA HALLOWEEN – ¡Una noche para morir de risa (y de susto)! \n🗓 Viernes 31 de octubre🕥 Comienza a las 22:30h hasta las 03:00 de la madrugada. (Hora del cierre)📍 Nuestra sede: C/ Pino Gargalla nº 3 \n💀 Prepárate para una noche terroríficamente divertida en la que los monstruos bailan\, los zombis se desmelenan y los fantasmas hacen coreografías imposibles. \n🎧 Con la mejor animación y música a cargo de DJ Juan Raya\, que resucitará hasta a los más perezosos con sus temazos infernales. \n🧙‍♀️ Los invitados que vengan disfrazados no pagan entrada.Así que ya sabes: ¡cuanto más terrorífico\, mejor! 🕸️ \n🔥 Ven disfrazado y disfruta de una noche única\, llena de sustos\, risas y baile hasta que los muertos se cansen. \n✨ ¡No te quedes en casa… o los espíritus vendrán a por ti!
URL:https://acdejatellevar.es/event/fiesta-de-halloween/
LOCATION:ACDÉJATELLEVAR\, PINO GARGALLA Nº 3\, SEVILLA\, Spain
CATEGORIES:Fiestas
ATTACH;FMTTYPE=image/jpeg:https://acdejatellevar.es/wp-content/uploads/2025/10/Fiesta-Halloween-31-10-25.jpg
END:VEVENT
END:VCALENDAR