BEGIN:VCALENDAR
VERSION:2.0
PRODID:-//acdejatellevar.es - ECPv6.15.20//NONSGML v1.0//EN
CALSCALE:GREGORIAN
METHOD:PUBLISH
X-ORIGINAL-URL:https://acdejatellevar.es
X-WR-CALDESC:Eventos para acdejatellevar.es
REFRESH-INTERVAL;VALUE=DURATION:PT1H
X-Robots-Tag:noindex
X-PUBLISHED-TTL:PT1H
BEGIN:VTIMEZONE
TZID:UTC
BEGIN:STANDARD
TZOFFSETFROM:+0000
TZOFFSETTO:+0000
TZNAME:UTC
DTSTART:20240101T000000
END:STANDARD
END:VTIMEZONE
BEGIN:VEVENT
DTSTART;TZID=UTC:20251228T120000
DTEND;TZID=UTC:20251228T183000
DTSTAMP:20260420T041259
CREATED:20251207T164149Z
LAST-MODIFIED:20251207T164149Z
UID:10000269-1766923200-1766946600@acdejatellevar.es
SUMMARY:Convivencia Navideña
DESCRIPTION:🎄✨ Convivencia Navideña en ACDÉJATELLEVAR ✨🎉(Sí… también es el Día de los Santos Inocentes\, pero prometemos no gastar bromas muy pesadas… creemos.) \nEste sábado 28 de diciembre de 2025\, la Asociación Cultural Déjatellevar abre sus puertas para celebrar una jornada navideña llena de buen ambiente\, sabor y risas compartidas. \nPara empezar con alegría (y con el estómago contento)\, la asociación invitará a todos los asistentes a un plato de deliciosas migas.Porque si hay algo que une más que la Navidad… es la comida. \nDisfrutaremos de un ambiente navideño auténtico\, con ese toque festivo que hace que todo sea más bonito\, más cálido y más fotogénico.Y\, por supuesto\, sin olvidar que es Día de los Santos Inocentes\, así que mantén los ojos abiertos… uno nunca sabe. \nDespués de la comida\, llega el tardeo\, con música para todos los gustos:baile\, risas\, copas y la mejor compañía para cerrar el año casi por todo lo alto. \n📍 Lugar: Calle Pino Gargalla nº 21📅 Fecha: Sábado\, 28 de diciembre de 2025🎄 Actividad: Convivencia navideña + migas + tardeo festivo \nVen\, celebra\, disfruta… y déjate llevar. ✨💫
URL:https://acdejatellevar.es/event/convivencia-navidena/
CATEGORIES:Convivencias
ATTACH;FMTTYPE=image/jpeg:https://acdejatellevar.es/wp-content/uploads/2025/12/CONVIVENCIA-NAVIDAD-2025.jpg
END:VEVENT
END:VCALENDAR