BEGIN:VCALENDAR
VERSION:2.0
PRODID:-//acdejatellevar.es - ECPv6.15.20//NONSGML v1.0//EN
CALSCALE:GREGORIAN
METHOD:PUBLISH
X-ORIGINAL-URL:https://acdejatellevar.es
X-WR-CALDESC:Eventos para acdejatellevar.es
REFRESH-INTERVAL;VALUE=DURATION:PT1H
X-Robots-Tag:noindex
X-PUBLISHED-TTL:PT1H
BEGIN:VTIMEZONE
TZID:UTC
BEGIN:STANDARD
TZOFFSETFROM:+0000
TZOFFSETTO:+0000
TZNAME:UTC
DTSTART:20240101T000000
END:STANDARD
END:VTIMEZONE
BEGIN:VEVENT
DTSTART;VALUE=DATE:20260405
DTEND;VALUE=DATE:20260406
DTSTAMP:20260419T201931
CREATED:20260325T114622Z
LAST-MODIFIED:20260325T114846Z
UID:10000411-1775347200-1775433599@acdejatellevar.es
SUMMARY:Semana Santa 2026
DESCRIPTION:✝️ Aviso Importante – Semana Santa 2026 ✝️ \nCon motivo de la celebración de la Semana Santa 2026\, desde la Asociación Cultural ACDEJATELLEVAR queremos informar a todos nuestros socios\, amigos y colaboradores que nuestras instalaciones permanecerán cerradas temporalmente. \n📅 Periodo de cierre:Desde el sábado 28 de marzo hasta el domingo 5 de abril\, ambos inclusive. \nDurante estos días\, hacemos una pausa en nuestras actividades habituales para vivir y respetar este tiempo tan especial. \nDeseamos de corazón que esta Semana Santa esté llena de recogimiento\, paz y buenos momentos en compañía de vuestros seres queridos.✨ Que el espíritu de Cristo Resucitado llene vuestros corazones y hogares. \nRetomaremos nuestra actividad con ilusión tras este periodo. \n🙏 Gracias por vuestra comprensión y confianza.ACDEJATELLEVAR os desea una feliz Semana Santa.
URL:https://acdejatellevar.es/event/semana-santa-2026-2/
LOCATION:ACDÉJATELLEVAR\, PINO GARGALLA Nº 3\, SEVILLA\, Spain
CATEGORIES:Anuncios
ATTACH;FMTTYPE=image/jpeg:https://acdejatellevar.es/wp-content/uploads/2026/03/SEMANA-SANTA-2026.jpg
END:VEVENT
BEGIN:VEVENT
DTSTART;VALUE=DATE:20260404
DTEND;VALUE=DATE:20260405
DTSTAMP:20260419T201931
CREATED:20260325T115757Z
LAST-MODIFIED:20260325T115757Z
UID:10000418-1775260800-1775347199@acdejatellevar.es
SUMMARY:Semana Santa 2026
DESCRIPTION:✝️ Aviso Importante – Semana Santa 2026 ✝️ \nCon motivo de la celebración de la Semana Santa 2026\, desde la Asociación Cultural ACDEJATELLEVAR queremos informar a todos nuestros socios\, amigos y colaboradores que nuestras instalaciones permanecerán cerradas temporalmente. \n📅 Periodo de cierre:Desde el sábado 28 de marzo hasta el domingo 5 de abril\, ambos inclusive. \nDurante estos días\, hacemos una pausa en nuestras actividades habituales para vivir y respetar este tiempo tan especial. \nDeseamos de corazón que esta Semana Santa esté llena de recogimiento\, paz y buenos momentos en compañía de vuestros seres queridos.✨ Que el espíritu de Cristo Resucitado llene vuestros corazones y hogares. \nRetomaremos nuestra actividad con ilusión tras este periodo. \n🙏 Gracias por vuestra comprensión y confianza.ACDEJATELLEVAR os desea una feliz Semana Santa.
URL:https://acdejatellevar.es/event/semana-santa-2026-9/
LOCATION:ACDÉJATELLEVAR\, PINO GARGALLA Nº 3\, SEVILLA\, Spain
CATEGORIES:Anuncios
ATTACH;FMTTYPE=image/jpeg:https://acdejatellevar.es/wp-content/uploads/2026/03/SEMANA-SANTA-2026.jpg
END:VEVENT
BEGIN:VEVENT
DTSTART;VALUE=DATE:20260403
DTEND;VALUE=DATE:20260404
DTSTAMP:20260419T201931
CREATED:20260325T115705Z
LAST-MODIFIED:20260325T115705Z
UID:10000417-1775174400-1775260799@acdejatellevar.es
SUMMARY:Semana Santa 2026
DESCRIPTION:✝️ Aviso Importante – Semana Santa 2026 ✝️ \nCon motivo de la celebración de la Semana Santa 2026\, desde la Asociación Cultural ACDEJATELLEVAR queremos informar a todos nuestros socios\, amigos y colaboradores que nuestras instalaciones permanecerán cerradas temporalmente. \n📅 Periodo de cierre:Desde el sábado 28 de marzo hasta el domingo 5 de abril\, ambos inclusive. \nDurante estos días\, hacemos una pausa en nuestras actividades habituales para vivir y respetar este tiempo tan especial. \nDeseamos de corazón que esta Semana Santa esté llena de recogimiento\, paz y buenos momentos en compañía de vuestros seres queridos.✨ Que el espíritu de Cristo Resucitado llene vuestros corazones y hogares. \nRetomaremos nuestra actividad con ilusión tras este periodo. \n🙏 Gracias por vuestra comprensión y confianza.ACDEJATELLEVAR os desea una feliz Semana Santa.
URL:https://acdejatellevar.es/event/semana-santa-2026-8/
LOCATION:ACDÉJATELLEVAR\, PINO GARGALLA Nº 3\, SEVILLA\, Spain
CATEGORIES:Anuncios
ATTACH;FMTTYPE=image/jpeg:https://acdejatellevar.es/wp-content/uploads/2026/03/SEMANA-SANTA-2026.jpg
END:VEVENT
BEGIN:VEVENT
DTSTART;VALUE=DATE:20260402
DTEND;VALUE=DATE:20260403
DTSTAMP:20260419T201931
CREATED:20260325T115604Z
LAST-MODIFIED:20260325T115604Z
UID:10000416-1775088000-1775174399@acdejatellevar.es
SUMMARY:Semana Santa 2026
DESCRIPTION:✝️ Aviso Importante – Semana Santa 2026 ✝️ \nCon motivo de la celebración de la Semana Santa 2026\, desde la Asociación Cultural ACDEJATELLEVAR queremos informar a todos nuestros socios\, amigos y colaboradores que nuestras instalaciones permanecerán cerradas temporalmente. \n📅 Periodo de cierre:Desde el sábado 28 de marzo hasta el domingo 5 de abril\, ambos inclusive. \nDurante estos días\, hacemos una pausa en nuestras actividades habituales para vivir y respetar este tiempo tan especial. \nDeseamos de corazón que esta Semana Santa esté llena de recogimiento\, paz y buenos momentos en compañía de vuestros seres queridos.✨ Que el espíritu de Cristo Resucitado llene vuestros corazones y hogares. \nRetomaremos nuestra actividad con ilusión tras este periodo. \n🙏 Gracias por vuestra comprensión y confianza.ACDEJATELLEVAR os desea una feliz Semana Santa.
URL:https://acdejatellevar.es/event/semana-santa-2026-7/
LOCATION:ACDÉJATELLEVAR\, PINO GARGALLA Nº 3\, SEVILLA\, Spain
CATEGORIES:Anuncios
ATTACH;FMTTYPE=image/jpeg:https://acdejatellevar.es/wp-content/uploads/2026/03/SEMANA-SANTA-2026.jpg
END:VEVENT
BEGIN:VEVENT
DTSTART;VALUE=DATE:20260401
DTEND;VALUE=DATE:20260402
DTSTAMP:20260419T201931
CREATED:20260325T115518Z
LAST-MODIFIED:20260325T115518Z
UID:10000415-1775001600-1775087999@acdejatellevar.es
SUMMARY:Semana Santa 2026
DESCRIPTION:✝️ Aviso Importante – Semana Santa 2026 ✝️ \nCon motivo de la celebración de la Semana Santa 2026\, desde la Asociación Cultural ACDEJATELLEVAR queremos informar a todos nuestros socios\, amigos y colaboradores que nuestras instalaciones permanecerán cerradas temporalmente. \n📅 Periodo de cierre:Desde el sábado 28 de marzo hasta el domingo 5 de abril\, ambos inclusive. \nDurante estos días\, hacemos una pausa en nuestras actividades habituales para vivir y respetar este tiempo tan especial. \nDeseamos de corazón que esta Semana Santa esté llena de recogimiento\, paz y buenos momentos en compañía de vuestros seres queridos.✨ Que el espíritu de Cristo Resucitado llene vuestros corazones y hogares. \nRetomaremos nuestra actividad con ilusión tras este periodo. \n🙏 Gracias por vuestra comprensión y confianza.ACDEJATELLEVAR os desea una feliz Semana Santa.
URL:https://acdejatellevar.es/event/semana-santa-2026-6/
LOCATION:ACDÉJATELLEVAR\, PINO GARGALLA Nº 3\, SEVILLA\, Spain
CATEGORIES:Anuncios
ATTACH;FMTTYPE=image/jpeg:https://acdejatellevar.es/wp-content/uploads/2026/03/SEMANA-SANTA-2026.jpg
END:VEVENT
BEGIN:VEVENT
DTSTART;VALUE=DATE:20260331
DTEND;VALUE=DATE:20260401
DTSTAMP:20260419T201931
CREATED:20260325T115437Z
LAST-MODIFIED:20260325T115437Z
UID:10000414-1774915200-1775001599@acdejatellevar.es
SUMMARY:Semana Santa 2026
DESCRIPTION:✝️ Aviso Importante – Semana Santa 2026 ✝️ \nCon motivo de la celebración de la Semana Santa 2026\, desde la Asociación Cultural ACDEJATELLEVAR queremos informar a todos nuestros socios\, amigos y colaboradores que nuestras instalaciones permanecerán cerradas temporalmente. \n📅 Periodo de cierre:Desde el sábado 28 de marzo hasta el domingo 5 de abril\, ambos inclusive. \nDurante estos días\, hacemos una pausa en nuestras actividades habituales para vivir y respetar este tiempo tan especial. \nDeseamos de corazón que esta Semana Santa esté llena de recogimiento\, paz y buenos momentos en compañía de vuestros seres queridos.✨ Que el espíritu de Cristo Resucitado llene vuestros corazones y hogares. \nRetomaremos nuestra actividad con ilusión tras este periodo. \n🙏 Gracias por vuestra comprensión y confianza.ACDEJATELLEVAR os desea una feliz Semana Santa.
URL:https://acdejatellevar.es/event/semana-santa-2026-5/
LOCATION:ACDÉJATELLEVAR\, PINO GARGALLA Nº 3\, SEVILLA\, Spain
CATEGORIES:Anuncios
ATTACH;FMTTYPE=image/jpeg:https://acdejatellevar.es/wp-content/uploads/2026/03/SEMANA-SANTA-2026.jpg
END:VEVENT
BEGIN:VEVENT
DTSTART;VALUE=DATE:20260330
DTEND;VALUE=DATE:20260331
DTSTAMP:20260419T201931
CREATED:20260325T115323Z
LAST-MODIFIED:20260325T115323Z
UID:10000413-1774828800-1774915199@acdejatellevar.es
SUMMARY:Semana Santa 2026
DESCRIPTION:✝️ Aviso Importante – Semana Santa 2026 ✝️ \nCon motivo de la celebración de la Semana Santa 2026\, desde la Asociación Cultural ACDEJATELLEVAR queremos informar a todos nuestros socios\, amigos y colaboradores que nuestras instalaciones permanecerán cerradas temporalmente. \n📅 Periodo de cierre:Desde el sábado 28 de marzo hasta el domingo 5 de abril\, ambos inclusive. \nDurante estos días\, hacemos una pausa en nuestras actividades habituales para vivir y respetar este tiempo tan especial. \nDeseamos de corazón que esta Semana Santa esté llena de recogimiento\, paz y buenos momentos en compañía de vuestros seres queridos.✨ Que el espíritu de Cristo Resucitado llene vuestros corazones y hogares. \nRetomaremos nuestra actividad con ilusión tras este periodo. \n🙏 Gracias por vuestra comprensión y confianza.ACDEJATELLEVAR os desea una feliz Semana Santa.
URL:https://acdejatellevar.es/event/semana-santa-2026-4/
LOCATION:ACDÉJATELLEVAR\, PINO GARGALLA Nº 3\, SEVILLA\, Spain
CATEGORIES:Anuncios
ATTACH;FMTTYPE=image/jpeg:https://acdejatellevar.es/wp-content/uploads/2026/03/SEMANA-SANTA-2026.jpg
END:VEVENT
BEGIN:VEVENT
DTSTART;VALUE=DATE:20260329
DTEND;VALUE=DATE:20260330
DTSTAMP:20260419T201931
CREATED:20260325T115002Z
LAST-MODIFIED:20260325T115002Z
UID:10000412-1774742400-1774828799@acdejatellevar.es
SUMMARY:Semana Santa 2026
DESCRIPTION:✝️ Aviso Importante – Semana Santa 2026 ✝️ \nCon motivo de la celebración de la Semana Santa 2026\, desde la Asociación Cultural ACDEJATELLEVAR queremos informar a todos nuestros socios\, amigos y colaboradores que nuestras instalaciones permanecerán cerradas temporalmente. \n📅 Periodo de cierre:Desde el sábado 28 de marzo hasta el domingo 5 de abril\, ambos inclusive. \nDurante estos días\, hacemos una pausa en nuestras actividades habituales para vivir y respetar este tiempo tan especial. \nDeseamos de corazón que esta Semana Santa esté llena de recogimiento\, paz y buenos momentos en compañía de vuestros seres queridos.✨ Que el espíritu de Cristo Resucitado llene vuestros corazones y hogares. \nRetomaremos nuestra actividad con ilusión tras este periodo. \n🙏 Gracias por vuestra comprensión y confianza.ACDEJATELLEVAR os desea una feliz Semana Santa.
URL:https://acdejatellevar.es/event/semana-santa-2026-3/
LOCATION:ACDÉJATELLEVAR\, PINO GARGALLA Nº 3\, SEVILLA\, Spain
CATEGORIES:Anuncios
ATTACH;FMTTYPE=image/jpeg:https://acdejatellevar.es/wp-content/uploads/2026/03/SEMANA-SANTA-2026.jpg
END:VEVENT
BEGIN:VEVENT
DTSTART;VALUE=DATE:20260328
DTEND;VALUE=DATE:20260329
DTSTAMP:20260419T201931
CREATED:20260325T113047Z
LAST-MODIFIED:20260325T114546Z
UID:10000410-1774656000-1774742399@acdejatellevar.es
SUMMARY:Semana Santa 2026
DESCRIPTION:✝️ Aviso Importante – Semana Santa 2026 ✝️ \nCon motivo de la celebración de la Semana Santa 2026\, desde la Asociación Cultural ACDEJATELLEVAR queremos informar a todos nuestros socios\, amigos y colaboradores que nuestras instalaciones permanecerán cerradas temporalmente. \n📅 Periodo de cierre:Desde el sábado 28 de marzo hasta el domingo 5 de abril\, ambos inclusive. \nDurante estos días\, hacemos una pausa en nuestras actividades habituales para vivir y respetar este tiempo tan especial. \nDeseamos de corazón que esta Semana Santa esté llena de recogimiento\, paz y buenos momentos en compañía de vuestros seres queridos.✨ Que el espíritu de Cristo Resucitado llene vuestros corazones y hogares. \nRetomaremos nuestra actividad con ilusión tras este periodo. \n🙏 Gracias por vuestra comprensión y confianza.ACDEJATELLEVAR os desea una feliz Semana Santa.
URL:https://acdejatellevar.es/event/semana-santa-2026/
LOCATION:ACDÉJATELLEVAR\, PINO GARGALLA Nº 3\, SEVILLA\, Spain
CATEGORIES:Anuncios
ATTACH;FMTTYPE=image/jpeg:https://acdejatellevar.es/wp-content/uploads/2026/03/SEMANA-SANTA-2026.jpg
END:VEVENT
BEGIN:VEVENT
DTSTART;TZID=UTC:20260106T080000
DTEND;TZID=UTC:20260106T233000
DTSTAMP:20260419T201931
CREATED:20251228T104959Z
LAST-MODIFIED:20251228T104959Z
UID:10000276-1767686400-1767742200@acdejatellevar.es
SUMMARY:Día de Reyes
DESCRIPTION:🎁👑 Día de Reyes – Centro Cerrado 👑🎁 \nEl próximo 6 de enero\, en la Asociación ACDEJATELLEVAR nos tomamos un pequeño descanso para disfrutar de la magia del Día de Reyes. \n📌 Ese día el centro permanecerá cerrado\, por lo que no se realizará ninguna actividad.Volvemos con normalidad al día siguiente\, ¡con las pilas cargadas y muchas ganas de seguir compartiendo momentos juntos! \nQue los Reyes Magos os traigan mucha ilusión\, sonrisas y algún que otro regalito 🎉✨ \n¡Feliz Día de Reyes para todas y todos!
URL:https://acdejatellevar.es/event/dia-de-reyes/
CATEGORIES:Anuncios
ATTACH;FMTTYPE=image/jpeg:https://acdejatellevar.es/wp-content/uploads/2025/12/cabalgata-reyes-2026.jpg
END:VEVENT
BEGIN:VEVENT
DTSTART;TZID=UTC:20260105T080000
DTEND;TZID=UTC:20260105T233000
DTSTAMP:20260419T201931
CREATED:20251228T104101Z
LAST-MODIFIED:20251228T104101Z
UID:10000275-1767600000-1767655800@acdejatellevar.es
SUMMARY:Navidad Año Nuevo
DESCRIPTION:🎄✨ Aviso Especial: ¡Nos vamos de Vacaciones Navideñas! ✨🎄 \nLa asociación hace una breve pausa para entregarse a las sagradas tradiciones de estas fechas:desconectar\, disfrutar y fingir que no hemos comido demasiado turrón (sin éxito\, pero con dignidad). \nPor ello\, permaneceremos cerrados durante el periodo de vacaciones navideñas.Volveremos pronto\, con energías renovadas\, nuevas ideas… y probablemente con algún villancico aún rondando por la cabeza. \nGracias por su comprensión.Les deseamos unas fiestas llenas de luz\, calma y momentos que valgan la pena recordar. 🎁🌟
URL:https://acdejatellevar.es/event/navidad-ano-nuevo-2/
CATEGORIES:Anuncios
END:VEVENT
BEGIN:VEVENT
DTSTART;TZID=UTC:20260104T080000
DTEND;TZID=UTC:20260104T233000
DTSTAMP:20260419T201931
CREATED:20251228T103527Z
LAST-MODIFIED:20251228T103725Z
UID:10000274-1767513600-1767569400@acdejatellevar.es
SUMMARY:Navidad Año Nuevo
DESCRIPTION:🎄✨ Aviso Especial: ¡Nos vamos de Vacaciones Navideñas! ✨🎄 \nLa asociación hace una breve pausa para entregarse a las sagradas tradiciones de estas fechas:desconectar\, disfrutar y fingir que no hemos comido demasiado turrón (sin éxito\, pero con dignidad). \nPor ello\, permaneceremos cerrados durante el periodo de vacaciones navideñas.Volveremos pronto\, con energías renovadas\, nuevas ideas… y probablemente con algún villancico aún rondando por la cabeza. \nGracias por su comprensión.Les deseamos unas fiestas llenas de luz\, calma y momentos que valgan la pena recordar. 🎁🌟
URL:https://acdejatellevar.es/event/3280/
CATEGORIES:Anuncios
END:VEVENT
BEGIN:VEVENT
DTSTART;TZID=UTC:20260102T000000
DTEND;TZID=UTC:20260102T233000
DTSTAMP:20260419T201931
CREATED:20251207T221809Z
LAST-MODIFIED:20251228T102229Z
UID:10000271-1767312000-1767396600@acdejatellevar.es
SUMMARY:Taller de Teatro
DESCRIPTION:🎄✨ Aviso Especial: ¡Nos vamos de Vacaciones Navideñas! ✨🎄 \nLa asociación hace una breve pausa para entregarse a las sagradas tradiciones de estas fechas:desconectar\, disfrutar y fingir que no hemos comido demasiado turrón (sin éxito\, pero con dignidad). \nPor ello\, permaneceremos cerrados durante el periodo de vacaciones navideñas.Volveremos pronto\, con energías renovadas\, nuevas ideas… y probablemente con algún villancico aún rondando por la cabeza. \nGracias por su comprensión.Les deseamos unas fiestas llenas de luz\, calma y momentos que valgan la pena recordar. 🎁🌟
URL:https://acdejatellevar.es/event/taller-de-teatro-20/
CATEGORIES:Anuncios
END:VEVENT
BEGIN:VEVENT
DTSTART;TZID=UTC:20260101T080000
DTEND;TZID=UTC:20260101T120000
DTSTAMP:20260419T201931
CREATED:20251207T221416Z
LAST-MODIFIED:20251207T221416Z
UID:10000270-1767254400-1767268800@acdejatellevar.es
SUMMARY:Navidad Año Nuevo
DESCRIPTION:🎄✨ Aviso Especial: ¡Nos vamos de Vacaciones Navideñas! ✨🎄 \nLa asociación hace una breve pausa para entregarse a las sagradas tradiciones de estas fechas:desconectar\, disfrutar y fingir que no hemos comido demasiado turrón (sin éxito\, pero con dignidad). \nPor ello\, permaneceremos cerrados durante el periodo de vacaciones navideñas.Volveremos pronto\, con energías renovadas\, nuevas ideas… y probablemente con algún villancico aún rondando por la cabeza. \nGracias por su comprensión.Les deseamos unas fiestas llenas de luz\, calma y momentos que valgan la pena recordar. 🎁🌟
URL:https://acdejatellevar.es/event/navidad-ano-nuevo/
CATEGORIES:Anuncios
END:VEVENT
BEGIN:VEVENT
DTSTART;TZID=UTC:20251230T000000
DTEND;TZID=UTC:20251230T120000
DTSTAMP:20260419T201931
CREATED:20251207T132202Z
LAST-MODIFIED:20251207T135801Z
UID:10000239-1767052800-1767096000@acdejatellevar.es
SUMMARY:Navidad  ( Cerrado )
DESCRIPTION:🎄✨ Aviso Especial: ¡Nos vamos de Vacaciones Navideñas! ✨🎄 \nLa asociación hace una breve pausa para entregarse a las sagradas tradiciones de estas fechas:desconectar\, disfrutar y fingir que no hemos comido demasiado turrón (sin éxito\, pero con dignidad). \nPor ello\, permaneceremos cerrados durante el periodo de vacaciones navideñas.Volveremos pronto\, con energías renovadas\, nuevas ideas… y probablemente con algún villancico aún rondando por la cabeza. \nGracias por su comprensión.Les deseamos unas fiestas llenas de luz\, calma y momentos que valgan la pena recordar. 🎁🌟
URL:https://acdejatellevar.es/event/navidad-6/
CATEGORIES:Anuncios
END:VEVENT
BEGIN:VEVENT
DTSTART;TZID=UTC:20251229T000000
DTEND;TZID=UTC:20251229T120000
DTSTAMP:20260419T201931
CREATED:20251207T132129Z
LAST-MODIFIED:20251207T135743Z
UID:10000238-1766966400-1767009600@acdejatellevar.es
SUMMARY:Navidad ( Cerrado )
DESCRIPTION:🎄✨ Aviso Especial: ¡Nos vamos de Vacaciones Navideñas! ✨🎄 \nLa asociación hace una breve pausa para entregarse a las sagradas tradiciones de estas fechas:desconectar\, disfrutar y fingir que no hemos comido demasiado turrón (sin éxito\, pero con dignidad). \nPor ello\, permaneceremos cerrados durante el periodo de vacaciones navideñas.Volveremos pronto\, con energías renovadas\, nuevas ideas… y probablemente con algún villancico aún rondando por la cabeza. \nGracias por su comprensión.Les deseamos unas fiestas llenas de luz\, calma y momentos que valgan la pena recordar. 🎁🌟
URL:https://acdejatellevar.es/event/navidad-5/
CATEGORIES:Anuncios
END:VEVENT
BEGIN:VEVENT
DTSTART;TZID=UTC:20251227T000000
DTEND;TZID=UTC:20251227T120000
DTSTAMP:20260419T201931
CREATED:20251207T132051Z
LAST-MODIFIED:20251207T135713Z
UID:10000237-1766793600-1766836800@acdejatellevar.es
SUMMARY:Navidad ( Cerrado )
DESCRIPTION:🎄✨ Aviso Especial: ¡Nos vamos de Vacaciones Navideñas! ✨🎄 \nLa asociación hace una breve pausa para entregarse a las sagradas tradiciones de estas fechas:desconectar\, disfrutar y fingir que no hemos comido demasiado turrón (sin éxito\, pero con dignidad). \nPor ello\, permaneceremos cerrados durante el periodo de vacaciones navideñas.Volveremos pronto\, con energías renovadas\, nuevas ideas… y probablemente con algún villancico aún rondando por la cabeza. \nGracias por su comprensión.Les deseamos unas fiestas llenas de luz\, calma y momentos que valgan la pena recordar. 🎁🌟
URL:https://acdejatellevar.es/event/navidad-4/
CATEGORIES:Anuncios
END:VEVENT
BEGIN:VEVENT
DTSTART;TZID=UTC:20251226T000000
DTEND;TZID=UTC:20251226T120000
DTSTAMP:20260419T201931
CREATED:20251207T132012Z
LAST-MODIFIED:20251207T132415Z
UID:10000236-1766707200-1766750400@acdejatellevar.es
SUMMARY:Navidad ( Cerrado )
DESCRIPTION:🎄✨ Aviso Especial: ¡Nos vamos de Vacaciones Navideñas! ✨🎄 \nLa asociación hace una breve pausa para entregarse a las sagradas tradiciones de estas fechas:desconectar\, disfrutar y fingir que no hemos comido demasiado turrón (sin éxito\, pero con dignidad). \nPor ello\, permaneceremos cerrados durante el periodo de vacaciones navideñas.Volveremos pronto\, con energías renovadas\, nuevas ideas… y probablemente con algún villancico aún rondando por la cabeza. \nGracias por su comprensión.Les deseamos unas fiestas llenas de luz\, calma y momentos que valgan la pena recordar. 🎁🌟
URL:https://acdejatellevar.es/event/navidad-3/
CATEGORIES:Anuncios
END:VEVENT
BEGIN:VEVENT
DTSTART;TZID=UTC:20251225T000000
DTEND;TZID=UTC:20251225T120000
DTSTAMP:20260419T201931
CREATED:20251207T131452Z
LAST-MODIFIED:20251207T131452Z
UID:10000232-1766620800-1766664000@acdejatellevar.es
SUMMARY:Festivo Nacional Día de Navidad  ( Cerrado)
DESCRIPTION:🎄 Aviso Navideño: Cerramos por Festivo Nacional 🎄 \nEn estas fechas tan señaladas\, nuestra asociación realizará una actividad profundamente tradicional y universalmente reconocida:disfrutar de la Navidad (preferiblemente cerca de una mesa\, una manta o un dulce navideño… o todo a la vez). \nPor ser festivo nacional de Navidad\, permaneceremos cerrados durante todo el día.Prometemos regresar con el espíritu renovado\, el corazón calentito y quizá… algún polvorón de más. \nGracias por su comprensión.Que la magia de la Navidad ilumine su día tanto como a nosotros nos ilumina este merecido descanso. ✨🎁
URL:https://acdejatellevar.es/event/festivo-nacional-dia-de-navidad-cerrado/
CATEGORIES:Anuncios
END:VEVENT
BEGIN:VEVENT
DTSTART;TZID=UTC:20251224T000000
DTEND;TZID=UTC:20251224T120000
DTSTAMP:20260419T201931
CREATED:20251207T131927Z
LAST-MODIFIED:20251207T132355Z
UID:10000235-1766534400-1766577600@acdejatellevar.es
SUMMARY:Navidad Nochebuena ( Cerrado )
DESCRIPTION:🎄✨ Aviso Especial: ¡Nos vamos de Vacaciones Navideñas! ✨🎄 \nLa asociación hace una breve pausa para entregarse a las sagradas tradiciones de estas fechas:desconectar\, disfrutar y fingir que no hemos comido demasiado turrón (sin éxito\, pero con dignidad). \nPor ello\, permaneceremos cerrados durante el periodo de vacaciones navideñas.Volveremos pronto\, con energías renovadas\, nuevas ideas… y probablemente con algún villancico aún rondando por la cabeza. \nGracias por su comprensión.Les deseamos unas fiestas llenas de luz\, calma y momentos que valgan la pena recordar. 🎁🌟
URL:https://acdejatellevar.es/event/navidad-nochebuena/
CATEGORIES:Anuncios
END:VEVENT
BEGIN:VEVENT
DTSTART;TZID=UTC:20251223T000000
DTEND;TZID=UTC:20251223T120000
DTSTAMP:20260419T201931
CREATED:20251207T131834Z
LAST-MODIFIED:20251207T132335Z
UID:10000234-1766448000-1766491200@acdejatellevar.es
SUMMARY:Navidad ( Cerrado )
DESCRIPTION:🎄✨ Aviso Especial: ¡Nos vamos de Vacaciones Navideñas! ✨🎄 \nLa asociación hace una breve pausa para entregarse a las sagradas tradiciones de estas fechas:desconectar\, disfrutar y fingir que no hemos comido demasiado turrón (sin éxito\, pero con dignidad). \nPor ello\, permaneceremos cerrados durante el periodo de vacaciones navideñas.Volveremos pronto\, con energías renovadas\, nuevas ideas… y probablemente con algún villancico aún rondando por la cabeza. \nGracias por su comprensión.Les deseamos unas fiestas llenas de luz\, calma y momentos que valgan la pena recordar. 🎁🌟
URL:https://acdejatellevar.es/event/navidad-2/
CATEGORIES:Anuncios
END:VEVENT
BEGIN:VEVENT
DTSTART;TZID=UTC:20251222T000000
DTEND;TZID=UTC:20251222T120000
DTSTAMP:20260419T201931
CREATED:20251207T131756Z
LAST-MODIFIED:20251207T132304Z
UID:10000233-1766361600-1766404800@acdejatellevar.es
SUMMARY:Navidad ( Cerrado )
DESCRIPTION:🎄✨ Aviso Especial: ¡Nos vamos de Vacaciones Navideñas! ✨🎄 \nLa asociación hace una breve pausa para entregarse a las sagradas tradiciones de estas fechas:desconectar\, disfrutar y fingir que no hemos comido demasiado turrón (sin éxito\, pero con dignidad). \nPor ello\, permaneceremos cerrados durante el periodo de vacaciones navideñas.Volveremos pronto\, con energías renovadas\, nuevas ideas… y probablemente con algún villancico aún rondando por la cabeza. \nGracias por su comprensión.Les deseamos unas fiestas llenas de luz\, calma y momentos que valgan la pena recordar. 🎁🌟
URL:https://acdejatellevar.es/event/navidad/
CATEGORIES:Anuncios
END:VEVENT
BEGIN:VEVENT
DTSTART;TZID=UTC:20251208T000000
DTEND;TZID=UTC:20251208T120000
DTSTAMP:20260419T201931
CREATED:20251207T131029Z
LAST-MODIFIED:20251207T131029Z
UID:10000231-1765152000-1765195200@acdejatellevar.es
SUMMARY:Festivo Nacional ( Cerrado )
DESCRIPTION:🎉 Aviso Importante: ¡Cerramos por Festivo Nacional! 🎉 \nEste día festivo\, nuestra asociación hará algo verdaderamente extraordinario:descansar oficialmente (sí\, también sabemos hacerlo con mucha clase). \nEstaremos cerrados durante toda la jornada\, celebrando como corresponde a un día que une al país… o al menos nos regala una pausa gloriosa. \nVolvemos en el horario habitual\, con la energía renovada y el café en mano.Gracias por su comprensión… ¡y feliz festivo! 🇪🇸✨
URL:https://acdejatellevar.es/event/festivo-nacional-cerrado-2/
CATEGORIES:Anuncios
END:VEVENT
BEGIN:VEVENT
DTSTART;TZID=UTC:20251207T080000
DTEND;TZID=UTC:20251207T120000
DTSTAMP:20260419T201931
CREATED:20251207T144056Z
LAST-MODIFIED:20251207T144056Z
UID:10000261-1765094400-1765108800@acdejatellevar.es
SUMMARY:Puente Cerrado
DESCRIPTION:La Asociación permanecerá cerrada sin actividad por el puente de la Inmaculada\, volveremos a retomar la actividad el día 9 de Diciembre. \nFeliz Puente a todos.
URL:https://acdejatellevar.es/event/puente-cerrado-2/
CATEGORIES:Anuncios
END:VEVENT
BEGIN:VEVENT
DTSTART;TZID=UTC:20251206T000100
DTEND;TZID=UTC:20251206T120000
DTSTAMP:20260419T201931
CREATED:20251207T130832Z
LAST-MODIFIED:20251207T130832Z
UID:10000230-1764979260-1765022400@acdejatellevar.es
SUMMARY:Festivo Nacional ( Cerrado )
DESCRIPTION:🎉 Aviso Importante: ¡Cerramos por Festivo Nacional! 🎉 \nEste día festivo\, nuestra asociación hará algo verdaderamente extraordinario:descansar oficialmente (sí\, también sabemos hacerlo con mucha clase). \nEstaremos cerrados durante toda la jornada\, celebrando como corresponde a un día que une al país… o al menos nos regala una pausa gloriosa. \nVolvemos en el horario habitual\, con la energía renovada y el café en mano.Gracias por su comprensión… ¡y feliz festivo! 🇪🇸✨
URL:https://acdejatellevar.es/event/festivo-nacional-cerrado/
CATEGORIES:Anuncios
END:VEVENT
BEGIN:VEVENT
DTSTART;TZID=UTC:20251205T080000
DTEND;TZID=UTC:20251205T120000
DTSTAMP:20260419T201931
CREATED:20251207T144015Z
LAST-MODIFIED:20251207T144015Z
UID:10000260-1764921600-1764936000@acdejatellevar.es
SUMMARY:Puente Cerrado
DESCRIPTION:La Asociación permanecerá cerrada sin actividad por el puente de la Inmaculada\, volveremos a retomar la actividad el día 9 de Diciembre. \nFeliz Puente a todos.
URL:https://acdejatellevar.es/event/puente-cerrado/
CATEGORIES:Anuncios
END:VEVENT
BEGIN:VEVENT
DTSTART;TZID=UTC:20251013T000000
DTEND;TZID=UTC:20251013T120000
DTSTAMP:20260419T201931
CREATED:20251004T161150Z
LAST-MODIFIED:20251004T224131Z
UID:10000151-1760313600-1760356800@acdejatellevar.es
SUMMARY:CERRADO POR PUENTE
DESCRIPTION:
URL:https://acdejatellevar.es/event/cerrado-por-puente/
LOCATION:ACDÉJATELLEVAR\, PINO GARGALLA Nº 3\, SEVILLA\, Spain
CATEGORIES:Anuncios
END:VEVENT
BEGIN:VEVENT
DTSTART;TZID=UTC:20251011T000000
DTEND;TZID=UTC:20251011T120000
DTSTAMP:20260419T201931
CREATED:20251004T223907Z
LAST-MODIFIED:20251004T224047Z
UID:10000164-1760140800-1760184000@acdejatellevar.es
SUMMARY:CERRADO POR PUENTE
DESCRIPTION:
URL:https://acdejatellevar.es/event/cerrado-por-puente-2/
LOCATION:ACDÉJATELLEVAR\, PINO GARGALLA Nº 3\, SEVILLA\, Spain
CATEGORIES:Anuncios
END:VEVENT
END:VCALENDAR