BEGIN:VCALENDAR
VERSION:2.0
PRODID:-//acdejatellevar.es - ECPv6.15.20//NONSGML v1.0//EN
CALSCALE:GREGORIAN
METHOD:PUBLISH
X-ORIGINAL-URL:https://acdejatellevar.es
X-WR-CALDESC:Eventos para acdejatellevar.es
REFRESH-INTERVAL;VALUE=DURATION:PT1H
X-Robots-Tag:noindex
X-PUBLISHED-TTL:PT1H
BEGIN:VTIMEZONE
TZID:UTC
BEGIN:STANDARD
TZOFFSETFROM:+0000
TZOFFSETTO:+0000
TZNAME:UTC
DTSTART:20250101T000000
END:STANDARD
END:VTIMEZONE
BEGIN:VEVENT
DTSTART;VALUE=DATE:20260328
DTEND;VALUE=DATE:20260329
DTSTAMP:20260419T185141
CREATED:20260325T113047Z
LAST-MODIFIED:20260325T114546Z
UID:10000410-1774656000-1774742399@acdejatellevar.es
SUMMARY:Semana Santa 2026
DESCRIPTION:✝️ Aviso Importante – Semana Santa 2026 ✝️ \nCon motivo de la celebración de la Semana Santa 2026\, desde la Asociación Cultural ACDEJATELLEVAR queremos informar a todos nuestros socios\, amigos y colaboradores que nuestras instalaciones permanecerán cerradas temporalmente. \n📅 Periodo de cierre:Desde el sábado 28 de marzo hasta el domingo 5 de abril\, ambos inclusive. \nDurante estos días\, hacemos una pausa en nuestras actividades habituales para vivir y respetar este tiempo tan especial. \nDeseamos de corazón que esta Semana Santa esté llena de recogimiento\, paz y buenos momentos en compañía de vuestros seres queridos.✨ Que el espíritu de Cristo Resucitado llene vuestros corazones y hogares. \nRetomaremos nuestra actividad con ilusión tras este periodo. \n🙏 Gracias por vuestra comprensión y confianza.ACDEJATELLEVAR os desea una feliz Semana Santa.
URL:https://acdejatellevar.es/event/semana-santa-2026/
LOCATION:ACDÉJATELLEVAR\, PINO GARGALLA Nº 3\, SEVILLA\, Spain
CATEGORIES:Anuncios
ATTACH;FMTTYPE=image/jpeg:https://acdejatellevar.es/wp-content/uploads/2026/03/SEMANA-SANTA-2026.jpg
END:VEVENT
END:VCALENDAR