BEGIN:VCALENDAR
VERSION:2.0
PRODID:-//acdejatellevar.es - ECPv6.15.20//NONSGML v1.0//EN
CALSCALE:GREGORIAN
METHOD:PUBLISH
X-ORIGINAL-URL:https://acdejatellevar.es
X-WR-CALDESC:Eventos para acdejatellevar.es
REFRESH-INTERVAL;VALUE=DURATION:PT1H
X-Robots-Tag:noindex
X-PUBLISHED-TTL:PT1H
BEGIN:VTIMEZONE
TZID:UTC
BEGIN:STANDARD
TZOFFSETFROM:+0000
TZOFFSETTO:+0000
TZNAME:UTC
DTSTART:20250101T000000
END:STANDARD
END:VTIMEZONE
BEGIN:VEVENT
DTSTART;VALUE=DATE:20260421
DTEND;VALUE=DATE:20260422
DTSTAMP:20260419T151441
CREATED:20260325T120639Z
LAST-MODIFIED:20260325T120639Z
UID:10000420-1776729600-1776815999@acdejatellevar.es
SUMMARY:Ferial de Abril 2026
DESCRIPTION:🎡 Aviso Importante – Feria de Abril de Sevilla 2026 🎡 \nCon motivo de la celebración de la Feria de Abril de Sevilla 2026\, la Asociación Cultural ACDEJATELLEVAR informa a todos sus socios\, amigos y colaboradores que nuestras instalaciones permanecerán cerradas temporalmente durante estas fechas tan señaladas. \n📅 Periodo de cierre:Del 20 al 26 de abril de 2026\, ambos inclusive. \nDurante estos días\, hacemos una pausa en nuestra actividad habitual para sumarnos al ambiente único que llena Sevilla de color\, música y tradición. \n💃✨ Os animamos a disfrutar plenamente de la Feria\, a compartir momentos inolvidables con vuestros seres queridos y a vivir cada instante con alegría y buen ambiente. \n“Que el albero se llene de pasos de baile\, que suenen las sevillanas y que no falten las sonrisas bajo la luz de la Feria.” \nFinalizada la semana\, retomaremos nuestra actividad con la misma ilusión de siempre y con muchas ganas de seguir compartiendo experiencias con todos vosotros. \n🙏 Gracias por vuestra comprensión.ACDEJATELLEVAR os desea una ¡feliz Feria de Abril! 🎉
URL:https://acdejatellevar.es/event/ferial-de-abril-2026-2/
LOCATION:ACDÉJATELLEVAR\, PINO GARGALLA Nº 3\, SEVILLA\, Spain
ATTACH;FMTTYPE=image/jpeg:https://acdejatellevar.es/wp-content/uploads/2026/03/FERIA-ABRIL-2026.jpg
END:VEVENT
END:VCALENDAR