BEGIN:VCALENDAR
VERSION:2.0
PRODID:-//acdejatellevar.es - ECPv6.15.20//NONSGML v1.0//EN
CALSCALE:GREGORIAN
METHOD:PUBLISH
X-ORIGINAL-URL:https://acdejatellevar.es
X-WR-CALDESC:Eventos para acdejatellevar.es
REFRESH-INTERVAL;VALUE=DURATION:PT1H
X-Robots-Tag:noindex
X-PUBLISHED-TTL:PT1H
BEGIN:VTIMEZONE
TZID:UTC
BEGIN:STANDARD
TZOFFSETFROM:+0000
TZOFFSETTO:+0000
TZNAME:UTC
DTSTART:20250101T000000
END:STANDARD
END:VTIMEZONE
BEGIN:VEVENT
DTSTART;TZID=UTC:20260414T201500
DTEND;TZID=UTC:20260414T213000
DTSTAMP:20260419T151432
CREATED:20260325T215840Z
LAST-MODIFIED:20260325T215840Z
UID:10000438-1776197700-1776202200@acdejatellevar.es
SUMMARY:Taller de Kizomba - Bachata
DESCRIPTION:💃🕺 Taller de Kizomba y Bachata con Andrés & María del Carmen \n🗓 Todos los martes🕗 Horario: 20:15h – 21:30h (o hasta finalizar los ensayos) \n📌 Taller semanal impartido por Andrés & María del Carmen\, pensado para seguir avanzando en técnica y figuras de Kizomba y Bachata.Estas clases te preparan para disfrutar y poner en práctica lo aprendido durante los fines de semana en las fiestas de baile social. \n✨ ¡Ven a mejorar tu baile y comparte la pasión por la Kizomba en un ambiente divertido y motivador!
URL:https://acdejatellevar.es/event/taller-de-kizomba-bachata-10/
LOCATION:ACDÉJATELLEVAR\, PINO GARGALLA Nº 3\, SEVILLA\, Spain
CATEGORIES:Talleres Socios
ATTACH;FMTTYPE=image/png:https://acdejatellevar.es/wp-content/uploads/2025/10/TALLER-KIZOMBA.png
END:VEVENT
END:VCALENDAR