BEGIN:VCALENDAR
VERSION:2.0
PRODID:-//acdejatellevar.es - ECPv6.15.20//NONSGML v1.0//EN
CALSCALE:GREGORIAN
METHOD:PUBLISH
X-WR-CALNAME:acdejatellevar.es
X-ORIGINAL-URL:https://acdejatellevar.es
X-WR-CALDESC:Eventos para acdejatellevar.es
REFRESH-INTERVAL;VALUE=DURATION:PT1H
X-Robots-Tag:noindex
X-PUBLISHED-TTL:PT1H
BEGIN:VTIMEZONE
TZID:UTC
BEGIN:STANDARD
TZOFFSETFROM:+0000
TZOFFSETTO:+0000
TZNAME:UTC
DTSTART:20250101T000000
END:STANDARD
END:VTIMEZONE
BEGIN:VEVENT
DTSTART;TZID=UTC:20260124T210000
DTEND;TZID=UTC:20260128T030000
DTSTAMP:20260421T104604
CREATED:20260121T225131Z
LAST-MODIFIED:20260121T225131Z
UID:10000320-1769288400-1769569200@acdejatellevar.es
SUMMARY:Súper Taller SBK
DESCRIPTION:💃 🕺 Súper Taller SBK – Francisco & Ana\, Juan & Pepi y Andrés & Mª Carmen 🕺💃\nSábado 24 de enero de 2026 | 21:00 h \nDéjate llevar por la pasión\, la elegancia y la conexión del baile en una noche pensada para sentir la música y disfrutarla en pareja. El sábado 24 de enero de 2026\, la Asociación Déjate Llevar abre sus puertas para un exclusivo Súper Taller\, impartido por Francisco & Ana\, Juan & Pepi y Andrés & Mª Carmen\, seis referentes del baile que te guiarán paso a paso en esta experiencia única. \nEste Súper Taller\, son bailes lleno de expresión\, sensualidad y complicidad\, ideal tanto para quienes quieren iniciarse como para bailarines que desean perfeccionar su estilo. Durante el taller aprenderás técnicas\, figuras y consejos prácticos para mejorar tu conexión\, tu musicalidad y tu forma de interpretar el baile\, todo en un ambiente cercano\, divertido y muy participativo. \n✨ ¿Qué encontrarás en este evento? \n\n\nTaller de Salsa\, Bachata y Kizomba \n\n\nAprendizaje práctico\, dinámico y accesible \n\n\nAmbiente elegante\, cálido y acogedor \n\n\nIdeal para parejas y amantes del baile social \n\n\nBarra-bar abierta con estupendas tapas para completar la velada \n\n\n📍 Lugar:Asociación Déjate Llevar📌 C/ Pino Gargalla nº 21 \n🕘 Horario:Comienza a las 21:00 horas
URL:https://acdejatellevar.es/event/super-taller-sbk/
CATEGORIES:Talleres Fiestas
ATTACH;FMTTYPE=image/jpeg:https://acdejatellevar.es/wp-content/uploads/2026/01/SUPER-TALLER-SBK-24-1-26-scaled.jpg
END:VEVENT
BEGIN:VEVENT
DTSTART;TZID=UTC:20260128T190000
DTEND;TZID=UTC:20260128T200000
DTSTAMP:20260421T104604
CREATED:20251228T110326Z
LAST-MODIFIED:20251228T110326Z
UID:10000280-1769626800-1769630400@acdejatellevar.es
SUMMARY:Taller de Bachata
DESCRIPTION:💃 Taller de Bachata con Juan & Pepi \n🗓 Todos los miércoles🕖 Horario: 19:00h – 20:00h (o hasta finalizar los ensayos) \n📌 Taller semanal impartido por Juan & Pepi\, donde además de divertirte aprenderás nuevas figuras y reforzarás las ya conocidas.Estas clases están pensadas para que el fin de semana puedas poner en práctica lo aprendido y bailar con soltura en la fiesta de baile social de los sábados. \n✨ ¡Disfruta\, aprende y vive la Bachata en un ambiente cercano y motivador!
URL:https://acdejatellevar.es/event/taller-de-bachata-16/
CATEGORIES:Talleres Socios
ATTACH;FMTTYPE=image/png:https://acdejatellevar.es/wp-content/uploads/2025/10/TALLER-BACHATA-1.png
END:VEVENT
BEGIN:VEVENT
DTSTART;TZID=UTC:20260128T200000
DTEND;TZID=UTC:20260128T213000
DTSTAMP:20260421T104604
CREATED:20251228T110827Z
LAST-MODIFIED:20251228T110827Z
UID:10000284-1769630400-1769635800@acdejatellevar.es
SUMMARY:Taller de Salsa
DESCRIPTION:🔥 Taller de Salsa con Francisco & Ana \n🗓 Todos los miércoles🕗 Horario: 20:00h – 21:30h (o hasta finalizar los ensayos) \n📌 Taller semanal impartido por Francisco & Ana\, con clases divertidas y de nivel avanzado.El objetivo es seguir aprendiendo y practicando figuras en pareja\, para después disfrutar bailando los fines de semana en la fiesta de baile social. \n✨ ¡Ven a perfeccionar tu estilo\, mejorar tu técnica y pasarlo en grande con la Salsa!
URL:https://acdejatellevar.es/event/taller-de-salsa-13/
CATEGORIES:Talleres Socios
ATTACH;FMTTYPE=image/png:https://acdejatellevar.es/wp-content/uploads/2025/10/TALLER-SALSA-1.png
END:VEVENT
BEGIN:VEVENT
DTSTART;TZID=UTC:20260128T213000
DTEND;TZID=UTC:20260128T230000
DTSTAMP:20260421T104604
CREATED:20251228T111635Z
LAST-MODIFIED:20251228T111635Z
UID:10000288-1769635800-1769641200@acdejatellevar.es
SUMMARY:Taller de Coro
DESCRIPTION:🎼 Taller de Coro con José María \n🗓 Todos los miércoles🕤 Horario: 21:30h – 23:00h (o hasta finalizar los ensayos) \n📌 Taller semanal dirigido por José María\, donde se ensayan repertorios variados como villancicos\, sevillanas\, habaneras\, misas\, entre otros.Lo aprendido se pondrá en práctica tanto dentro como fuera de nuestra asociación\, compartiendo la música en distintos espacios y celebraciones. \n✨ ¡Únete al coro y disfruta de la magia de cantar en grupo!
URL:https://acdejatellevar.es/event/taller-de-coro-14/
CATEGORIES:Talleres Socios
ATTACH;FMTTYPE=image/png:https://acdejatellevar.es/wp-content/uploads/2025/10/TALLER-DEL-CORO-1.png
END:VEVENT
END:VCALENDAR