BEGIN:VCALENDAR
VERSION:2.0
PRODID:-//acdejatellevar.es - ECPv6.15.20//NONSGML v1.0//EN
CALSCALE:GREGORIAN
METHOD:PUBLISH
X-WR-CALNAME:acdejatellevar.es
X-ORIGINAL-URL:https://acdejatellevar.es
X-WR-CALDESC:Eventos para acdejatellevar.es
REFRESH-INTERVAL;VALUE=DURATION:PT1H
X-Robots-Tag:noindex
X-PUBLISHED-TTL:PT1H
BEGIN:VTIMEZONE
TZID:UTC
BEGIN:STANDARD
TZOFFSETFROM:+0000
TZOFFSETTO:+0000
TZNAME:UTC
DTSTART:20250101T000000
END:STANDARD
END:VTIMEZONE
BEGIN:VEVENT
DTSTART;TZID=UTC:20260124T210000
DTEND;TZID=UTC:20260128T030000
DTSTAMP:20260421T091721
CREATED:20260121T225131Z
LAST-MODIFIED:20260121T225131Z
UID:10000320-1769288400-1769569200@acdejatellevar.es
SUMMARY:Súper Taller SBK
DESCRIPTION:💃 🕺 Súper Taller SBK – Francisco & Ana\, Juan & Pepi y Andrés & Mª Carmen 🕺💃\nSábado 24 de enero de 2026 | 21:00 h \nDéjate llevar por la pasión\, la elegancia y la conexión del baile en una noche pensada para sentir la música y disfrutarla en pareja. El sábado 24 de enero de 2026\, la Asociación Déjate Llevar abre sus puertas para un exclusivo Súper Taller\, impartido por Francisco & Ana\, Juan & Pepi y Andrés & Mª Carmen\, seis referentes del baile que te guiarán paso a paso en esta experiencia única. \nEste Súper Taller\, son bailes lleno de expresión\, sensualidad y complicidad\, ideal tanto para quienes quieren iniciarse como para bailarines que desean perfeccionar su estilo. Durante el taller aprenderás técnicas\, figuras y consejos prácticos para mejorar tu conexión\, tu musicalidad y tu forma de interpretar el baile\, todo en un ambiente cercano\, divertido y muy participativo. \n✨ ¿Qué encontrarás en este evento? \n\n\nTaller de Salsa\, Bachata y Kizomba \n\n\nAprendizaje práctico\, dinámico y accesible \n\n\nAmbiente elegante\, cálido y acogedor \n\n\nIdeal para parejas y amantes del baile social \n\n\nBarra-bar abierta con estupendas tapas para completar la velada \n\n\n📍 Lugar:Asociación Déjate Llevar📌 C/ Pino Gargalla nº 21 \n🕘 Horario:Comienza a las 21:00 horas
URL:https://acdejatellevar.es/event/super-taller-sbk/
CATEGORIES:Talleres Fiestas
ATTACH;FMTTYPE=image/jpeg:https://acdejatellevar.es/wp-content/uploads/2026/01/SUPER-TALLER-SBK-24-1-26-scaled.jpg
END:VEVENT
BEGIN:VEVENT
DTSTART;TZID=UTC:20260127T193000
DTEND;TZID=UTC:20260127T201500
DTSTAMP:20260421T091721
CREATED:20251228T112701Z
LAST-MODIFIED:20251228T112701Z
UID:10000294-1769542200-1769544900@acdejatellevar.es
SUMMARY:Taller de Rumba-Bolero
DESCRIPTION:🎶 Taller de Rumba Bolero con Paco & Mariló \n🗓 Todos los martes🕢 Horario: 19:30h – 20:15h (o hasta finalizar los ensayos) \n📌 Taller semanal impartido por Paco & Mariló\, diseñado para progresar en el estilo de Rumba Bolero.Con estas clases aprenderás nuevas figuras y ganarás soltura para disfrutar al máximo en la fiesta de baile social de los sábados. \n✨ ¡Ven a mejorar tu técnica\, divertirte y compartir la pasión por el baile!
URL:https://acdejatellevar.es/event/taller-de-rumba-bolero-9/
CATEGORIES:Talleres Socios
END:VEVENT
BEGIN:VEVENT
DTSTART;TZID=UTC:20260127T201500
DTEND;TZID=UTC:20260127T213000
DTSTAMP:20260421T091721
CREATED:20251228T113220Z
LAST-MODIFIED:20251228T113220Z
UID:10000297-1769544900-1769549400@acdejatellevar.es
SUMMARY:Taller de Kizomba
DESCRIPTION:💃🕺 Taller de Kizomba con Andrés & María del Carmen \n🗓 Todos los martes🕗 Horario: 20:15h – 21:30h (o hasta finalizar los ensayos) \n📌 Taller semanal impartido por Andrés & María del Carmen\, pensado para seguir avanzando en técnica y figuras de Kizomba.Estas clases te preparan para disfrutar y poner en práctica lo aprendido durante los fines de semana en las fiestas de baile social. \n✨ ¡Ven a mejorar tu baile y comparte la pasión por la Kizomba en un ambiente divertido y motivador!
URL:https://acdejatellevar.es/event/taller-de-kizomba-14/
CATEGORIES:Talleres Socios
ATTACH;FMTTYPE=image/png:https://acdejatellevar.es/wp-content/uploads/2025/10/TALLER-KIZOMBA.png
END:VEVENT
END:VCALENDAR