BEGIN:VCALENDAR
VERSION:2.0
PRODID:-//acdejatellevar.es - ECPv6.15.20//NONSGML v1.0//EN
CALSCALE:GREGORIAN
METHOD:PUBLISH
X-WR-CALNAME:acdejatellevar.es
X-ORIGINAL-URL:https://acdejatellevar.es
X-WR-CALDESC:Eventos para acdejatellevar.es
REFRESH-INTERVAL;VALUE=DURATION:PT1H
X-Robots-Tag:noindex
X-PUBLISHED-TTL:PT1H
BEGIN:VTIMEZONE
TZID:UTC
BEGIN:STANDARD
TZOFFSETFROM:+0000
TZOFFSETTO:+0000
TZNAME:UTC
DTSTART:20250101T000000
END:STANDARD
END:VTIMEZONE
BEGIN:VEVENT
DTSTART;TZID=UTC:20260124T113000
DTEND;TZID=UTC:20260124T133000
DTSTAMP:20260421T115805
CREATED:20251228T121738Z
LAST-MODIFIED:20251228T121738Z
UID:10000311-1769254200-1769261400@acdejatellevar.es
SUMMARY:Taller de Parapekes
DESCRIPTION:🎈 Taller Parapekes \n🗓 Taller mensual – fines de semana por la mañana👩‍🏫 Dirigido por Inés\, Carmen\, Eli y Pastori  \n🕗 Horario: 11:00h – 13:30h (o hasta finalizar los ensayos) \n📌 En este divertido taller se preparan números infantiles llenos de color\, alegría y creatividad\, con el objetivo de desarrollar un espectáculo ameno y brillante para los más pequeños.Está especialmente pensado para fomentar la animación infantil\, el trabajo en equipo y la expresión artística de manera lúdica y participativa. \n✨ ¡Un espacio donde los peques se divierten\, aprenden y sueñan en grande!
URL:https://acdejatellevar.es/event/taller-de-parapekes-5/
CATEGORIES:Talleres Socios
ATTACH;FMTTYPE=image/png:https://acdejatellevar.es/wp-content/uploads/2025/10/PARAPEKES-3.png
END:VEVENT
BEGIN:VEVENT
DTSTART;TZID=UTC:20260124T210000
DTEND;TZID=UTC:20260125T030000
DTSTAMP:20260421T115805
CREATED:20251228T125442Z
LAST-MODIFIED:20251228T125442Z
UID:10000313-1769288400-1769310000@acdejatellevar.es
SUMMARY:Taller Rumba Bolero + Baile Social
DESCRIPTION:💃🕺 Taller de Rumba Bolero – Pedro Enrique & Mae 🕺💃\nSábado 24 de enero de 2026 | 21:00 h \nDéjate llevar por la pasión\, la elegancia y la conexión del baile en una noche pensada para sentir la música y disfrutarla en pareja. El sábado 24 de enero de 2026\, la Asociación Déjate Llevar abre sus puertas para un exclusivo Taller de Rumba Bolero\, impartido por Pedro Enrique & Mae\, dos referentes del baile que te guiarán paso a paso en esta experiencia única. \nLa rumba bolero es un baile lleno de expresión\, sensualidad y complicidad\, ideal tanto para quienes quieren iniciarse como para bailarines que desean perfeccionar su estilo. Durante el taller aprenderás técnicas\, figuras y consejos prácticos para mejorar tu conexión\, tu musicalidad y tu forma de interpretar el baile\, todo en un ambiente cercano\, divertido y muy participativo. \n✨ ¿Qué encontrarás en este evento? \n\n\nTaller de Rumba Bolero con profesores especializados \n\n\nAprendizaje práctico\, dinámico y accesible \n\n\nAmbiente elegante\, cálido y acogedor \n\n\nIdeal para parejas y amantes del baile social \n\n\nBarra-bar abierta con estupendas tapas para completar la velada \n\n\n📍 Lugar:Asociación Déjate Llevar📌 C/ Pino Gargalla nº 21 \n🕘 Horario:Comienza a las 21:00 horas \nSi te apasiona el baile\, quieres aprender algo nuevo o simplemente disfrutar de una noche diferente rodeado de buena música y mejor compañía\, este taller es para ti. Ven a moverte\, a sentir el ritmo y a compartir una velada inolvidable. \n💫 Reserva tu sábado y déjate llevar por la magia de la Rumba Bolero.
URL:https://acdejatellevar.es/event/taller-rumba-bolero-baile-social/
CATEGORIES:Talleres Fiestas
ATTACH;FMTTYPE=image/jpeg:https://acdejatellevar.es/wp-content/uploads/2025/12/TALLER-RUMBA-BOLERO-24-1-26.jpeg
END:VEVENT
BEGIN:VEVENT
DTSTART;TZID=UTC:20260124T210000
DTEND;TZID=UTC:20260128T030000
DTSTAMP:20260421T115805
CREATED:20260121T225131Z
LAST-MODIFIED:20260121T225131Z
UID:10000320-1769288400-1769569200@acdejatellevar.es
SUMMARY:Súper Taller SBK
DESCRIPTION:💃 🕺 Súper Taller SBK – Francisco & Ana\, Juan & Pepi y Andrés & Mª Carmen 🕺💃\nSábado 24 de enero de 2026 | 21:00 h \nDéjate llevar por la pasión\, la elegancia y la conexión del baile en una noche pensada para sentir la música y disfrutarla en pareja. El sábado 24 de enero de 2026\, la Asociación Déjate Llevar abre sus puertas para un exclusivo Súper Taller\, impartido por Francisco & Ana\, Juan & Pepi y Andrés & Mª Carmen\, seis referentes del baile que te guiarán paso a paso en esta experiencia única. \nEste Súper Taller\, son bailes lleno de expresión\, sensualidad y complicidad\, ideal tanto para quienes quieren iniciarse como para bailarines que desean perfeccionar su estilo. Durante el taller aprenderás técnicas\, figuras y consejos prácticos para mejorar tu conexión\, tu musicalidad y tu forma de interpretar el baile\, todo en un ambiente cercano\, divertido y muy participativo. \n✨ ¿Qué encontrarás en este evento? \n\n\nTaller de Salsa\, Bachata y Kizomba \n\n\nAprendizaje práctico\, dinámico y accesible \n\n\nAmbiente elegante\, cálido y acogedor \n\n\nIdeal para parejas y amantes del baile social \n\n\nBarra-bar abierta con estupendas tapas para completar la velada \n\n\n📍 Lugar:Asociación Déjate Llevar📌 C/ Pino Gargalla nº 21 \n🕘 Horario:Comienza a las 21:00 horas
URL:https://acdejatellevar.es/event/super-taller-sbk/
CATEGORIES:Talleres Fiestas
ATTACH;FMTTYPE=image/jpeg:https://acdejatellevar.es/wp-content/uploads/2026/01/SUPER-TALLER-SBK-24-1-26-scaled.jpg
END:VEVENT
END:VCALENDAR