BEGIN:VCALENDAR
VERSION:2.0
PRODID:-//acdejatellevar.es - ECPv6.15.20//NONSGML v1.0//EN
CALSCALE:GREGORIAN
METHOD:PUBLISH
X-WR-CALNAME:acdejatellevar.es
X-ORIGINAL-URL:https://acdejatellevar.es
X-WR-CALDESC:Eventos para acdejatellevar.es
REFRESH-INTERVAL;VALUE=DURATION:PT1H
X-Robots-Tag:noindex
X-PUBLISHED-TTL:PT1H
BEGIN:VTIMEZONE
TZID:UTC
BEGIN:STANDARD
TZOFFSETFROM:+0000
TZOFFSETTO:+0000
TZNAME:UTC
DTSTART:20250101T000000
END:STANDARD
END:VTIMEZONE
BEGIN:VEVENT
DTSTART;TZID=UTC:20260110T110000
DTEND;TZID=UTC:20260110T133000
DTSTAMP:20260421T115806
CREATED:20251228T121620Z
LAST-MODIFIED:20251228T121620Z
UID:10000310-1768042800-1768051800@acdejatellevar.es
SUMMARY:Taller de Parapekes
DESCRIPTION:🎈 Taller Parapekes \n🗓 Taller mensual – fines de semana por la mañana👩‍🏫 Dirigido por Inés\, Carmen\, Eli y Pastori  \n🕗 Horario: 11:00h – 13:30h (o hasta finalizar los ensayos) \n📌 En este divertido taller se preparan números infantiles llenos de color\, alegría y creatividad\, con el objetivo de desarrollar un espectáculo ameno y brillante para los más pequeños.Está especialmente pensado para fomentar la animación infantil\, el trabajo en equipo y la expresión artística de manera lúdica y participativa. \n✨ ¡Un espacio donde los peques se divierten\, aprenden y sueñan en grande!
URL:https://acdejatellevar.es/event/taller-de-parapekes-4/
CATEGORIES:Talleres Socios
ATTACH;FMTTYPE=image/png:https://acdejatellevar.es/wp-content/uploads/2025/10/PARAPEKES-3.png
END:VEVENT
BEGIN:VEVENT
DTSTART;TZID=UTC:20260110T210000
DTEND;TZID=UTC:20260110T210000
DTSTAMP:20260421T115806
CREATED:20251228T122626Z
LAST-MODIFIED:20251228T130307Z
UID:10000315-1768078800-1768078800@acdejatellevar.es
SUMMARY:Taller de Bachata + Fiesta Social
DESCRIPTION:✨ ¡Taller de Bachata con  Joselito! ✨\n¿Listo para mover las caderas y el buen rollo? Este sábado 10 de Enero a las 21:00 h llega un evento que promete subir la temperatura… ¡y no solo por el baile! \nJoselito te enseñarán a dominar la bachata con estilo\, ritmo y alguna que otra risa asegurada. No importa si tienes dos pies izquierdos: ¡en nuestra pista todos terminan bailando como si fueran estrellas de escenario! \nDespués del taller y de reponer fuerzas en nuestra barra bar\, baile social con todo tipo de música hasta la madrugada. \nAdemás\, nuestra barra estará abierta durante toda la noche para que puedas disfrutar de deliciosas tapas\, aperitivos y bebidas que harán que tus pasos fluyan aún mejor (científicamente comprobado… probablemente 😄). \n📍 Lugar: C/ Pino Gargalla Nº 21🕘 Hora: 21:00 h \n✨ No faltes: bailarás\, reirás\, brindarás… y quizá hasta encuentres nueva pareja de baile.¡Te esperamos para una noche inolvidable! 💃🕺🍹
URL:https://acdejatellevar.es/event/taller-de-bachata-fiesta-social/
CATEGORIES:Talleres Fiestas
ATTACH;FMTTYPE=image/jpeg:https://acdejatellevar.es/wp-content/uploads/2025/12/TALLER-JOSELITO-10-1-26.jpg
END:VEVENT
END:VCALENDAR