BEGIN:VCALENDAR
VERSION:2.0
PRODID:-//acdejatellevar.es - ECPv6.15.20//NONSGML v1.0//EN
CALSCALE:GREGORIAN
METHOD:PUBLISH
X-WR-CALNAME:acdejatellevar.es
X-ORIGINAL-URL:https://acdejatellevar.es
X-WR-CALDESC:Eventos para acdejatellevar.es
REFRESH-INTERVAL;VALUE=DURATION:PT1H
X-Robots-Tag:noindex
X-PUBLISHED-TTL:PT1H
BEGIN:VTIMEZONE
TZID:UTC
BEGIN:STANDARD
TZOFFSETFROM:+0000
TZOFFSETTO:+0000
TZNAME:UTC
DTSTART:20240101T000000
END:STANDARD
END:VTIMEZONE
BEGIN:VEVENT
DTSTART;TZID=UTC:20251230T000000
DTEND;TZID=UTC:20251230T120000
DTSTAMP:20260421T120630
CREATED:20251207T132202Z
LAST-MODIFIED:20251207T135801Z
UID:10000239-1767052800-1767096000@acdejatellevar.es
SUMMARY:Navidad  ( Cerrado )
DESCRIPTION:🎄✨ Aviso Especial: ¡Nos vamos de Vacaciones Navideñas! ✨🎄 \nLa asociación hace una breve pausa para entregarse a las sagradas tradiciones de estas fechas:desconectar\, disfrutar y fingir que no hemos comido demasiado turrón (sin éxito\, pero con dignidad). \nPor ello\, permaneceremos cerrados durante el periodo de vacaciones navideñas.Volveremos pronto\, con energías renovadas\, nuevas ideas… y probablemente con algún villancico aún rondando por la cabeza. \nGracias por su comprensión.Les deseamos unas fiestas llenas de luz\, calma y momentos que valgan la pena recordar. 🎁🌟
URL:https://acdejatellevar.es/event/navidad-6/
CATEGORIES:Anuncios
END:VEVENT
END:VCALENDAR