BEGIN:VCALENDAR
VERSION:2.0
PRODID:-//acdejatellevar.es - ECPv6.15.20//NONSGML v1.0//EN
CALSCALE:GREGORIAN
METHOD:PUBLISH
X-WR-CALNAME:acdejatellevar.es
X-ORIGINAL-URL:https://acdejatellevar.es
X-WR-CALDESC:Eventos para acdejatellevar.es
REFRESH-INTERVAL;VALUE=DURATION:PT1H
X-Robots-Tag:noindex
X-PUBLISHED-TTL:PT1H
BEGIN:VTIMEZONE
TZID:UTC
BEGIN:STANDARD
TZOFFSETFROM:+0000
TZOFFSETTO:+0000
TZNAME:UTC
DTSTART:20240101T000000
END:STANDARD
END:VTIMEZONE
BEGIN:VEVENT
DTSTART;TZID=UTC:20251220T213000
DTEND;TZID=UTC:20251220T213000
DTSTAMP:20260421T145918
CREATED:20251207T162536Z
LAST-MODIFIED:20251207T162621Z
UID:10000267-1766266200-1766266200@acdejatellevar.es
SUMMARY:Cena de Navidad
DESCRIPTION:🎄✨ ¡Celebra la Navidad con nosotros! ✨🎄 \nEl sábado 20 de diciembre a las 21:30 h te esperamos para disfrutar de una noche mágica llena de sabor\, alegría y mucha diversión en nuestra esperada Cena de Navidad 2025 🎅🎶 \nVen a compartir un ambiente cálido y festivo\, perfecto para brindar con amigos y compañeros de la Asociación Cultural Déjate Llevar 🥂 \n🎧 La noche estará llena de ritmo con la mejor música y animación de DJ McClain\, ¡para que la fiesta no pare! 💃🕺 \n🍽️ Cena especial navideña🎁 Buen ambiente\, risas y sorpresas \n📅 Venta de entradas a partir del 16 de noviembre desde las 17:30 h🎟️ Socios: 30 € | Invitados: 40 €📍 Lugar: Nuestra sede\, C/ Pino Gargalla nº 21 \n✨ ¡No te quedes sin tu entrada! Vive una noche única donde la magia\, la música y la Navidad se unen para celebrar juntos el espíritu festivo del año 🎄🥂
URL:https://acdejatellevar.es/event/cena-de-navidad/
CATEGORIES:Comidas
ATTACH;FMTTYPE=image/jpeg:https://acdejatellevar.es/wp-content/uploads/2025/12/CENA-NAVIDAD-2025-scaled.jpg
END:VEVENT
END:VCALENDAR