BEGIN:VCALENDAR
VERSION:2.0
PRODID:-//acdejatellevar.es - ECPv6.15.20//NONSGML v1.0//EN
CALSCALE:GREGORIAN
METHOD:PUBLISH
X-WR-CALNAME:acdejatellevar.es
X-ORIGINAL-URL:https://acdejatellevar.es
X-WR-CALDESC:Eventos para acdejatellevar.es
REFRESH-INTERVAL;VALUE=DURATION:PT1H
X-Robots-Tag:noindex
X-PUBLISHED-TTL:PT1H
BEGIN:VTIMEZONE
TZID:UTC
BEGIN:STANDARD
TZOFFSETFROM:+0000
TZOFFSETTO:+0000
TZNAME:UTC
DTSTART:20240101T000000
END:STANDARD
END:VTIMEZONE
BEGIN:VEVENT
DTSTART;TZID=UTC:20251122T210000
DTEND;TZID=UTC:20251123T030000
DTSTAMP:20260421T145901
CREATED:20251207T120425Z
LAST-MODIFIED:20251207T120425Z
UID:10000224-1763845200-1763866800@acdejatellevar.es
SUMMARY:Taller de Salsa + Fiesta Social
DESCRIPTION:
URL:https://acdejatellevar.es/event/taller-de-salsa-fiesta-social/
CATEGORIES:Talleres Fiestas
ATTACH;FMTTYPE=image/jpeg:https://acdejatellevar.es/wp-content/uploads/2025/12/TALLER-SALSA-JOSELITO-22-11-25-scaled.jpg
END:VEVENT
END:VCALENDAR