BEGIN:VCALENDAR
VERSION:2.0
PRODID:-//acdejatellevar.es - ECPv6.15.20//NONSGML v1.0//EN
CALSCALE:GREGORIAN
METHOD:PUBLISH
X-WR-CALNAME:acdejatellevar.es
X-ORIGINAL-URL:https://acdejatellevar.es
X-WR-CALDESC:Eventos para acdejatellevar.es
REFRESH-INTERVAL;VALUE=DURATION:PT1H
X-Robots-Tag:noindex
X-PUBLISHED-TTL:PT1H
BEGIN:VTIMEZONE
TZID:UTC
BEGIN:STANDARD
TZOFFSETFROM:+0000
TZOFFSETTO:+0000
TZNAME:UTC
DTSTART:20240101T000000
END:STANDARD
END:VTIMEZONE
BEGIN:VEVENT
DTSTART;TZID=UTC:20251115T213000
DTEND;TZID=UTC:20251116T030000
DTSTAMP:20260423T121121
CREATED:20251207T111128Z
LAST-MODIFIED:20251207T111128Z
UID:10000223-1763242200-1763262000@acdejatellevar.es
SUMMARY:Fiesta Aniversario
DESCRIPTION:🎉 XIX Cena Aniversario 2025 – ¡Una Noche Para Brillar! ✨\nEste sábado 15 de noviembre prepárate para una velada que lo tiene TODO: glamour\, buena comida\, risas… y un ambiente tan especial que hasta las copas de champán vienen festivas. \nCelebra con nosotros un año más de esta gran familia en una noche donde la elegancia se mezcla con la diversión y donde cada brindis contará como cardio (así compensamos la cena 😉). \nLa música y la animación estarán a cargo del siempre encantador Eloy de Sanamé\, que promete hacerte cantar\, bailar y disfrutar hasta que las burbujas se acaben… o hasta que el cuerpo aguante. \n🕤 Comenzamos a las 21:30 h📲 Por favor\, confirmad asistencia a través del WhatsApp de la Asociación. \n✨ No te lo pierdas:Una noche así no se celebra todos los días… ¡y mucho menos dos veces! Ven\, disfruta\, ríe\, brinda y forma parte de esta celebración que promete ser inolvidable.
URL:https://acdejatellevar.es/event/fiesta-aniversario/
CATEGORIES:Comidas
ATTACH;FMTTYPE=image/jpeg:https://acdejatellevar.es/wp-content/uploads/2025/12/CENA-ANIVERSARIO-2025.jpg
END:VEVENT
BEGIN:VEVENT
DTSTART;TZID=UTC:20251116T183000
DTEND;TZID=UTC:20251116T203000
DTSTAMP:20260423T121121
CREATED:20251207T103033Z
LAST-MODIFIED:20251208T231828Z
UID:10000217-1763317800-1763325000@acdejatellevar.es
SUMMARY:Taller de Teatro
DESCRIPTION:🎭 Taller de Teatro con José María \n🗓 Todos los domingos🕢 Horario: 18:30h – 20:30h (o hasta finalizar los ensayos) \n📌 Taller semanal dirigido por José María\, donde se trabajan las diferentes artes escénicas y se aprenden técnicas de interpretación teatral.A lo largo del año se ensayan diversas obras de teatro\, que posteriormente se representan dentro y fuera de la asociación. \n✨ ¡Despierta tu creatividad\, mejora tu expresión y vive la magia del teatro en grupo!
URL:https://acdejatellevar.es/event/taller-de-teatro-14/
CATEGORIES:Talleres Socios
ATTACH;FMTTYPE=image/png:https://acdejatellevar.es/wp-content/uploads/2025/10/TALLER-TEATRO-1.png
END:VEVENT
END:VCALENDAR