BEGIN:VCALENDAR
VERSION:2.0
PRODID:-//acdejatellevar.es - ECPv6.15.20//NONSGML v1.0//EN
CALSCALE:GREGORIAN
METHOD:PUBLISH
X-WR-CALNAME:acdejatellevar.es
X-ORIGINAL-URL:https://acdejatellevar.es
X-WR-CALDESC:Eventos para acdejatellevar.es
REFRESH-INTERVAL;VALUE=DURATION:PT1H
X-Robots-Tag:noindex
X-PUBLISHED-TTL:PT1H
BEGIN:VTIMEZONE
TZID:UTC
BEGIN:STANDARD
TZOFFSETFROM:+0000
TZOFFSETTO:+0000
TZNAME:UTC
DTSTART:20240101T000000
END:STANDARD
END:VTIMEZONE
BEGIN:VTIMEZONE
TZID:Europe/Madrid
BEGIN:DAYLIGHT
TZOFFSETFROM:+0100
TZOFFSETTO:+0200
TZNAME:CEST
DTSTART:20240331T010000
END:DAYLIGHT
BEGIN:STANDARD
TZOFFSETFROM:+0200
TZOFFSETTO:+0100
TZNAME:CET
DTSTART:20241027T010000
END:STANDARD
BEGIN:DAYLIGHT
TZOFFSETFROM:+0100
TZOFFSETTO:+0200
TZNAME:CEST
DTSTART:20250330T010000
END:DAYLIGHT
BEGIN:STANDARD
TZOFFSETFROM:+0200
TZOFFSETTO:+0100
TZNAME:CET
DTSTART:20251026T010000
END:STANDARD
BEGIN:DAYLIGHT
TZOFFSETFROM:+0100
TZOFFSETTO:+0200
TZNAME:CEST
DTSTART:20260329T010000
END:DAYLIGHT
BEGIN:STANDARD
TZOFFSETFROM:+0200
TZOFFSETTO:+0100
TZNAME:CET
DTSTART:20261025T010000
END:STANDARD
END:VTIMEZONE
BEGIN:VEVENT
DTSTART;TZID=UTC:20251029T190000
DTEND;TZID=UTC:20251029T200000
DTSTAMP:20260421T145901
CREATED:20251003T235843Z
LAST-MODIFIED:20251004T213905Z
UID:10000135-1761764400-1761768000@acdejatellevar.es
SUMMARY:Taller de Bachata
DESCRIPTION:💃 Taller de Bachata con Juan & Pepi \n🗓 Todos los miércoles🕖 Horario: 19:00h – 20:00h (o hasta finalizar los ensayos) \n📌 Taller semanal impartido por Juan & Pepi\, donde además de divertirte aprenderás nuevas figuras y reforzarás las ya conocidas.Estas clases están pensadas para que el fin de semana puedas poner en práctica lo aprendido y bailar con soltura en la fiesta de baile social de los sábados. \n✨ ¡Disfruta\, aprende y vive la Bachata en un ambiente cercano y motivador!
URL:https://acdejatellevar.es/event/taller-de-bachata-5/
LOCATION:ACDÉJATELLEVAR\, PINO GARGALLA Nº 3\, SEVILLA\, Spain
CATEGORIES:Talleres Socios
END:VEVENT
BEGIN:VEVENT
DTSTART;TZID=Europe/Madrid:20251029T200000
DTEND;TZID=Europe/Madrid:20251029T213000
DTSTAMP:20260421T145901
CREATED:20251004T000607Z
LAST-MODIFIED:20251005T214855Z
UID:10000140-1761768000-1761773400@acdejatellevar.es
SUMMARY:Taller de Salsa (Suspendido)
DESCRIPTION:🔥 Taller de Salsa con Francisco & Ana \nSuspendido por el profesor hasta Noviembre.
URL:https://acdejatellevar.es/event/taller-de-salsa-5/
LOCATION:ACDÉJATELLEVAR\, PINO GARGALLA Nº 3\, SEVILLA\, Spain
CATEGORIES:Talleres Socios
ATTACH;FMTTYPE=image/png:https://acdejatellevar.es/wp-content/uploads/2025/10/TALLER-SALSA-1.png
END:VEVENT
BEGIN:VEVENT
DTSTART;TZID=UTC:20251029T213000
DTEND;TZID=UTC:20251029T230000
DTSTAMP:20260421T145901
CREATED:20251004T160003Z
LAST-MODIFIED:20251208T233605Z
UID:10000145-1761773400-1761778800@acdejatellevar.es
SUMMARY:Taller de Coro
DESCRIPTION:🎼 Taller de Coro con José María \n🗓 Todos los miércoles🕤 Horario: 21:30h – 23:00h (o hasta finalizar los ensayos) \n📌 Taller semanal dirigido por José María\, donde se ensayan repertorios variados como villancicos\, sevillanas\, habaneras\, misas\, entre otros.Lo aprendido se pondrá en práctica tanto dentro como fuera de nuestra asociación\, compartiendo la música en distintos espacios y celebraciones. \n✨ ¡Únete al coro y disfruta de la magia de cantar en grupo!
URL:https://acdejatellevar.es/event/taller-de-coro-5/
LOCATION:ACDÉJATELLEVAR\, PINO GARGALLA Nº 3\, SEVILLA\, Spain
CATEGORIES:Talleres Socios
ATTACH;FMTTYPE=image/png:https://acdejatellevar.es/wp-content/uploads/2025/10/TALLER-DEL-CORO-1.png
END:VEVENT
END:VCALENDAR